Workbook

Sheet Export Summary
B3: This document was exported from Numbers. Each table was converted to an Excel worksheet. All other objects on each Numbers sheet were placed on separate worksheets. Please be aware that formula calculations may differ in Excel.
B7: Numbers Sheet Name | C7: Numbers Table Name | D7: Excel Worksheet Name
B9: Pažyma
C10: Table 1 | D10: Pažyma
B11: Pažyma pvz.
C12: Table 1 | D12: Pažyma pvz.
B13: FĮ_dydžiai
C14: Table 1 | D14: FĮ_dydžiai

Sheet Pažyma
B2: PAŽYMA DĖL PSICHOLOGO (PSICHOTERAPEUTO) / SOCIALINIO DARBUOTOJO / INDIVIDUALIOS PRIEŽIŪROS PERSONALO (UŽIMTUMO SPECIALISTO) DARBO UŽMOKESČIO TAIKANT FIKSUOTUOSIUS ĮKAINIUS (FĮ-24-01, FĮ-24-02, FĮ-24-03) 03 versija
H4: Nr.
G5: data
B6: 1. BENDROJI DALIS
B7: Projekto / Jungtinio projekto kodas | G7: 07-018-P-0001
B8: Projekto vykdytojo / Jungtinio projekto vykdytojo pavadinimas | G8: Asmens su negalia teisių apsaugos agentūra prie Lietuvos Respublikos socialinės apsaugos ir darbo ministerijos
B9: Ataskaitinis laikotarpis už kurį deklaruojamos išlaidos | G9: nuo 20__ __ ____ __ __ iki 20__ __ ____ __ __
I11: FD kodas | J11: Vienetai** | K11: Suma Eur**
I12: FĮ-24-01-03 | J12: {=_xlfn.SUMIFS($H$21:$H$34,$I$21:$I$34,$I12)} -> 0 | K12: {=_xlfn.SUMIFS($K$21:$K$34,$I$21:$I$34,$I12)} -> 0
I13: FĮ-24-02-03 | J13: {=_xlfn.SUMIFS($H$21:$H$34,$I$21:$I$34,$I13)} -> 0 | K13: {=_xlfn.SUMIFS($K$21:$K$34,$I$21:$I$34,$I13)} -> 0
I14: FĮ-24-03-03 | J14: {=_xlfn.SUMIFS($H$21:$H$34,$I$21:$I$34,$I14)} -> 0 | K14: {=_xlfn.SUMIFS($K$21:$K$34,$I$21:$I$34,$I14)} -> 0
I15: Viso: | J15: {=SUM(J12:J14)} -> 0 | K15: {=SUM(K12:K14)} -> 0
B16: 2. INFORMACIJA APIE FIKSUOTĄ ĮKAINĮ
B17: Eil. Nr. | C17: Projekto veiklos / poveiklės Nr. | D17: Projekto partnerio pavadinimas | E17: Vardas, Pavardė | F17: Pareigų pavadinimas | G17: Paslaugų suteikimo mėn. | H17: Suteiktų paslaugų val. skaičius | I17: Fiksuotojo įkainio kodas* | J17: Fiksuotojo įkainio dydis | K17: Fiksuotojo įkainio suma | L17: Pastabos
B20: 1 | C20: 2 | D20: 3 | E20: 4 | F20: 5 | G20: 6 | H20: 7 | I20: 8 | J20: 9 | K20: 10 (7*9) | L20: 11
B21: {=IF(OR(C21<>"",E21<>""),1,"")} -> 1 | C21: 1.1. | F21: Soc. darbuotojas | G21: liepa | I21: FĮ-24-02-03 | J21: {=_xlfn.SUMIFS('FĮ_dydžiai'!$E$2:$E$129,'FĮ_dydžiai'!$D$2:$D$129,I21)} -> 17.99 | K21: {=ROUND(H21*J21,2)} -> 0
B22: {=IF(OR(C22<>"",E22<>"",C23<>"",E23<>""),B21+1,"")} -> 2 | C22: 1.1. | F22: Soc. darbuotojas | G22: rugpjūtis | I22: FĮ-24-02-03 | J22: {=_xlfn.SUMIFS('FĮ_dydžiai'!$E$2:$E$129,'FĮ_dydžiai'!$D$2:$D$129,I22)} -> 17.99 | K22: {=ROUND(H22*J22,2)} -> 0
B23: {=IF(OR(C23<>"",E23<>"",C24<>"",E24<>""),B22+1,"")} -> 3 | C23: 1.1. | F23: Soc. darbuotojas | G23: rugsėjis | I23: FĮ-24-02-03 | J23: {=_xlfn.SUMIFS('FĮ_dydžiai'!$E$2:$E$129,'FĮ_dydžiai'!$D$2:$D$129,I23)} -> 17.99 | K23: {=ROUND(H23*J23,2)} -> 0
B24: {=IF(OR(C24<>"",E24<>"",C25<>"",E25<>""),B23+1,"")} | I24: FĮ-24-01-03 | J24: {=_xlfn.SUMIFS('FĮ_dydžiai'!$E$2:$E$129,'FĮ_dydžiai'!$D$2:$D$129,I24)} -> 24.52 | K24: {=ROUND(H24*J24,2)} -> 0
B25: {=IF(OR(C25<>"",E25<>"",C26<>"",E26<>""),B24+1,"")} | I25: FĮ-24-01-03 | J25: {=_xlfn.SUMIFS('FĮ_dydžiai'!$E$2:$E$129,'FĮ_dydžiai'!$D$2:$D$129,I25)} -> 24.52 | K25: {=ROUND(H25*J25,2)} -> 0
B26: {=IF(OR(C26<>"",E26<>"",C27<>"",E27<>""),B25+1,"")} | I26: FĮ-24-01-03 | J26: {=_xlfn.SUMIFS('FĮ_dydžiai'!$E$2:$E$129,'FĮ_dydžiai'!$D$2:$D$129,I26)} -> 24.52 | K26: {=ROUND(H26*J26,2)} -> 0
B27: {=IF(OR(C27<>"",E27<>"",C28<>"",E28<>""),B26+1,"")} | I27: FĮ-24-01-03 | J27: {=_xlfn.SUMIFS('FĮ_dydžiai'!$E$2:$E$129,'FĮ_dydžiai'!$D$2:$D$129,I27)} -> 24.52 | K27: {=ROUND(H27*J27,2)} -> 0
B28: {=IF(OR(C28<>"",E28<>"",C29<>"",E29<>""),B27+1,"")} | I28: FĮ-24-01-03 | J28: {=_xlfn.SUMIFS('FĮ_dydžiai'!$E$2:$E$129,'FĮ_dydžiai'!$D$2:$D$129,I28)} -> 24.52 | K28: {=ROUND(H28*J28,2)} -> 0
B29: {=IF(OR(C29<>"",E29<>"",C30<>"",E30<>""),B28+1,"")} | I29: FĮ-24-01-03 | J29: {=_xlfn.SUMIFS('FĮ_dydžiai'!$E$2:$E$129,'FĮ_dydžiai'!$D$2:$D$129,I29)} -> 24.52 | K29: {=ROUND(H29*J29,2)} -> 0
B30: {=IF(OR(C30<>"",E30<>"",C31<>"",E31<>""),B29+1,"")} | I30: FĮ-24-01-03 | J30: {=_xlfn.SUMIFS('FĮ_dydžiai'!$E$2:$E$129,'FĮ_dydžiai'!$D$2:$D$129,I30)} -> 24.52 | K30: {=ROUND(H30*J30,2)} -> 0
B31: {=IF(OR(C31<>"",E31<>"",C32<>"",E32<>""),B30+1,"")} | I31: FĮ-24-01-03 | J31: {=_xlfn.SUMIFS('FĮ_dydžiai'!$E$2:$E$129,'FĮ_dydžiai'!$D$2:$D$129,I31)} -> 24.52 | K31: {=ROUND(H31*J31,2)} -> 0
B32: {=IF(OR(C32<>"",E32<>"",C33<>"",E33<>""),B31+1,"")} | I32: FĮ-24-01-03 | J32: {=_xlfn.SUMIFS('FĮ_dydžiai'!$E$2:$E$129,'FĮ_dydžiai'!$D$2:$D$129,I32)} -> 24.52 | K32: {=ROUND(H32*J32,2)} -> 0
B33: {=IF(OR(C33<>"",E33<>"",C34<>"",E34<>""),B32+1,"")} | I33: FĮ-24-01-03 | J33: {=_xlfn.SUMIFS('FĮ_dydžiai'!$E$2:$E$129,'FĮ_dydžiai'!$D$2:$D$129,I33)} -> 24.52 | K33: {=ROUND(H33*J33,2)} -> 0
B35: *Fiksuotojo vieneto įkainio rezultatą pagrindžiantys dokumentai nurodyti projekto sutartyje. Į fiksuotąjį vieneto įkainį jau įskaičiuotos darbuotojų kasmetinių atostogų išlaidos, todėl pagal nustatytus fiksuotuosius vieneto įkainius yra deklaruojamas tik faktiškai dirbtas laikas.
B36: ** laukai užpildomi automatiškai
B38: 3. DEKLARACIJA
B39: Pateikdami šią pažymą dėl darbo užmokesčio priskaitymo, išmokėjimo ir priskyrimo projektui, patvirtiname, kad: - deklaruojamos darbuotojų darbo užmokesčio išlaidos nebuvo finansuotos (apmokėtos) iš Lietuvos Respublikos valstybės biudžeto ir (arba) savivaldybių biudžetų, kitų piniginių išteklių, kuriais disponuoja valstybė ir (arba) savivaldybės, ES fondų, kitų ES finansinės paramos priemonių ar kitos tarptautinės paramos lėšų.

Sheet Pažyma pvz.
B2: PAŽYMA DĖL PSICHOLOGO (PSICHOTERAPEUTO) / SOCIALINIO DARBUOTOJO / INDIVIDUALIOS PRIEŽIŪROS PERSONALO (UŽIMTUMO SPECIALISTO) DARBO UŽMOKESČIO TAIKANT FIKSUOTUOSIUS ĮKAINIUS (FĮ-24-001, FĮ-24-002, FĮ-24-003)
G4: 45504 | H4: Nr. 1
G5: data
B6: 1. BENDROJI DALIS
B7: Projekto / Jungtinio projekto kodas
B8: Projekto vykdytojo / Jungtinio projekto vykdytojo pavadinimas
B9: Ataskaitinis laikotarpis už kurį deklaruojamos išlaidos | G9: nuo 2024-07-01 iki 2024-07-31
I11: FD kodas | J11: Vienetai** | K11: Suma Eur**
I12: FĮ-24-01 | J12: {=_xlfn.SUMIFS($H$21:$H$34,$I$21:$I$34,$I12)} -> 0 | K12: {=_xlfn.SUMIFS($K$21:$K$34,$I$21:$I$34,$I12)} -> 0
I13: FĮ-24-02 | J13: {=_xlfn.SUMIFS($H$21:$H$34,$I$21:$I$34,$I13)} -> 0 | K13: {=_xlfn.SUMIFS($K$21:$K$34,$I$21:$I$34,$I13)} -> 0
I14: FĮ-24-03 | J14: {=_xlfn.SUMIFS($H$21:$H$34,$I$21:$I$34,$I14)} -> 0 | K14: {=_xlfn.SUMIFS($K$21:$K$34,$I$21:$I$34,$I14)} -> 0
I15: Viso: | J15: {=SUM(J12:J14)} -> 0 | K15: {=SUM(K12:K14)} -> 0
B16: 2. INFORMACIJA APIE FIKSUOTĄ ĮKAINĮ
B17: Eil. Nr. | C17: Projekto veiklos/poveiklės Nr. | D17: Projekto partnerio pavadinimas | E17: Vardas, Pavardė | F17: Pareigų pavadinimas | G17: Paslaugų suteikimo mėn. | H17: Suteiktų paslaugų val. skaičius | I17: Fiksuotojo įkainio kodas* | J17: Fiksuotojo įkainio dydis | K17: Fiksuotojo įkainio suma | L17: Pastabos
B20: 1 | C20: 2 | D20: 3 | E20: 4 | F20: 5 | G20: 6 | H20: 7 | I20: 8 | J20: 9 | K20: 10 (7*9) | L20: 11
B21: {=IF(OR(C21<>"",E21<>""),1,"")} -> 1 | C21: 1.1 | D21: Projekto partnerio pavadinimas 1 | E21: Vardenis Pavardenis 1 | F21: Psichologas | G21: vasaris | H21: 40 | I21: FĮ-24-01-03 | J21: {=_xlfn.SUMIFS('FĮ_dydžiai'!$E$2:$E$129,'FĮ_dydžiai'!$D$2:$D$129,I21)} -> 24.52 | K21: {=ROUND(H21*J21,2)} -> 980.8
B22: {=IF(OR(C22<>"",E22<>"",C23<>"",E23<>""),B21+1,"")} -> 2 | C22: 1.1 | D22: Projekto partnerio pavadinimas 1 | E22: Vardenis Pavardenis 2 | F22: Soc. darbuotojas | G22: vasaris | H22: 10 | I22: FĮ-24-02-03 | J22: {=_xlfn.SUMIFS('FĮ_dydžiai'!$E$2:$E$129,'FĮ_dydžiai'!$D$2:$D$129,I22)} -> 17.99 | K22: {=ROUND(H22*J22,2)} -> 179.9
B23: {=IF(OR(C23<>"",E23<>"",C24<>"",E24<>""),B22+1,"")} -> 3 | C23: 1.2 | D23: Projekto partnerio pavadinimas 2 | E23: Vardenis Pavardenis 3 | F23: Individualios priežiūros užimtumo specialistas | G23: vasaris | H23: 15 | I23: FĮ-24-03-03 | J23: {=_xlfn.SUMIFS('FĮ_dydžiai'!$E$2:$E$129,'FĮ_dydžiai'!$D$2:$D$129,I23)} -> 13.95 | K23: {=ROUND(H23*J23,2)} -> 209.25
B24: {=IF(OR(C24<>"",E24<>"",C25<>"",E25<>""),B23+1,"")} | I24: FĮ-24-01-03 | J24: {=_xlfn.SUMIFS('FĮ_dydžiai'!$E$2:$E$129,'FĮ_dydžiai'!$D$2:$D$129,I24)} -> 24.52 | K24: {=ROUND(H24*J24,2)} -> 0
B25: {=IF(OR(C25<>"",E25<>"",C26<>"",E26<>""),B24+1,"")} | I25: FĮ-24-01-03 | J25: {=_xlfn.SUMIFS('FĮ_dydžiai'!$E$2:$E$129,'FĮ_dydžiai'!$D$2:$D$129,I25)} -> 24.52 | K25: {=ROUND(H25*J25,2)} -> 0
B26: {=IF(OR(C26<>"",E26<>"",C27<>"",E27<>""),B25+1,"")} | I26: FĮ-24-01-03 | J26: {=_xlfn.SUMIFS('FĮ_dydžiai'!$E$2:$E$129,'FĮ_dydžiai'!$D$2:$D$129,I26)} -> 24.52 | K26: {=ROUND(H26*J26,2)} -> 0
B27: {=IF(OR(C27<>"",E27<>"",C28<>"",E28<>""),B26+1,"")} | I27: FĮ-24-01-03 | J27: {=_xlfn.SUMIFS('FĮ_dydžiai'!$E$2:$E$129,'FĮ_dydžiai'!$D$2:$D$129,I27)} -> 24.52 | K27: {=ROUND(H27*J27,2)} -> 0
B28: {=IF(OR(C28<>"",E28<>"",C29<>"",E29<>""),B27+1,"")} | I28: FĮ-24-01-03 | J28: {=_xlfn.SUMIFS('FĮ_dydžiai'!$E$2:$E$129,'FĮ_dydžiai'!$D$2:$D$129,I28)} -> 24.52 | K28: {=ROUND(H28*J28,2)} -> 0
B29: {=IF(OR(C29<>"",E29<>"",C30<>"",E30<>""),B28+1,"")} | I29: FĮ-24-01-03 | J29: {=_xlfn.SUMIFS('FĮ_dydžiai'!$E$2:$E$129,'FĮ_dydžiai'!$D$2:$D$129,I29)} -> 24.52 | K29: {=ROUND(H29*J29,2)} -> 0
B30: {=IF(OR(C30<>"",E30<>"",C31<>"",E31<>""),B29+1,"")} | I30: FĮ-24-01-03 | J30: {=_xlfn.SUMIFS('FĮ_dydžiai'!$E$2:$E$129,'FĮ_dydžiai'!$D$2:$D$129,I30)} -> 24.52 | K30: {=ROUND(H30*J30,2)} -> 0
B31: {=IF(OR(C31<>"",E31<>"",C32<>"",E32<>""),B30+1,"")} | I31: FĮ-24-01-03 | J31: {=_xlfn.SUMIFS('FĮ_dydžiai'!$E$2:$E$129,'FĮ_dydžiai'!$D$2:$D$129,I31)} -> 24.52 | K31: {=ROUND(H31*J31,2)} -> 0
B32: {=IF(OR(C32<>"",E32<>"",C33<>"",E33<>""),B31+1,"")} | I32: FĮ-24-01-03 | J32: {=_xlfn.SUMIFS('FĮ_dydžiai'!$E$2:$E$129,'FĮ_dydžiai'!$D$2:$D$129,I32)} -> 24.52 | K32: {=ROUND(H32*J32,2)} -> 0
B33: {=IF(OR(C33<>"",E33<>"",C34<>"",E34<>""),B32+1,"")} | I33: FĮ-24-01-03 | J33: {=_xlfn.SUMIFS('FĮ_dydžiai'!$E$2:$E$129,'FĮ_dydžiai'!$D$2:$D$129,I33)} -> 24.52 | K33: {=ROUND(H33*J33,2)} -> 0
B35: *Fiksuotojo vieneto įkainio rezultatą pagrindžiantys dokumentai nurodyti projekto sutartyje. Į fiksuotąjį vieneto įkainį jau įskaičiuotos darbuotojų kasmetinių atostogų išlaidos, todėl pagal nustatytus fiksuotuosius vieneto įkainius yra deklaruojamas tik faktiškai dirbtas laikas.
B36: ** laukai užpildomi automatiškai
B38: 3. DEKLARACIJA
B39: Pateikdami šią pažymą dėl darbo užmokesčio priskaitymo, išmokėjimo ir priskyrimo projektui, patvirtiname, kad: - deklaruojamos darbuotojų darbo užmokesčio išlaidos nebuvo finansuotos (apmokėtos) iš Lietuvos Respublikos valstybės biudžeto ir (arba) savivaldybių biudžetų, kitų piniginių išteklių, kuriais disponuoja valstybė ir (arba) savivaldybės, ES fondų, kitų ES finansinės paramos priemonių ar kitos tarptautinės paramos lėšų.

Sheet FĮ_dydžiai
B1: FĮ kodas | C1: FĮ versija | D1: FĮ kodas pažymoje | E1: FĮ dydis | F1: Supaprastintai apmokamų išlaidų dydžio matavimo vienetas | G1: Supaprastintai apmokamų išlaidų dydžio pavadinimas | H1: FĮ versijos įsigaliojimo data
B2: FĮ-24-01 | C2: 03 | D2: FĮ-24-01-03 | E2: 24.52 | F2: Eur / val. | G2: Psichologo (psichoterapeuto) vienos valandos darbo užmokesčio išlaidų fiksuotasis vieneto įkainis. | H2: 45474
B3: FĮ-24-02 | C3: 03 | D3: FĮ-24-02-03 | E3: 17.99 | F3: Eur / val. | G3: Socialinio darbuotojo vienos valandos darbo užmokesčio išlaidų fiksuotasis vieneto įkainis.
B4: FĮ-24-03 | C4: 03 | D4: FĮ-24-03-03 | E4: 13.95 | F4: Eur / val. | G4: Individualios priežiūros personalo (užimtumo specialisto) vienos valandos darbo užmokesčio išlaidų fiksuotasis vieneto įkainis.
