Workbook

Sheet Export Summary
B3: This document was exported from Numbers. Each table was converted to an Excel worksheet. All other objects on each Numbers sheet were placed on separate worksheets. Please be aware that formula calculations may differ in Excel.
B7: Numbers Sheet Name | C7: Numbers Table Name | D7: Excel Worksheet Name
B9: Pažyma
C10: Table 1 | D10: Pažyma
B11: Pažyma pvz.
C12: Table 1 | D12: Pažyma pvz.
B13: Atostogų išmokų FN
C14: Table 1 | D14: Atostogų išmokų FN
B15: Papild.poilsio d. išmokų FN
C16: Table 1 | D16: Papild.poilsio d. išmokų FN

Sheet Pažyma  
B2: PAŽYMA DĖL DARBO UŽMOKESČIO PRISKAITYMO, IŠMOKĖJIMO IR PRISKYRIMO PROJEKTUI, TAIKANT KASMETINIŲ ATOSTOGŲ IŠMOKŲ FIKSUOTĄSIAS NORMAS (FN-05-01, FN-05-02, FN-05-03, FN-05-04, FN-05-05, FN-05-06, FN-05-07)
N5: m. | P5: mėn. | R5: d.
AB6: FN dydis | AC6: Deklaruojama bendra suma
O7: Nr. | AB7: FN-05-01 – 8,63 proc. | AC7: {=_xlfn.SUMIFS($AC$19:$AC$5048,$AB$19:$AB$5048,$AD7)} -> 0 | AD7: 0.0863
AB8: FN-05-02 – 10,44 proc. | AC8: {=_xlfn.SUMIFS($AC$19:$AC$5048,$AB$19:$AB$5048,$AD8)} -> 0 | AD8: 0.1044
B9: 1. BENDROJI DALIS | AB9: FN-05-03 – 12,35 proc. | AC9: {=_xlfn.SUMIFS($AC$19:$AC$5048,$AB$19:$AB$5048,$AD9)} -> 0 | AD9: 0.1235
B10: Projekto / Jungtinio projekto kodas | I10: Nr. 07-018-P-0001 | AB10: FN-05-04 – 14,99 proc. | AC10: {=_xlfn.SUMIFS($AC$19:$AC$5048,$AB$19:$AB$5048,$AD10)} -> 0 | AD10: 0.1499
B11: Projekto pavadinimas | I11: „Perėjimas nuo institucinės globos prie bendruomeninių paslaugų Sostinės regione, Vidurio ir Vakarų Lietuvos regione“ | AB11: FN-05-05 – 17,25 proc. | AC11: {=_xlfn.SUMIFS($AC$19:$AC$5048,$AB$19:$AB$5048,$AD11)} -> 0 | AD11: 0.1725
AB12: FN-05-06 – 18,89 proc. | AC12: {=_xlfn.SUMIFS($AC$19:$AC$5048,$AB$19:$AB$5048,$AD12)} -> 0 | AD12: 0.1889
B13: 2. INFORMACIJA APIE PRISKAITYTĄ IR IŠMOKĖTĄ DARBO UŽMOKESTĮ | AB13: FN-05-07 – 20,02 proc. | AC13: {=_xlfn.SUMIFS($AC$19:$AC$5048,$AB$19:$AB$5048,$AD13)} -> 0 | AD13: 0.2002
B15: Eil. Nr. | C15: Darbdavio pavadinimas | D15: Projekto poveiklės Nr. | E15: Veiksmo / išlaidų tipo Nr. | F15: Vardas, pavardė | G15: Pareigos | H15: Darbo sutarties tipas | I15: Įmokos tarifas nedarbo socaliniam draudimui | J15: Organizacijos tipas* | K15: Įmokos tarifas nelaimingų atsitikimų, ilgalaikio darbo ir garantiniam draudimui | L15: Metai, už kuriuos deklaruojamas darbo užmokestis | M15: Mėnuo, už kurį deklaruojamas darbo užmokestis | N15: Projektinei pareigybei nustatytas įkainis (valandinis; mėnesinis) | O15: Projektinei pareigybei nustatytas darbo užmokestis, Eur | P15: Nustatytas darbo laikas projekte per mėn., (val. / d.) | Q15: Faktiškai dirbta projekte, val./d. | R15: Priskaičiuotas darbo užmokestis ir susijusios sąnaudos (projektinei pareigybei) | Y15: Prašomų pripažinti tinkamomis finansuoti darbo užmokesčio išlaidų su darbdavio įmokomis, Eur | Z15: Darbo savaitės trukmė darbo dienomis | AA15: Kasmetinių atostogų darbo dienų skaičius | AB15: Nustatyta kasmetinių atostogų išmokų fiksuotoji norma | AC15: Deklaruojamos kasmetinių atostogų sąnaudos (įskaitant darbdavio mokesčius), Eur | AD15: Komentaras*****
R16: Projektinei pareigybei priskaitytas darbo užmokestis, Eur | S16: Priedai ir priemokos, Eur | T16: Mėnesinės premijos arba mėnesiui tenkanti premijų dalis, Eur (DK 139 str. 2 d. 5 p.)*** | U16: Darbo užmokestis už viršvalandinį darbą, darbą poilsio ir švenčių dienomis, darbą naktį, Eur **** | V16: Darbdavio mokama ligos pašalpa, Eur | W16: Darbo užmokestis už papildomą poilsio laiką, kuris suteiktas pagal LR DK 112 str. 5 d., Eur | X16: Darbo užmokestis už papildomas poilsio dienas, Eur (DK 138 str. 3 d.)
B18: 1 | C18: 2 | D18: 3 | E18: 4 | F18: 5 | G18: 6 | H18: 7 | I18: 8 | J18: 9 | K18: 10 | L18: 11 | M18: 12 | N18: 13 | O18: 14 | P18: 15 | Q18: 16 | R18: 17 | S18: 18 | T18: 19 | U18: 20 | V18: 21 | W18: 22 | X18: 23 | Y18: 24 | Z18: 25 | AA18: 26 | AB18: 27 | AC18: 28 | AD18: 29
B19: {=IF(OR(D19<>"",F19<>""),1,"")} -> 1 | D19: 2.1. | E19: 2.1.7 | I19: {=IF(H19="Neterminuota",0.0131,IF(H19="Terminuota",0.0203,0))} -> 0 | K19: {=IF(J19="Biudžetinė",0.0014,IF(J19="Verslo įm. ir kt.",0.0046,IF(J19="Kitos organizacijos**",0.003,0)))} -> 0 | R19: {=IF(N19="Mėnesinis",ROUND(O19/P19*Q19,2),IF(N19="Valandinis",ROUND(O19*Q19,2)," "))} | Y19: {=_xlfn.IFERROR(ROUND(((I19+K19)*(R19+S19+T19+U19+W19+X19))+(R19+S19+T19+U19+W19+X19)+V19,2),"0")} -> 0 | AB19: {=IF(OR(Z19="",AA19=""),"",VLOOKUP(CONCATENATE(Z19," dienų darbo savaitė"),'Atostogų išmokų FN'!$A$7:$AH$8,AA19-16)/100)} | AC19: {=ROUND(IF(Z19="",0,(SUM(R19:U19,W19)*(1+(I19+K19))*AB19)),2)} -> 0 | AN19: {=LEFT(D19,3)} -> 2.1 | AO19: {=LEFT(E19,3)} -> 2.1
B20: {=IF(OR(D20<>"",F20<>"",D21<>"",F21<>""),B19+1,"")} | I20: {=IF(H20="Neterminuota",0.0131,IF(H20="Terminuota",0.0203,0))} -> 0 | K20: {=IF(J20="Biudžetinė",0.0014,IF(J20="Verslo įm. ir kt.",0.0046,IF(J20="Kitos organizacijos**",0.003,0)))} -> 0 | R20: {=IF(N20="Mėnesinis",ROUND(O20/P20*Q20,2),IF(N20="Valandinis",ROUND(O20*Q20,2)," "))} | Y20: {=_xlfn.IFERROR(ROUND(((I20+K20)*(R20+S20+T20+U20+W20+X20))+(R20+S20+T20+U20+W20+X20)+V20,2),"0")} -> 0 | AB20: {=IF(OR(Z20="",AA20=""),"",VLOOKUP(CONCATENATE(Z20," dienų darbo savaitė"),'Atostogų išmokų FN'!$A$7:$AH$8,AA20-16)/100)} | AC20: {=ROUND(IF(Z20="",0,(SUM(R20:U20,W20)*(1+(I20+K20))*AB20)),2)} -> 0 | AN20: {=LEFT(D20,3)} | AO20: {=LEFT(E20,3)}
B21: {=IF(OR(D21<>"",F21<>"",D22<>"",F22<>""),B20+1,"")} | I21: {=IF(H21="Neterminuota",0.0131,IF(H21="Terminuota",0.0203,0))} -> 0 | K21: {=IF(J21="Biudžetinė",0.0014,IF(J21="Verslo įm. ir kt.",0.0046,IF(J21="Kitos organizacijos**",0.003,0)))} -> 0 | R21: {=IF(N21="Mėnesinis",ROUND(O21/P21*Q21,2),IF(N21="Valandinis",ROUND(O21*Q21,2)," "))} | Y21: {=_xlfn.IFERROR(ROUND(((I21+K21)*(R21+S21+T21+U21+W21+X21))+(R21+S21+T21+U21+W21+X21)+V21,2),"0")} -> 0 | AB21: {=IF(OR(Z21="",AA21=""),"",VLOOKUP(CONCATENATE(Z21," dienų darbo savaitė"),'Atostogų išmokų FN'!$A$7:$AH$8,AA21-16)/100)} | AC21: {=ROUND(IF(Z21="",0,(SUM(R21:U21,W21)*(1+(I21+K21))*AB21)),2)} -> 0 | AN21: {=LEFT(D21,3)} | AO21: {=LEFT(E21,3)}
B22: {=IF(OR(D22<>"",F22<>"",D23<>"",F23<>""),B21+1,"")} | I22: {=IF(H22="Neterminuota",0.0131,IF(H22="Terminuota",0.0203,0))} -> 0 | K22: {=IF(J22="Biudžetinė",0.0014,IF(J22="Verslo įm. ir kt.",0.0046,IF(J22="Kitos organizacijos**",0.003,0)))} -> 0 | R22: {=IF(N22="Mėnesinis",ROUND(O22/P22*Q22,2),IF(N22="Valandinis",ROUND(O22*Q22,2)," "))} | Y22: {=_xlfn.IFERROR(ROUND(((I22+K22)*(R22+S22+T22+U22+W22+X22))+(R22+S22+T22+U22+W22+X22)+V22,2),"0")} -> 0 | AB22: {=IF(OR(Z22="",AA22=""),"",VLOOKUP(CONCATENATE(Z22," dienų darbo savaitė"),'Atostogų išmokų FN'!$A$7:$AH$8,AA22-16)/100)} | AC22: {=ROUND(IF(Z22="",0,(SUM(R22:U22,W22)*(1+(I22+K22))*AB22)),2)} -> 0 | AN22: {=LEFT(D22,3)} | AO22: {=LEFT(E22,3)}
B23: {=IF(OR(D23<>"",F23<>"",D24<>"",F24<>""),B22+1,"")} | I23: {=IF(H23="Neterminuota",0.0131,IF(H23="Terminuota",0.0203,0))} -> 0 | K23: {=IF(J23="Biudžetinė",0.0014,IF(J23="Verslo įm. ir kt.",0.0046,IF(J23="Kitos organizacijos**",0.003,0)))} -> 0 | R23: {=IF(N23="Mėnesinis",ROUND(O23/P23*Q23,2),IF(N23="Valandinis",ROUND(O23*Q23,2)," "))} | Y23: {=_xlfn.IFERROR(ROUND(((I23+K23)*(R23+S23+T23+U23+W23+X23))+(R23+S23+T23+U23+W23+X23)+V23,2),"0")} -> 0 | AB23: {=IF(OR(Z23="",AA23=""),"",VLOOKUP(CONCATENATE(Z23," dienų darbo savaitė"),'Atostogų išmokų FN'!$A$7:$AH$8,AA23-16)/100)} | AC23: {=ROUND(IF(Z23="",0,(SUM(R23:U23,W23)*(1+(I23+K23))*AB23)),2)} -> 0 | AN23: {=LEFT(D23,3)} | AO23: {=LEFT(E23,3)}
B24: {=IF(OR(D24<>"",F24<>"",D25<>"",F25<>""),B23+1,"")} | I24: {=IF(H24="Neterminuota",0.0131,IF(H24="Terminuota",0.0203,0))} -> 0 | K24: {=IF(J24="Biudžetinė",0.0014,IF(J24="Verslo įm. ir kt.",0.0046,IF(J24="Kitos organizacijos**",0.003,0)))} -> 0 | R24: {=IF(N24="Mėnesinis",ROUND(O24/P24*Q24,2),IF(N24="Valandinis",ROUND(O24*Q24,2)," "))} | Y24: {=_xlfn.IFERROR(ROUND(((I24+K24)*(R24+S24+T24+U24+W24+X24))+(R24+S24+T24+U24+W24+X24)+V24,2),"0")} -> 0 | AB24: {=IF(OR(Z24="",AA24=""),"",VLOOKUP(CONCATENATE(Z24," dienų darbo savaitė"),'Atostogų išmokų FN'!$A$7:$AH$8,AA24-16)/100)} | AC24: {=ROUND(IF(Z24="",0,(SUM(R24:U24,W24)*(1+(I24+K24))*AB24)),2)} -> 0 | AN24: {=LEFT(D24,3)} | AO24: {=LEFT(E24,3)}
B25: {=IF(OR(D25<>"",F25<>"",D26<>"",F26<>""),B24+1,"")} | I25: {=IF(H25="Neterminuota",0.0131,IF(H25="Terminuota",0.0203,0))} -> 0 | K25: {=IF(J25="Biudžetinė",0.0014,IF(J25="Verslo įm. ir kt.",0.0046,IF(J25="Kitos organizacijos**",0.003,0)))} -> 0 | R25: {=IF(N25="Mėnesinis",ROUND(O25/P25*Q25,2),IF(N25="Valandinis",ROUND(O25*Q25,2)," "))} | Y25: {=_xlfn.IFERROR(ROUND(((I25+K25)*(R25+S25+T25+U25+W25+X25))+(R25+S25+T25+U25+W25+X25)+V25,2),"0")} -> 0 | AB25: {=IF(OR(Z25="",AA25=""),"",VLOOKUP(CONCATENATE(Z25," dienų darbo savaitė"),'Atostogų išmokų FN'!$A$7:$AH$8,AA25-16)/100)} | AC25: {=ROUND(IF(Z25="",0,(SUM(R25:U25,W25)*(1+(I25+K25))*AB25)),2)} -> 0 | AN25: {=LEFT(D25,3)} | AO25: {=LEFT(E25,3)}
B26: {=IF(OR(D26<>"",F26<>"",D27<>"",F27<>""),B25+1,"")} | I26: {=IF(H26="Neterminuota",0.0131,IF(H26="Terminuota",0.0203,0))} -> 0 | K26: {=IF(J26="Biudžetinė",0.0014,IF(J26="Verslo įm. ir kt.",0.0046,IF(J26="Kitos organizacijos**",0.003,0)))} -> 0 | R26: {=IF(N26="Mėnesinis",ROUND(O26/P26*Q26,2),IF(N26="Valandinis",ROUND(O26*Q26,2)," "))} | Y26: {=_xlfn.IFERROR(ROUND(((I26+K26)*(R26+S26+T26+U26+W26+X26))+(R26+S26+T26+U26+W26+X26)+V26,2),"0")} -> 0 | AB26: {=IF(OR(Z26="",AA26=""),"",VLOOKUP(CONCATENATE(Z26," dienų darbo savaitė"),'Atostogų išmokų FN'!$A$7:$AH$8,AA26-16)/100)} | AC26: {=ROUND(IF(Z26="",0,(SUM(R26:U26,W26)*(1+(I26+K26))*AB26)),2)} -> 0 | AN26: {=LEFT(D26,3)} | AO26: {=LEFT(E26,3)}
B27: {=IF(OR(D27<>"",F27<>"",D28<>"",F28<>""),B26+1,"")} | I27: {=IF(H27="Neterminuota",0.0131,IF(H27="Terminuota",0.0203,0))} -> 0 | K27: {=IF(J27="Biudžetinė",0.0014,IF(J27="Verslo įm. ir kt.",0.0046,IF(J27="Kitos organizacijos**",0.003,0)))} -> 0 | R27: {=IF(N27="Mėnesinis",ROUND(O27/P27*Q27,2),IF(N27="Valandinis",ROUND(O27*Q27,2)," "))} | Y27: {=_xlfn.IFERROR(ROUND(((I27+K27)*(R27+S27+T27+U27+W27+X27))+(R27+S27+T27+U27+W27+X27)+V27,2),"0")} -> 0 | AB27: {=IF(OR(Z27="",AA27=""),"",VLOOKUP(CONCATENATE(Z27," dienų darbo savaitė"),'Atostogų išmokų FN'!$A$7:$AH$8,AA27-16)/100)} | AC27: {=ROUND(IF(Z27="",0,(SUM(R27:U27,W27)*(1+(I27+K27))*AB27)),2)} -> 0 | AN27: {=LEFT(D27,3)} | AO27: {=LEFT(E27,3)}
B28: {=IF(OR(D28<>"",F28<>"",D29<>"",F29<>""),B27+1,"")} | I28: {=IF(H28="Neterminuota",0.0131,IF(H28="Terminuota",0.0203,0))} -> 0 | K28: {=IF(J28="Biudžetinė",0.0014,IF(J28="Verslo įm. ir kt.",0.0046,IF(J28="Kitos organizacijos**",0.003,0)))} -> 0 | R28: {=IF(N28="Mėnesinis",ROUND(O28/P28*Q28,2),IF(N28="Valandinis",ROUND(O28*Q28,2)," "))} | Y28: {=_xlfn.IFERROR(ROUND(((I28+K28)*(R28+S28+T28+U28+W28+X28))+(R28+S28+T28+U28+W28+X28)+V28,2),"0")} -> 0 | AB28: {=IF(OR(Z28="",AA28=""),"",VLOOKUP(CONCATENATE(Z28," dienų darbo savaitė"),'Atostogų išmokų FN'!$A$7:$AH$8,AA28-16)/100)} | AC28: {=ROUND(IF(Z28="",0,(SUM(R28:U28,W28)*(1+(I28+K28))*AB28)),2)} -> 0 | AN28: {=LEFT(D28,3)} | AO28: {=LEFT(E28,3)}
B29: {=IF(OR(D29<>"",F29<>"",D48<>"",F48<>""),B28+1,"")} | I29: {=IF(H29="Neterminuota",0.0131,IF(H29="Terminuota",0.0203,0))} -> 0 | K29: {=IF(J29="Biudžetinė",0.0014,IF(J29="Verslo įm. ir kt.",0.0046,IF(J29="Kitos organizacijos**",0.003,0)))} -> 0 | R29: {=IF(N29="Mėnesinis",ROUND(O29/P29*Q29,2),IF(N29="Valandinis",ROUND(O29*Q29,2)," "))} | Y29: {=_xlfn.IFERROR(ROUND(((I29+K29)*(R29+S29+T29+U29+W29+X29))+(R29+S29+T29+U29+W29+X29)+V29,2),"0")} -> 0 | AB29: {=IF(OR(Z29="",AA29=""),"",VLOOKUP(CONCATENATE(Z29," dienų darbo savaitė"),'Atostogų išmokų FN'!$A$7:$AH$8,AA29-16)/100)} | AC29: {=ROUND(IF(Z29="",0,(SUM(R29:U29,W29)*(1+(I29+K29))*AB29)),2)} -> 0 | AN29: {=LEFT(D29,3)} | AO29: {=LEFT(E29,3)}
I30: {=IF(H30="Neterminuota",0.0131,IF(H30="Terminuota",0.0203,0))} -> 0 | K30: {=IF(J30="Biudžetinė",0.0014,IF(J30="Verslo įm. ir kt.",0.0046,IF(J30="Kitos organizacijos**",0.003,0)))} -> 0 | R30: {=IF(N30="Mėnesinis",ROUND(O30/P30*Q30,2),IF(N30="Valandinis",ROUND(O30*Q30,2)," "))} | Y30: {=_xlfn.IFERROR(ROUND(((I30+K30)*(R30+S30+T30+U30+W30+X30))+(R30+S30+T30+U30+W30+X30)+V30,2),"0")} -> 0 | AB30: {=IF(OR(Z30="",AA30=""),"",VLOOKUP(CONCATENATE(Z30," dienų darbo savaitė"),'Atostogų išmokų FN'!$A$7:$AH$8,AA30-16)/100)} | AC30: {=ROUND(IF(Z30="",0,(SUM(R30:U30,W30)*(1+(I30+K30))*AB30)),2)} -> 0 | AN30: {=LEFT(D30,3)} | AO30: {=LEFT(E30,3)}
I31: {=IF(H31="Neterminuota",0.0131,IF(H31="Terminuota",0.0203,0))} -> 0 | K31: {=IF(J31="Biudžetinė",0.0014,IF(J31="Verslo įm. ir kt.",0.0046,IF(J31="Kitos organizacijos**",0.003,0)))} -> 0 | R31: {=IF(N31="Mėnesinis",ROUND(O31/P31*Q31,2),IF(N31="Valandinis",ROUND(O31*Q31,2)," "))} | Y31: {=_xlfn.IFERROR(ROUND(((I31+K31)*(R31+S31+T31+U31+W31+X31))+(R31+S31+T31+U31+W31+X31)+V31,2),"0")} -> 0 | AB31: {=IF(OR(Z31="",AA31=""),"",VLOOKUP(CONCATENATE(Z31," dienų darbo savaitė"),'Atostogų išmokų FN'!$A$7:$AH$8,AA31-16)/100)} | AC31: {=ROUND(IF(Z31="",0,(SUM(R31:U31,W31)*(1+(I31+K31))*AB31)),2)} -> 0 | AN31: {=LEFT(D31,3)} | AO31: {=LEFT(E31,3)}
I32: {=IF(H32="Neterminuota",0.0131,IF(H32="Terminuota",0.0203,0))} -> 0 | K32: {=IF(J32="Biudžetinė",0.0014,IF(J32="Verslo įm. ir kt.",0.0046,IF(J32="Kitos organizacijos**",0.003,0)))} -> 0 | R32: {=IF(N32="Mėnesinis",ROUND(O32/P32*Q32,2),IF(N32="Valandinis",ROUND(O32*Q32,2)," "))} | Y32: {=_xlfn.IFERROR(ROUND(((I32+K32)*(R32+S32+T32+U32+W32+X32))+(R32+S32+T32+U32+W32+X32)+V32,2),"0")} -> 0 | AB32: {=IF(OR(Z32="",AA32=""),"",VLOOKUP(CONCATENATE(Z32," dienų darbo savaitė"),'Atostogų išmokų FN'!$A$7:$AH$8,AA32-16)/100)} | AC32: {=ROUND(IF(Z32="",0,(SUM(R32:U32,W32)*(1+(I32+K32))*AB32)),2)} -> 0 | AN32: {=LEFT(D32,3)} | AO32: {=LEFT(E32,3)}
I33: {=IF(H33="Neterminuota",0.0131,IF(H33="Terminuota",0.0203,0))} -> 0 | K33: {=IF(J33="Biudžetinė",0.0014,IF(J33="Verslo įm. ir kt.",0.0046,IF(J33="Kitos organizacijos**",0.003,0)))} -> 0 | R33: {=IF(N33="Mėnesinis",ROUND(O33/P33*Q33,2),IF(N33="Valandinis",ROUND(O33*Q33,2)," "))} | Y33: {=_xlfn.IFERROR(ROUND(((I33+K33)*(R33+S33+T33+U33+W33+X33))+(R33+S33+T33+U33+W33+X33)+V33,2),"0")} -> 0 | AB33: {=IF(OR(Z33="",AA33=""),"",VLOOKUP(CONCATENATE(Z33," dienų darbo savaitė"),'Atostogų išmokų FN'!$A$7:$AH$8,AA33-16)/100)} | AC33: {=ROUND(IF(Z33="",0,(SUM(R33:U33,W33)*(1+(I33+K33))*AB33)),2)} -> 0 | AN33: {=LEFT(D33,3)} | AO33: {=LEFT(E33,3)}
I34: {=IF(H34="Neterminuota",0.0131,IF(H34="Terminuota",0.0203,0))} -> 0 | K34: {=IF(J34="Biudžetinė",0.0014,IF(J34="Verslo įm. ir kt.",0.0046,IF(J34="Kitos organizacijos**",0.003,0)))} -> 0 | R34: {=IF(N34="Mėnesinis",ROUND(O34/P34*Q34,2),IF(N34="Valandinis",ROUND(O34*Q34,2)," "))} | Y34: {=_xlfn.IFERROR(ROUND(((I34+K34)*(R34+S34+T34+U34+W34+X34))+(R34+S34+T34+U34+W34+X34)+V34,2),"0")} -> 0 | AB34: {=IF(OR(Z34="",AA34=""),"",VLOOKUP(CONCATENATE(Z34," dienų darbo savaitė"),'Atostogų išmokų FN'!$A$7:$AH$8,AA34-16)/100)} | AC34: {=ROUND(IF(Z34="",0,(SUM(R34:U34,W34)*(1+(I34+K34))*AB34)),2)} -> 0 | AN34: {=LEFT(D34,3)} | AO34: {=LEFT(E34,3)}
I35: {=IF(H35="Neterminuota",0.0131,IF(H35="Terminuota",0.0203,0))} -> 0 | K35: {=IF(J35="Biudžetinė",0.0014,IF(J35="Verslo įm. ir kt.",0.0046,IF(J35="Kitos organizacijos**",0.003,0)))} -> 0 | R35: {=IF(N35="Mėnesinis",ROUND(O35/P35*Q35,2),IF(N35="Valandinis",ROUND(O35*Q35,2)," "))} | Y35: {=_xlfn.IFERROR(ROUND(((I35+K35)*(R35+S35+T35+U35+W35+X35))+(R35+S35+T35+U35+W35+X35)+V35,2),"0")} -> 0 | AB35: {=IF(OR(Z35="",AA35=""),"",VLOOKUP(CONCATENATE(Z35," dienų darbo savaitė"),'Atostogų išmokų FN'!$A$7:$AH$8,AA35-16)/100)} | AC35: {=ROUND(IF(Z35="",0,(SUM(R35:U35,W35)*(1+(I35+K35))*AB35)),2)} -> 0 | AN35: {=LEFT(D35,3)} | AO35: {=LEFT(E35,3)}
I36: {=IF(H36="Neterminuota",0.0131,IF(H36="Terminuota",0.0203,0))} -> 0 | K36: {=IF(J36="Biudžetinė",0.0014,IF(J36="Verslo įm. ir kt.",0.0046,IF(J36="Kitos organizacijos**",0.003,0)))} -> 0 | R36: {=IF(N36="Mėnesinis",ROUND(O36/P36*Q36,2),IF(N36="Valandinis",ROUND(O36*Q36,2)," "))} | Y36: {=_xlfn.IFERROR(ROUND(((I36+K36)*(R36+S36+T36+U36+W36+X36))+(R36+S36+T36+U36+W36+X36)+V36,2),"0")} -> 0 | AB36: {=IF(OR(Z36="",AA36=""),"",VLOOKUP(CONCATENATE(Z36," dienų darbo savaitė"),'Atostogų išmokų FN'!$A$7:$AH$8,AA36-16)/100)} | AC36: {=ROUND(IF(Z36="",0,(SUM(R36:U36,W36)*(1+(I36+K36))*AB36)),2)} -> 0 | AN36: {=LEFT(D36,3)} | AO36: {=LEFT(E36,3)}
I37: {=IF(H37="Neterminuota",0.0131,IF(H37="Terminuota",0.0203,0))} -> 0 | K37: {=IF(J37="Biudžetinė",0.0014,IF(J37="Verslo įm. ir kt.",0.0046,IF(J37="Kitos organizacijos**",0.003,0)))} -> 0 | R37: {=IF(N37="Mėnesinis",ROUND(O37/P37*Q37,2),IF(N37="Valandinis",ROUND(O37*Q37,2)," "))} | Y37: {=_xlfn.IFERROR(ROUND(((I37+K37)*(R37+S37+T37+U37+W37+X37))+(R37+S37+T37+U37+W37+X37)+V37,2),"0")} -> 0 | AB37: {=IF(OR(Z37="",AA37=""),"",VLOOKUP(CONCATENATE(Z37," dienų darbo savaitė"),'Atostogų išmokų FN'!$A$7:$AH$8,AA37-16)/100)} | AC37: {=ROUND(IF(Z37="",0,(SUM(R37:U37,W37)*(1+(I37+K37))*AB37)),2)} -> 0 | AN37: {=LEFT(D37,3)} | AO37: {=LEFT(E37,3)}
I38: {=IF(H38="Neterminuota",0.0131,IF(H38="Terminuota",0.0203,0))} -> 0 | K38: {=IF(J38="Biudžetinė",0.0014,IF(J38="Verslo įm. ir kt.",0.0046,IF(J38="Kitos organizacijos**",0.003,0)))} -> 0 | R38: {=IF(N38="Mėnesinis",ROUND(O38/P38*Q38,2),IF(N38="Valandinis",ROUND(O38*Q38,2)," "))} | Y38: {=_xlfn.IFERROR(ROUND(((I38+K38)*(R38+S38+T38+U38+W38+X38))+(R38+S38+T38+U38+W38+X38)+V38,2),"0")} -> 0 | AB38: {=IF(OR(Z38="",AA38=""),"",VLOOKUP(CONCATENATE(Z38," dienų darbo savaitė"),'Atostogų išmokų FN'!$A$7:$AH$8,AA38-16)/100)} | AC38: {=ROUND(IF(Z38="",0,(SUM(R38:U38,W38)*(1+(I38+K38))*AB38)),2)} -> 0 | AN38: {=LEFT(D38,3)} | AO38: {=LEFT(E38,3)}
I39: {=IF(H39="Neterminuota",0.0131,IF(H39="Terminuota",0.0203,0))} -> 0 | K39: {=IF(J39="Biudžetinė",0.0014,IF(J39="Verslo įm. ir kt.",0.0046,IF(J39="Kitos organizacijos**",0.003,0)))} -> 0 | R39: {=IF(N39="Mėnesinis",ROUND(O39/P39*Q39,2),IF(N39="Valandinis",ROUND(O39*Q39,2)," "))} | Y39: {=_xlfn.IFERROR(ROUND(((I39+K39)*(R39+S39+T39+U39+W39+X39))+(R39+S39+T39+U39+W39+X39)+V39,2),"0")} -> 0 | AB39: {=IF(OR(Z39="",AA39=""),"",VLOOKUP(CONCATENATE(Z39," dienų darbo savaitė"),'Atostogų išmokų FN'!$A$7:$AH$8,AA39-16)/100)} | AC39: {=ROUND(IF(Z39="",0,(SUM(R39:U39,W39)*(1+(I39+K39))*AB39)),2)} -> 0 | AN39: {=LEFT(D39,3)} | AO39: {=LEFT(E39,3)}
I40: {=IF(H40="Neterminuota",0.0131,IF(H40="Terminuota",0.0203,0))} -> 0 | K40: {=IF(J40="Biudžetinė",0.0014,IF(J40="Verslo įm. ir kt.",0.0046,IF(J40="Kitos organizacijos**",0.003,0)))} -> 0 | R40: {=IF(N40="Mėnesinis",ROUND(O40/P40*Q40,2),IF(N40="Valandinis",ROUND(O40*Q40,2)," "))} | Y40: {=_xlfn.IFERROR(ROUND(((I40+K40)*(R40+S40+T40+U40+W40+X40))+(R40+S40+T40+U40+W40+X40)+V40,2),"0")} -> 0 | AB40: {=IF(OR(Z40="",AA40=""),"",VLOOKUP(CONCATENATE(Z40," dienų darbo savaitė"),'Atostogų išmokų FN'!$A$7:$AH$8,AA40-16)/100)} | AC40: {=ROUND(IF(Z40="",0,(SUM(R40:U40,W40)*(1+(I40+K40))*AB40)),2)} -> 0 | AN40: {=LEFT(D40,3)} | AO40: {=LEFT(E40,3)}
I41: {=IF(H41="Neterminuota",0.0131,IF(H41="Terminuota",0.0203,0))} -> 0 | K41: {=IF(J41="Biudžetinė",0.0014,IF(J41="Verslo įm. ir kt.",0.0046,IF(J41="Kitos organizacijos**",0.003,0)))} -> 0 | R41: {=IF(N41="Mėnesinis",ROUND(O41/P41*Q41,2),IF(N41="Valandinis",ROUND(O41*Q41,2)," "))} | Y41: {=_xlfn.IFERROR(ROUND(((I41+K41)*(R41+S41+T41+U41+W41+X41))+(R41+S41+T41+U41+W41+X41)+V41,2),"0")} -> 0 | AB41: {=IF(OR(Z41="",AA41=""),"",VLOOKUP(CONCATENATE(Z41," dienų darbo savaitė"),'Atostogų išmokų FN'!$A$7:$AH$8,AA41-16)/100)} | AC41: {=ROUND(IF(Z41="",0,(SUM(R41:U41,W41)*(1+(I41+K41))*AB41)),2)} -> 0 | AN41: {=LEFT(D41,3)} | AO41: {=LEFT(E41,3)}
... I47: {=IF(H47="Neterminuota",0.0131,IF(H47="Terminuota",0.0203,0))} -> 0 | K47: {=IF(J47="Biudžetinė",0.0014,IF(J47="Verslo įm. ir kt.",0.0046,IF(J47="Kitos organizacijos**",0.003,0)))} -> 0 | R47: {=IF(N47="Mėnesinis",ROUND(O47/P47*Q47,2),IF(N47="Valandinis",ROUND(O47*Q47,2)," "))} | Y47: {=_xlfn.IFERROR(ROUND(((I47+K47)*(R47+S47+T47+U47+W47+X47))+(R47+S47+T47+U47+W47+X47)+V47,2),"0")} -> 0 | AB47: {=IF(OR(Z47="",AA47=""),"",VLOOKUP(CONCATENATE(Z47," dienų darbo savaitė"),'Atostogų išmokų FN'!$A$7:$AH$8,AA47-16)/100)} | AC47: {=ROUND(IF(Z47="",0,(SUM(R47:U47,W47)*(1+(I47+K47))*AB47)),2)} -> 0 | AN47: {=LEFT(D47,3)} | AO47: {=LEFT(E47,3)}
B48: {=IF(OR(D48<>"",F48<>"",D63<>"",F63<>""),B29+1,"")} | I48: {=IF(H48="Neterminuota",0.0131,IF(H48="Terminuota",0.0203,0))} -> 0 | K48: {=IF(J48="Biudžetinė",0.0014,IF(J48="Verslo įm. ir kt.",0.0046,IF(J48="Kitos organizacijos**",0.003,0)))} -> 0 | R48: {=IF(N48="Mėnesinis",ROUND(O48/P48*Q48,2),IF(N48="Valandinis",ROUND(O48*Q48,2)," "))} | Y48: {=_xlfn.IFERROR(ROUND(((I48+K48)*(R48+S48+T48+U48+W48+X48))+(R48+S48+T48+U48+W48+X48)+V48,2),"0")} -> 0 | AB48: {=IF(OR(Z48="",AA48=""),"",VLOOKUP(CONCATENATE(Z48," dienų darbo savaitė"),'Atostogų išmokų FN'!$A$7:$AH$8,AA48-16)/100)} | AC48: {=ROUND(IF(Z48="",0,(SUM(R48:U48,W48)*(1+(I48+K48))*AB48)),2)} -> 0 | AN48: {=LEFT(D48,3)} | AO48: {=LEFT(E48,3)}
I49: {=IF(H49="Neterminuota",0.0131,IF(H49="Terminuota",0.0203,0))} -> 0 | K49: {=IF(J49="Biudžetinė",0.0014,IF(J49="Verslo įm. ir kt.",0.0046,IF(J49="Kitos organizacijos**",0.003,0)))} -> 0 | R49: {=IF(N49="Mėnesinis",ROUND(O49/P49*Q49,2),IF(N49="Valandinis",ROUND(O49*Q49,2)," "))} | Y49: {=_xlfn.IFERROR(ROUND(((I49+K49)*(R49+S49+T49+U49+W49+X49))+(R49+S49+T49+U49+W49+X49)+V49,2),"0")} -> 0 | AB49: {=IF(OR(Z49="",AA49=""),"",VLOOKUP(CONCATENATE(Z49," dienų darbo savaitė"),'Atostogų išmokų FN'!$A$7:$AH$8,AA49-16)/100)} | AC49: {=ROUND(IF(Z49="",0,(SUM(R49:U49,W49)*(1+(I49+K49))*AB49)),2)} -> 0 | AN49: {=LEFT(D49,3)} | AO49: {=LEFT(E49,3)}
I50: {=IF(H50="Neterminuota",0.0131,IF(H50="Terminuota",0.0203,0))} -> 0 | K50: {=IF(J50="Biudžetinė",0.0014,IF(J50="Verslo įm. ir kt.",0.0046,IF(J50="Kitos organizacijos**",0.003,0)))} -> 0 | R50: {=IF(N50="Mėnesinis",ROUND(O50/P50*Q50,2),IF(N50="Valandinis",ROUND(O50*Q50,2)," "))} | Y50: {=_xlfn.IFERROR(ROUND(((I50+K50)*(R50+S50+T50+U50+W50+X50))+(R50+S50+T50+U50+W50+X50)+V50,2),"0")} -> 0 | AB50: {=IF(OR(Z50="",AA50=""),"",VLOOKUP(CONCATENATE(Z50," dienų darbo savaitė"),'Atostogų išmokų FN'!$A$7:$AH$8,AA50-16)/100)} | AC50: {=ROUND(IF(Z50="",0,(SUM(R50:U50,W50)*(1+(I50+K50))*AB50)),2)} -> 0 | AN50: {=LEFT(D50,3)} | AO50: {=LEFT(E50,3)}
...

Sheet Pažyma  pvz. 
B2: PAŽYMA DĖL DARBO UŽMOKESČIO PRISKAITYMO, IŠMOKĖJIMO IR PRISKYRIMO PROJEKTUI, TAIKANT KASMETINIŲ ATOSTOGŲ IŠMOKŲ FIKSUOTĄSIAS NORMAS (FN-05-01, FN-05-02, FN-05-03, FN-05-04, FN-05-05, FN-05-06, FN-05-07)
M5: 2023 | N5: m. | O5: liepos | P5: mėn. | Q5: 10 | R5: d.
AB6: FN dydis | AC6: Deklaruojama bendra suma
O7: Nr. | P7: 1 | AB7: FN-05-01 – 8,63 proc. | AC7: {=_xlfn.SUMIFS($AC$19:$AC$5048,$AB$19:$AB$5048,$AD7)} -> 136.57 | AD7: 0.0863
AB8: FN-05-02 – 10,44 proc. | AC8: {=_xlfn.SUMIFS($AC$19:$AC$5048,$AB$19:$AB$5048,$AD8)} -> 0 | AD8: 0.1044
B9: 1. BENDROJI DALIS | AB9: FN-05-03 – 12,35 proc. | AC9: {=_xlfn.SUMIFS($AC$19:$AC$5048,$AB$19:$AB$5048,$AD9)} -> 0 | AD9: 0.1235
B10: Projekto / Jungtinio projekto kodas | AB10: FN-05-04 – 14,99 proc. | AC10: {=_xlfn.SUMIFS($AC$19:$AC$5048,$AB$19:$AB$5048,$AD10)} -> 0 | AD10: 0.1499
B11: Projekto pavadinimas | AB11: FN-05-05 – 17,25 proc. | AC11: {=_xlfn.SUMIFS($AC$19:$AC$5048,$AB$19:$AB$5048,$AD11)} -> 0 | AD11: 0.1725
AB12: FN-05-06 – 18,89 proc. | AC12: {=_xlfn.SUMIFS($AC$19:$AC$5048,$AB$19:$AB$5048,$AD12)} -> 476.85 | AD12: 0.1889
B13: 2. INFORMACIJA APIE PRISKAITYTĄ IR IŠMOKĖTĄ DARBO UŽMOKESTĮ | AB13: FN-05-07 – 20,02 proc. | AC13: {=_xlfn.SUMIFS($AC$19:$AC$5048,$AB$19:$AB$5048,$AD13)} -> 0 | AD13: 0.2002
B15: Eil. Nr. | C15: Darbdavio pavadinimas | D15: Projekto poveiklės Nr. | E15: Veiksmo / išlaidų tipo Nr. | F15: Vardas, pavardė | G15: Pareigos | H15: Darbo sutarties tipas | I15: Įmokos tarifas nedarbo socaliniam draudimui | J15: Organizacijos tipas* | K15: Įmokos tarifas nelaimingų atsitikimų, ilgalaikio darbo ir garantiniam draudimui | L15: Metai, už kuriuos deklaruojamas darbo užmokestis | M15: Mėnuo, už kurį deklaruojamas darbo užmokestis | N15: Projektinei pareigybei nustatytas įkainis (valandinis; mėnesinis) | O15: Projektinei pareigybei nustatytas darbo užmokestis, Eur | P15: Nustatytas darbo laikas projekte per mėn., (val. / d.) | Q15: Faktiškai dirbta projekte, val./d. | R15: Priskaičiuotas darbo užmokestis ir susijusios sąnaudos (projektinei pareigybei) | Y15: Prašomų pripažinti tinkamomis finansuoti darbo užmokesčio išlaidų su darbdavio įmokomis, Eur | Z15: Darbo savaitės trukmė darbo dienomis | AA15: Kasmetinių atostogų darbo dienų skaičius | AB15: Nustatyta kasmetinių atostogų išmokų fiksuotoji norma | AC15: Deklaruojamos kasmetinių atostogų sąnaudos (įskaitant darbdavio mokesčius), Eur | AD15: Komentaras*****
R16: Projektinei pareigybei priskaitytas darbo užmokestis, Eur | S16: Priedai ir priemokos, Eur | T16: Mėnesinės premijos arba mėnesiui tenkanti premijų dalis, Eur (DK 139 str. 2 d. 5 p.)*** | U16: Darbo užmokestis už viršvalandinį darbą, darbą poilsio ir švenčių dienomis, darbą naktį, Eur **** | V16: Darbdavio mokama ligos pašalpa, Eur | W16: Darbo užmokestis už papildomą poilsio laiką, kuris suteiktas pagal LR DK 112 str. 5 d., Eur | X16: Darbo užmokestis už papildomas poilsio dienas, Eur (DK 138 str. 3 d.)
B18: 1 | C18: 2 | D18: 3 | E18: 4 | F18: 5 | G18: 6 | H18: 7 | I18: 8 | J18: 9 | K18: 10 | L18: 11 | M18: 12 | N18: 13 | O18: 14 | P18: 15 | Q18: 16 | R18: 17 | S18: 18 | T18: 19 | U18: 20 | V18: 21 | W18: 22 | X18: 23 | Y18: 24 | Z18: 25 | AA18: 26 | AB18: 27 | AC18: 28 | AD18: 29
B19: {=IF(OR(D19<>"",F19<>""),1,"")} -> 1 | C19: Darbdavio pavadinimas 1 | D19: 1.1. | E19: 1.1.1. | F19: Vardenis Pavardenis 1 | G19: Karjeros specialistas | H19: Neterminuota | I19: {=IF(H19="Neterminuota",0.0131,IF(H19="Terminuota",0.0203,0))} -> 0.0131 | J19: Verslo įm. ir kt. | K19: {=IF(J19="Biudžetinė",0.0014,IF(J19="Verslo įm. ir kt.",0.0046,IF(J19="Kitos organizacijos**",0.003,0)))} -> 0.0046 | L19: 2023 | M19: Kovas | N19: Mėnesinis | O19: 1554.96 | P19: 19 | Q19: 19 | R19: {=IF(N19="Mėnesinis",ROUND(O19/P19*Q19,2),IF(N19="Valandinis",ROUND(O19*Q19,2)," "))} -> 1554.96 | Y19: {=_xlfn.IFERROR(ROUND(((I19+K19)*(R19+S19+T19+U19+W19+X19))+(R19+S19+T19+U19+W19+X19)+V19,2),"0")} -> 1582.48 | Z19: 5 | AA19: 20 | AB19: {=IF(OR(Z19="",AA19=""),"",VLOOKUP(CONCATENATE(Z19," dienų darbo savaitė"),'Atostogų išmokų FN'!$A$7:$AH$8,AA19-16)/100)} -> 0.0863 | AC19: {=ROUND(IF(Z19="",0,(SUM(R19:U19,W19)*(1+(I19+K19))*AB19)),2)} -> 136.57 | AN19: {=LEFT(D19,3)} -> 1.1 | AO19: {=LEFT(E19,3)} -> 1.1
B20: {=IF(OR(D20<>"",F20<>"",D21<>"",F21<>""),B19+1,"")} -> 2 | C20: Darbdavio pavadinimas 2 | D20: 1.1. | E20: 1.1.1. | F20: Vardenis Pavardenis 2 | G20: Karjeros specialistas | H20: Terminuota | I20: {=IF(H20="Neterminuota",0.0131,IF(H20="Terminuota",0.0203,0))} -> 0.0203 | J20: Verslo įm. ir kt. | K20: {=IF(J20="Biudžetinė",0.0014,IF(J20="Verslo įm. ir kt.",0.0046,IF(J20="Kitos organizacijos**",0.003,0)))} -> 0.0046 | L20: 2023 | M20: Kovas | N20: Mėnesinis | O20: 691.92 | P20: 23 | Q20: 23 | R20: {=IF(N20="Mėnesinis",ROUND(O20/P20*Q20,2),IF(N20="Valandinis",ROUND(O20*Q20,2)," "))} -> 691.92 | Y20: {=_xlfn.IFERROR(ROUND(((I20+K20)*(R20+S20+T20+U20+W20+X20))+(R20+S20+T20+U20+W20+X20)+V20,2),"0")} -> 709.15 | Z20: 5 | AA20: 40 | AB20: {=IF(OR(Z20="",AA20=""),"",VLOOKUP(CONCATENATE(Z20," dienų darbo savaitė"),'Atostogų išmokų FN'!$A$7:$AH$8,AA20-16)/100)} -> 0.1889 | AC20: {=ROUND(IF(Z20="",0,(SUM(R20:U20,W20)*(1+(I20+K20))*AB20)),2)} -> 133.96 | AN20: {=LEFT(D20,3)} -> 1.1 | AO20: {=LEFT(E20,3)} -> 1.1
B21: {=IF(OR(D21<>"",F21<>"",D22<>"",F22<>""),B20+1,"")} -> 3 | C21: Darbdavio pavadinimas 3 | D21: 1.1. | E21: 1.1.1. | F21: Vardenis Pavardenis 3 | G21: Karjeros specialistas | H21: Terminuota | I21: {=IF(H21="Neterminuota",0.0131,IF(H21="Terminuota",0.0203,0))} -> 0.0203 | J21: Verslo įm. ir kt. | K21: {=IF(J21="Biudžetinė",0.0014,IF(J21="Verslo įm. ir kt.",0.0046,IF(J21="Kitos organizacijos**",0.003,0)))} -> 0.0046 | L21: 2023 | M21: Birželis | N21: Mėnesinis | O21: 1855.41 | P21: 22 | Q21: 21 | R21: {=IF(N21="Mėnesinis",ROUND(O21/P21*Q21,2),IF(N21="Valandinis",ROUND(O21*Q21,2)," "))} -> 1771.07 | X21: 83.34 | Y21: {=_xlfn.IFERROR(ROUND(((I21+K21)*(R21+S21+T21+U21+W21+X21))+(R21+S21+T21+U21+W21+X21)+V21,2),"0")} -> 1900.58 | Z21: 5 | AA21: 40 | AB21: {=IF(OR(Z21="",AA21=""),"",VLOOKUP(CONCATENATE(Z21," dienų darbo savaitė"),'Atostogų išmokų FN'!$A$7:$AH$8,AA21-16)/100)} -> 0.1889 | AC21: {=ROUND(IF(Z21="",0,(SUM(R21:U21,W21)*(1+(I21+K21))*AB21)),2)} -> 342.89 | AN21: {=LEFT(D21,3)} -> 1.1 | AO21: {=LEFT(E21,3)} -> 1.1
B22: {=IF(OR(D22<>"",F22<>"",D23<>"",F23<>""),B21+1,"")} | I22: {=IF(H22="Neterminuota",0.0131,IF(H22="Terminuota",0.0203,0))} -> 0 | K22: {=IF(J22="Biudžetinė",0.0014,IF(J22="Verslo įm. ir kt.",0.0046,IF(J22="Kitos organizacijos**",0.003,0)))} -> 0 | R22: {=IF(N22="Mėnesinis",ROUND(O22/P22*Q22,2),IF(N22="Valandinis",ROUND(O22*Q22,2)," "))} | Y22: {=_xlfn.IFERROR(ROUND(((I22+K22)*(R22+S22+T22+U22+W22+X22))+(R22+S22+T22+U22+W22+X22)+V22,2),"0")} -> 0 | AB22: {=IF(OR(Z22="",AA22=""),"",VLOOKUP(CONCATENATE(Z22," dienų darbo savaitė"),'Atostogų išmokų FN'!$A$7:$AH$8,AA22-16)/100)} | AC22: {=ROUND(IF(Z22="",0,(SUM(R22:U22,W22)*(1+(I22+K22))*AB22)),2)} -> 0 | AN22: {=LEFT(D22,3)} | AO22: {=LEFT(E22,3)}
B23: {=IF(OR(D23<>"",F23<>"",D24<>"",F24<>""),B22+1,"")} | I23: {=IF(H23="Neterminuota",0.0131,IF(H23="Terminuota",0.0203,0))} -> 0 | K23: {=IF(J23="Biudžetinė",0.0014,IF(J23="Verslo įm. ir kt.",0.0046,IF(J23="Kitos organizacijos**",0.003,0)))} -> 0 | R23: {=IF(N23="Mėnesinis",ROUND(O23/P23*Q23,2),IF(N23="Valandinis",ROUND(O23*Q23,2)," "))} | Y23: {=_xlfn.IFERROR(ROUND(((I23+K23)*(R23+S23+T23+U23+W23+X23))+(R23+S23+T23+U23+W23+X23)+V23,2),"0")} -> 0 | AB23: {=IF(OR(Z23="",AA23=""),"",VLOOKUP(CONCATENATE(Z23," dienų darbo savaitė"),'Atostogų išmokų FN'!$A$7:$AH$8,AA23-16)/100)} | AC23: {=ROUND(IF(Z23="",0,(SUM(R23:U23,W23)*(1+(I23+K23))*AB23)),2)} -> 0 | AN23: {=LEFT(D23,3)} | AO23: {=LEFT(E23,3)}
B24: {=IF(OR(D24<>"",F24<>"",D25<>"",F25<>""),B23+1,"")} | I24: {=IF(H24="Neterminuota",0.0131,IF(H24="Terminuota",0.0203,0))} -> 0 | K24: {=IF(J24="Biudžetinė",0.0014,IF(J24="Verslo įm. ir kt.",0.0046,IF(J24="Kitos organizacijos**",0.003,0)))} -> 0 | R24: {=IF(N24="Mėnesinis",ROUND(O24/P24*Q24,2),IF(N24="Valandinis",ROUND(O24*Q24,2)," "))} | Y24: {=_xlfn.IFERROR(ROUND(((I24+K24)*(R24+S24+T24+U24+W24+X24))+(R24+S24+T24+U24+W24+X24)+V24,2),"0")} -> 0 | AB24: {=IF(OR(Z24="",AA24=""),"",VLOOKUP(CONCATENATE(Z24," dienų darbo savaitė"),'Atostogų išmokų FN'!$A$7:$AH$8,AA24-16)/100)} | AC24: {=ROUND(IF(Z24="",0,(SUM(R24:U24,W24)*(1+(I24+K24))*AB24)),2)} -> 0 | AN24: {=LEFT(D24,3)} | AO24: {=LEFT(E24,3)}
B25: {=IF(OR(D25<>"",F25<>"",D26<>"",F26<>""),B24+1,"")} | I25: {=IF(H25="Neterminuota",0.0131,IF(H25="Terminuota",0.0203,0))} -> 0 | K25: {=IF(J25="Biudžetinė",0.0014,IF(J25="Verslo įm. ir kt.",0.0046,IF(J25="Kitos organizacijos**",0.003,0)))} -> 0 | R25: {=IF(N25="Mėnesinis",ROUND(O25/P25*Q25,2),IF(N25="Valandinis",ROUND(O25*Q25,2)," "))} | Y25: {=_xlfn.IFERROR(ROUND(((I25+K25)*(R25+S25+T25+U25+W25+X25))+(R25+S25+T25+U25+W25+X25)+V25,2),"0")} -> 0 | AB25: {=IF(OR(Z25="",AA25=""),"",VLOOKUP(CONCATENATE(Z25," dienų darbo savaitė"),'Atostogų išmokų FN'!$A$7:$AH$8,AA25-16)/100)} | AC25: {=ROUND(IF(Z25="",0,(SUM(R25:U25,W25)*(1+(I25+K25))*AB25)),2)} -> 0 | AN25: {=LEFT(D25,3)} | AO25: {=LEFT(E25,3)}
B26: {=IF(OR(D26<>"",F26<>"",D27<>"",F27<>""),B25+1,"")} | I26: {=IF(H26="Neterminuota",0.0131,IF(H26="Terminuota",0.0203,0))} -> 0 | K26: {=IF(J26="Biudžetinė",0.0014,IF(J26="Verslo įm. ir kt.",0.0046,IF(J26="Kitos organizacijos**",0.003,0)))} -> 0 | R26: {=IF(N26="Mėnesinis",ROUND(O26/P26*Q26,2),IF(N26="Valandinis",ROUND(O26*Q26,2)," "))} | Y26: {=_xlfn.IFERROR(ROUND(((I26+K26)*(R26+S26+T26+U26+W26+X26))+(R26+S26+T26+U26+W26+X26)+V26,2),"0")} -> 0 | AB26: {=IF(OR(Z26="",AA26=""),"",VLOOKUP(CONCATENATE(Z26," dienų darbo savaitė"),'Atostogų išmokų FN'!$A$7:$AH$8,AA26-16)/100)} | AC26: {=ROUND(IF(Z26="",0,(SUM(R26:U26,W26)*(1+(I26+K26))*AB26)),2)} -> 0 | AN26: {=LEFT(D26,3)} | AO26: {=LEFT(E26,3)}
B27: {=IF(OR(D27<>"",F27<>"",D28<>"",F28<>""),B26+1,"")} | I27: {=IF(H27="Neterminuota",0.0131,IF(H27="Terminuota",0.0203,0))} -> 0 | K27: {=IF(J27="Biudžetinė",0.0014,IF(J27="Verslo įm. ir kt.",0.0046,IF(J27="Kitos organizacijos**",0.003,0)))} -> 0 | R27: {=IF(N27="Mėnesinis",ROUND(O27/P27*Q27,2),IF(N27="Valandinis",ROUND(O27*Q27,2)," "))} | Y27: {=_xlfn.IFERROR(ROUND(((I27+K27)*(R27+S27+T27+U27+W27+X27))+(R27+S27+T27+U27+W27+X27)+V27,2),"0")} -> 0 | AB27: {=IF(OR(Z27="",AA27=""),"",VLOOKUP(CONCATENATE(Z27," dienų darbo savaitė"),'Atostogų išmokų FN'!$A$7:$AH$8,AA27-16)/100)} | AC27: {=ROUND(IF(Z27="",0,(SUM(R27:U27,W27)*(1+(I27+K27))*AB27)),2)} -> 0 | AN27: {=LEFT(D27,3)} | AO27: {=LEFT(E27,3)}
B28: {=IF(OR(D28<>"",F28<>"",D29<>"",F29<>""),B27+1,"")} | I28: {=IF(H28="Neterminuota",0.0131,IF(H28="Terminuota",0.0203,0))} -> 0 | K28: {=IF(J28="Biudžetinė",0.0014,IF(J28="Verslo įm. ir kt.",0.0046,IF(J28="Kitos organizacijos**",0.003,0)))} -> 0 | R28: {=IF(N28="Mėnesinis",ROUND(O28/P28*Q28,2),IF(N28="Valandinis",ROUND(O28*Q28,2)," "))} | Y28: {=_xlfn.IFERROR(ROUND(((I28+K28)*(R28+S28+T28+U28+W28+X28))+(R28+S28+T28+U28+W28+X28)+V28,2),"0")} -> 0 | AB28: {=IF(OR(Z28="",AA28=""),"",VLOOKUP(CONCATENATE(Z28," dienų darbo savaitė"),'Atostogų išmokų FN'!$A$7:$AH$8,AA28-16)/100)} | AC28: {=ROUND(IF(Z28="",0,(SUM(R28:U28,W28)*(1+(I28+K28))*AB28)),2)} -> 0 | AN28: {=LEFT(D28,3)} | AO28: {=LEFT(E28,3)}
B29: {=IF(OR(D29<>"",F29<>"",D48<>"",F48<>""),B28+1,"")} | I29: {=IF(H29="Neterminuota",0.0131,IF(H29="Terminuota",0.0203,0))} -> 0 | K29: {=IF(J29="Biudžetinė",0.0014,IF(J29="Verslo įm. ir kt.",0.0046,IF(J29="Kitos organizacijos**",0.003,0)))} -> 0 | R29: {=IF(N29="Mėnesinis",ROUND(O29/P29*Q29,2),IF(N29="Valandinis",ROUND(O29*Q29,2)," "))} | Y29: {=_xlfn.IFERROR(ROUND(((I29+K29)*(R29+S29+T29+U29+W29+X29))+(R29+S29+T29+U29+W29+X29)+V29,2),"0")} -> 0 | AB29: {=IF(OR(Z29="",AA29=""),"",VLOOKUP(CONCATENATE(Z29," dienų darbo savaitė"),'Atostogų išmokų FN'!$A$7:$AH$8,AA29-16)/100)} | AC29: {=ROUND(IF(Z29="",0,(SUM(R29:U29,W29)*(1+(I29+K29))*AB29)),2)} -> 0 | AN29: {=LEFT(D29,3)} | AO29: {=LEFT(E29,3)}
I30: {=IF(H30="Neterminuota",0.0131,IF(H30="Terminuota",0.0203,0))} -> 0 | K30: {=IF(J30="Biudžetinė",0.0014,IF(J30="Verslo įm. ir kt.",0.0046,IF(J30="Kitos organizacijos**",0.003,0)))} -> 0 | R30: {=IF(N30="Mėnesinis",ROUND(O30/P30*Q30,2),IF(N30="Valandinis",ROUND(O30*Q30,2)," "))} | Y30: {=_xlfn.IFERROR(ROUND(((I30+K30)*(R30+S30+T30+U30+W30+X30))+(R30+S30+T30+U30+W30+X30)+V30,2),"0")} -> 0 | AB30: {=IF(OR(Z30="",AA30=""),"",VLOOKUP(CONCATENATE(Z30," dienų darbo savaitė"),'Atostogų išmokų FN'!$A$7:$AH$8,AA30-16)/100)} | AC30: {=ROUND(IF(Z30="",0,(SUM(R30:U30,W30)*(1+(I30+K30))*AB30)),2)} -> 0 | AN30: {=LEFT(D30,3)} | AO30: {=LEFT(E30,3)}
I31: {=IF(H31="Neterminuota",0.0131,IF(H31="Terminuota",0.0203,0))} -> 0 | K31: {=IF(J31="Biudžetinė",0.0014,IF(J31="Verslo įm. ir kt.",0.0046,IF(J31="Kitos organizacijos**",0.003,0)))} -> 0 | R31: {=IF(N31="Mėnesinis",ROUND(O31/P31*Q31,2),IF(N31="Valandinis",ROUND(O31*Q31,2)," "))} | Y31: {=_xlfn.IFERROR(ROUND(((I31+K31)*(R31+S31+T31+U31+W31+X31))+(R31+S31+T31+U31+W31+X31)+V31,2),"0")} -> 0 | AB31: {=IF(OR(Z31="",AA31=""),"",VLOOKUP(CONCATENATE(Z31," dienų darbo savaitė"),'Atostogų išmokų FN'!$A$7:$AH$8,AA31-16)/100)} | AC31: {=ROUND(IF(Z31="",0,(SUM(R31:U31,W31)*(1+(I31+K31))*AB31)),2)} -> 0 | AN31: {=LEFT(D31,3)} | AO31: {=LEFT(E31,3)}
I32: {=IF(H32="Neterminuota",0.0131,IF(H32="Terminuota",0.0203,0))} -> 0 | K32: {=IF(J32="Biudžetinė",0.0014,IF(J32="Verslo įm. ir kt.",0.0046,IF(J32="Kitos organizacijos**",0.003,0)))} -> 0 | R32: {=IF(N32="Mėnesinis",ROUND(O32/P32*Q32,2),IF(N32="Valandinis",ROUND(O32*Q32,2)," "))} | Y32: {=_xlfn.IFERROR(ROUND(((I32+K32)*(R32+S32+T32+U32+W32+X32))+(R32+S32+T32+U32+W32+X32)+V32,2),"0")} -> 0 | AB32: {=IF(OR(Z32="",AA32=""),"",VLOOKUP(CONCATENATE(Z32," dienų darbo savaitė"),'Atostogų išmokų FN'!$A$7:$AH$8,AA32-16)/100)} | AC32: {=ROUND(IF(Z32="",0,(SUM(R32:U32,W32)*(1+(I32+K32))*AB32)),2)} -> 0 | AN32: {=LEFT(D32,3)} | AO32: {=LEFT(E32,3)}
I33: {=IF(H33="Neterminuota",0.0131,IF(H33="Terminuota",0.0203,0))} -> 0 | K33: {=IF(J33="Biudžetinė",0.0014,IF(J33="Verslo įm. ir kt.",0.0046,IF(J33="Kitos organizacijos**",0.003,0)))} -> 0 | R33: {=IF(N33="Mėnesinis",ROUND(O33/P33*Q33,2),IF(N33="Valandinis",ROUND(O33*Q33,2)," "))} | Y33: {=_xlfn.IFERROR(ROUND(((I33+K33)*(R33+S33+T33+U33+W33+X33))+(R33+S33+T33+U33+W33+X33)+V33,2),"0")} -> 0 | AB33: {=IF(OR(Z33="",AA33=""),"",VLOOKUP(CONCATENATE(Z33," dienų darbo savaitė"),'Atostogų išmokų FN'!$A$7:$AH$8,AA33-16)/100)} | AC33: {=ROUND(IF(Z33="",0,(SUM(R33:U33,W33)*(1+(I33+K33))*AB33)),2)} -> 0 | AN33: {=LEFT(D33,3)} | AO33: {=LEFT(E33,3)}
I34: {=IF(H34="Neterminuota",0.0131,IF(H34="Terminuota",0.0203,0))} -> 0 | K34: {=IF(J34="Biudžetinė",0.0014,IF(J34="Verslo įm. ir kt.",0.0046,IF(J34="Kitos organizacijos**",0.003,0)))} -> 0 | R34: {=IF(N34="Mėnesinis",ROUND(O34/P34*Q34,2),IF(N34="Valandinis",ROUND(O34*Q34,2)," "))} | Y34: {=_xlfn.IFERROR(ROUND(((I34+K34)*(R34+S34+T34+U34+W34+X34))+(R34+S34+T34+U34+W34+X34)+V34,2),"0")} -> 0 | AB34: {=IF(OR(Z34="",AA34=""),"",VLOOKUP(CONCATENATE(Z34," dienų darbo savaitė"),'Atostogų išmokų FN'!$A$7:$AH$8,AA34-16)/100)} | AC34: {=ROUND(IF(Z34="",0,(SUM(R34:U34,W34)*(1+(I34+K34))*AB34)),2)} -> 0 | AN34: {=LEFT(D34,3)} | AO34: {=LEFT(E34,3)}
I35: {=IF(H35="Neterminuota",0.0131,IF(H35="Terminuota",0.0203,0))} -> 0 | K35: {=IF(J35="Biudžetinė",0.0014,IF(J35="Verslo įm. ir kt.",0.0046,IF(J35="Kitos organizacijos**",0.003,0)))} -> 0 | R35: {=IF(N35="Mėnesinis",ROUND(O35/P35*Q35,2),IF(N35="Valandinis",ROUND(O35*Q35,2)," "))} | Y35: {=_xlfn.IFERROR(ROUND(((I35+K35)*(R35+S35+T35+U35+W35+X35))+(R35+S35+T35+U35+W35+X35)+V35,2),"0")} -> 0 | AB35: {=IF(OR(Z35="",AA35=""),"",VLOOKUP(CONCATENATE(Z35," dienų darbo savaitė"),'Atostogų išmokų FN'!$A$7:$AH$8,AA35-16)/100)} | AC35: {=ROUND(IF(Z35="",0,(SUM(R35:U35,W35)*(1+(I35+K35))*AB35)),2)} -> 0 | AN35: {=LEFT(D35,3)} | AO35: {=LEFT(E35,3)}
I36: {=IF(H36="Neterminuota",0.0131,IF(H36="Terminuota",0.0203,0))} -> 0 | K36: {=IF(J36="Biudžetinė",0.0014,IF(J36="Verslo įm. ir kt.",0.0046,IF(J36="Kitos organizacijos**",0.003,0)))} -> 0 | R36: {=IF(N36="Mėnesinis",ROUND(O36/P36*Q36,2),IF(N36="Valandinis",ROUND(O36*Q36,2)," "))} | Y36: {=_xlfn.IFERROR(ROUND(((I36+K36)*(R36+S36+T36+U36+W36+X36))+(R36+S36+T36+U36+W36+X36)+V36,2),"0")} -> 0 | AB36: {=IF(OR(Z36="",AA36=""),"",VLOOKUP(CONCATENATE(Z36," dienų darbo savaitė"),'Atostogų išmokų FN'!$A$7:$AH$8,AA36-16)/100)} | AC36: {=ROUND(IF(Z36="",0,(SUM(R36:U36,W36)*(1+(I36+K36))*AB36)),2)} -> 0 | AN36: {=LEFT(D36,3)} | AO36: {=LEFT(E36,3)}
I37: {=IF(H37="Neterminuota",0.0131,IF(H37="Terminuota",0.0203,0))} -> 0 | K37: {=IF(J37="Biudžetinė",0.0014,IF(J37="Verslo įm. ir kt.",0.0046,IF(J37="Kitos organizacijos**",0.003,0)))} -> 0 | R37: {=IF(N37="Mėnesinis",ROUND(O37/P37*Q37,2),IF(N37="Valandinis",ROUND(O37*Q37,2)," "))} | Y37: {=_xlfn.IFERROR(ROUND(((I37+K37)*(R37+S37+T37+U37+W37+X37))+(R37+S37+T37+U37+W37+X37)+V37,2),"0")} -> 0 | AB37: {=IF(OR(Z37="",AA37=""),"",VLOOKUP(CONCATENATE(Z37," dienų darbo savaitė"),'Atostogų išmokų FN'!$A$7:$AH$8,AA37-16)/100)} | AC37: {=ROUND(IF(Z37="",0,(SUM(R37:U37,W37)*(1+(I37+K37))*AB37)),2)} -> 0 | AN37: {=LEFT(D37,3)} | AO37: {=LEFT(E37,3)}
I38: {=IF(H38="Neterminuota",0.0131,IF(H38="Terminuota",0.0203,0))} -> 0 | K38: {=IF(J38="Biudžetinė",0.0014,IF(J38="Verslo įm. ir kt.",0.0046,IF(J38="Kitos organizacijos**",0.003,0)))} -> 0 | R38: {=IF(N38="Mėnesinis",ROUND(O38/P38*Q38,2),IF(N38="Valandinis",ROUND(O38*Q38,2)," "))} | Y38: {=_xlfn.IFERROR(ROUND(((I38+K38)*(R38+S38+T38+U38+W38+X38))+(R38+S38+T38+U38+W38+X38)+V38,2),"0")} -> 0 | AB38: {=IF(OR(Z38="",AA38=""),"",VLOOKUP(CONCATENATE(Z38," dienų darbo savaitė"),'Atostogų išmokų FN'!$A$7:$AH$8,AA38-16)/100)} | AC38: {=ROUND(IF(Z38="",0,(SUM(R38:U38,W38)*(1+(I38+K38))*AB38)),2)} -> 0 | AN38: {=LEFT(D38,3)} | AO38: {=LEFT(E38,3)}
I39: {=IF(H39="Neterminuota",0.0131,IF(H39="Terminuota",0.0203,0))} -> 0 | K39: {=IF(J39="Biudžetinė",0.0014,IF(J39="Verslo įm. ir kt.",0.0046,IF(J39="Kitos organizacijos**",0.003,0)))} -> 0 | R39: {=IF(N39="Mėnesinis",ROUND(O39/P39*Q39,2),IF(N39="Valandinis",ROUND(O39*Q39,2)," "))} | Y39: {=_xlfn.IFERROR(ROUND(((I39+K39)*(R39+S39+T39+U39+W39+X39))+(R39+S39+T39+U39+W39+X39)+V39,2),"0")} -> 0 | AB39: {=IF(OR(Z39="",AA39=""),"",VLOOKUP(CONCATENATE(Z39," dienų darbo savaitė"),'Atostogų išmokų FN'!$A$7:$AH$8,AA39-16)/100)} | AC39: {=ROUND(IF(Z39="",0,(SUM(R39:U39,W39)*(1+(I39+K39))*AB39)),2)} -> 0 | AN39: {=LEFT(D39,3)} | AO39: {=LEFT(E39,3)}
I40: {=IF(H40="Neterminuota",0.0131,IF(H40="Terminuota",0.0203,0))} -> 0 | K40: {=IF(J40="Biudžetinė",0.0014,IF(J40="Verslo įm. ir kt.",0.0046,IF(J40="Kitos organizacijos**",0.003,0)))} -> 0 | R40: {=IF(N40="Mėnesinis",ROUND(O40/P40*Q40,2),IF(N40="Valandinis",ROUND(O40*Q40,2)," "))} | Y40: {=_xlfn.IFERROR(ROUND(((I40+K40)*(R40+S40+T40+U40+W40+X40))+(R40+S40+T40+U40+W40+X40)+V40,2),"0")} -> 0 | AB40: {=IF(OR(Z40="",AA40=""),"",VLOOKUP(CONCATENATE(Z40," dienų darbo savaitė"),'Atostogų išmokų FN'!$A$7:$AH$8,AA40-16)/100)} | AC40: {=ROUND(IF(Z40="",0,(SUM(R40:U40,W40)*(1+(I40+K40))*AB40)),2)} -> 0 | AN40: {=LEFT(D40,3)} | AO40: {=LEFT(E40,3)}
I41: {=IF(H41="Neterminuota",0.0131,IF(H41="Terminuota",0.0203,0))} -> 0 | K41: {=IF(J41="Biudžetinė",0.0014,IF(J41="Verslo įm. ir kt.",0.0046,IF(J41="Kitos organizacijos**",0.003,0)))} -> 0 | R41: {=IF(N41="Mėnesinis",ROUND(O41/P41*Q41,2),IF(N41="Valandinis",ROUND(O41*Q41,2)," "))} | Y41: {=_xlfn.IFERROR(ROUND(((I41+K41)*(R41+S41+T41+U41+W41+X41))+(R41+S41+T41+U41+W41+X41)+V41,2),"0")} -> 0 | AB41: {=IF(OR(Z41="",AA41=""),"",VLOOKUP(CONCATENATE(Z41," dienų darbo savaitė"),'Atostogų išmokų FN'!$A$7:$AH$8,AA41-16)/100)} | AC41: {=ROUND(IF(Z41="",0,(SUM(R41:U41,W41)*(1+(I41+K41))*AB41)),2)} -> 0 | AN41: {=LEFT(D41,3)} | AO41: {=LEFT(E41,3)}
... I47: {=IF(H47="Neterminuota",0.0131,IF(H47="Terminuota",0.0203,0))} -> 0 | K47: {=IF(J47="Biudžetinė",0.0014,IF(J47="Verslo įm. ir kt.",0.0046,IF(J47="Kitos organizacijos**",0.003,0)))} -> 0 | R47: {=IF(N47="Mėnesinis",ROUND(O47/P47*Q47,2),IF(N47="Valandinis",ROUND(O47*Q47,2)," "))} | Y47: {=_xlfn.IFERROR(ROUND(((I47+K47)*(R47+S47+T47+U47+W47+X47))+(R47+S47+T47+U47+W47+X47)+V47,2),"0")} -> 0 | AB47: {=IF(OR(Z47="",AA47=""),"",VLOOKUP(CONCATENATE(Z47," dienų darbo savaitė"),'Atostogų išmokų FN'!$A$7:$AH$8,AA47-16)/100)} | AC47: {=ROUND(IF(Z47="",0,(SUM(R47:U47,W47)*(1+(I47+K47))*AB47)),2)} -> 0 | AN47: {=LEFT(D47,3)} | AO47: {=LEFT(E47,3)}
B48: {=IF(OR(D48<>"",F48<>"",D63<>"",F63<>""),B29+1,"")} | I48: {=IF(H48="Neterminuota",0.0131,IF(H48="Terminuota",0.0203,0))} -> 0 | K48: {=IF(J48="Biudžetinė",0.0014,IF(J48="Verslo įm. ir kt.",0.0046,IF(J48="Kitos organizacijos**",0.003,0)))} -> 0 | R48: {=IF(N48="Mėnesinis",ROUND(O48/P48*Q48,2),IF(N48="Valandinis",ROUND(O48*Q48,2)," "))} | Y48: {=_xlfn.IFERROR(ROUND(((I48+K48)*(R48+S48+T48+U48+W48+X48))+(R48+S48+T48+U48+W48+X48)+V48,2),"0")} -> 0 | AB48: {=IF(OR(Z48="",AA48=""),"",VLOOKUP(CONCATENATE(Z48," dienų darbo savaitė"),'Atostogų išmokų FN'!$A$7:$AH$8,AA48-16)/100)} | AC48: {=ROUND(IF(Z48="",0,(SUM(R48:U48,W48)*(1+(I48+K48))*AB48)),2)} -> 0 | AN48: {=LEFT(D48,3)} | AO48: {=LEFT(E48,3)}
I49: {=IF(H49="Neterminuota",0.0131,IF(H49="Terminuota",0.0203,0))} -> 0 | K49: {=IF(J49="Biudžetinė",0.0014,IF(J49="Verslo įm. ir kt.",0.0046,IF(J49="Kitos organizacijos**",0.003,0)))} -> 0 | R49: {=IF(N49="Mėnesinis",ROUND(O49/P49*Q49,2),IF(N49="Valandinis",ROUND(O49*Q49,2)," "))} | Y49: {=_xlfn.IFERROR(ROUND(((I49+K49)*(R49+S49+T49+U49+W49+X49))+(R49+S49+T49+U49+W49+X49)+V49,2),"0")} -> 0 | AB49: {=IF(OR(Z49="",AA49=""),"",VLOOKUP(CONCATENATE(Z49," dienų darbo savaitė"),'Atostogų išmokų FN'!$A$7:$AH$8,AA49-16)/100)} | AC49: {=ROUND(IF(Z49="",0,(SUM(R49:U49,W49)*(1+(I49+K49))*AB49)),2)} -> 0 | AN49: {=LEFT(D49,3)} | AO49: {=LEFT(E49,3)}
I50: {=IF(H50="Neterminuota",0.0131,IF(H50="Terminuota",0.0203,0))} -> 0 | K50: {=IF(J50="Biudžetinė",0.0014,IF(J50="Verslo įm. ir kt.",0.0046,IF(J50="Kitos organizacijos**",0.003,0)))} -> 0 | R50: {=IF(N50="Mėnesinis",ROUND(O50/P50*Q50,2),IF(N50="Valandinis",ROUND(O50*Q50,2)," "))} | Y50: {=_xlfn.IFERROR(ROUND(((I50+K50)*(R50+S50+T50+U50+W50+X50))+(R50+S50+T50+U50+W50+X50)+V50,2),"0")} -> 0 | AB50: {=IF(OR(Z50="",AA50=""),"",VLOOKUP(CONCATENATE(Z50," dienų darbo savaitė"),'Atostogų išmokų FN'!$A$7:$AH$8,AA50-16)/100)} | AC50: {=ROUND(IF(Z50="",0,(SUM(R50:U50,W50)*(1+(I50+K50))*AB50)),2)} -> 0 | AN50: {=LEFT(D50,3)} | AO50: {=LEFT(E50,3)}
...

Sheet Atostogų išmokų FN
A2: KASMETINIŲ ATOSTOGŲ IŠMOKŲ FIKSUOTOSIOS NORMOS
A4: Kasmetinių atostogų išmokų fiksuotosios normos, taikomos nuo 2017 m. liepos 1 d. darbuotojams, kuriems kasmetinės atostogos skaičiuojamos darbo dienomis
A5: Darbo savaitės trukmė | D5: Kasmetinių atostogų išmokų fiksuotosios normos nuo tinkamų finansuoti darbo užmokesčio išlaidų, kai kasmetinių atostogų darbo dienų skaičius yra:
D6: 20 | E6: 21 | F6: 22 | G6: 23 | H6: 24 | I6: 25 | J6: 26 | K6: 27 | L6: 28 | M6: 29 | N6: 30 | O6: 31 | P6: 32 | Q6: 33 | R6: 34 | S6: 35 | T6: 36 | U6: 37 | V6: 38 | W6: 39 | X6: 40 | Y6: 41 | Z6: 42 | AA6: 43 | AB6: 44 | AC6: 45 | AD6: 46 | AE6: 47 | AF6: 48 | AG6: 49 | AH6: 50
A7: 5 dienų darbo savaitė | D7: 8.63 | E7: 10.44 | F7: 10.44 | G7: 10.44 | H7: 10.44 | I7: 10.44 | J7: 12.35 | K7: 12.35 | L7: 12.35 | M7: 12.35 | N7: 12.35 | O7: 14.99 | P7: 14.99 | Q7: 14.99 | R7: 14.99 | S7: 14.99 | T7: 14.99 | U7: 17.25 | V7: 17.25 | W7: 17.25 | X7: 18.89 | Y7: 20.02 | Z7: 20.02 | AA7: 20.02 | AB7: 20.02 | AC7: 20.02 | AD7: 20.02 | AE7: 20.02 | AF7: 20.02 | AG7: 20.02 | AH7: 20.02
A8: 6 dienų darbo savaitė | D8: 0 | E8: 0 | F8: 0 | G8: 0 | H8: 8.63 | I8: 10.44 | J8: 10.44 | K8: 10.44 | L8: 10.44 | M8: 10.44 | N8: 10.44 | O8: 12.35 | P8: 12.35 | Q8: 12.35 | R8: 12.35 | S8: 12.35 | T8: 12.35 | U8: 14.99 | V8: 14.99 | W8: 14.99 | X8: 14.99 | Y8: 14.99 | Z8: 14.99 | AA8: 17.25 | AB8: 17.25 | AC8: 17.25 | AD8: 17.25 | AE8: 17.25 | AF8: 18.89 | AG8: 20.02 | AH8: 20.02
A11: Fiksuotosios normos dydis | B11: FN taikymo sąlygos
A12: FN-05-01 – 8,63 proc. | B12: Taikoma, kai priklauso 20 d. d. (jeigu dirbama 5 d. d. per savaitę) arba 24 d. d. (jeigu dirbama 6 d. d. per savaitę) kasmetinės atostogos.
A13: FN-05-02 – 10,44 proc. | B13: Taikoma, kai priklauso nuo 21 iki 25 d. d. (jeigu dirbama 5 d. d. per savaitę) arba nuo 25 iki 30 d. d. (jeigu dirbama 6 d. d. per savaitę) kasmetinės atostogos
A14: FN-05-03 – 12,35 proc. | B14: Taikoma, kai priklauso nuo 26 iki 30 d. d. (jeigu dirbama 5 d. d. per savaitę) arba nuo 31 iki 36 d. d. (jeigu dirbama 6 d. d. per savaitę) kasmetinės atostogos
A15: FN-05-04 – 14,99 proc. | B15: Taikoma, kai priklauso nuo 31 iki 36 d. d. (jeigu dirbama 5 d. d. per savaitę) arba nuo 37 iki 42 d. d. (jeigu dirbama 6 d. d. per savaitę) kasmetinės atostogos
A16: FN-05-05 – 17,25 proc. | B16: Taikoma, kai priklauso nuo 37 iki 39 d. d. (jeigu dirbama 5 d. d. per savaitę) arba nuo 43 iki 47 d. d. (jeigu dirbama 6 d. d. per savaitę) kasmetinės atostogos
A17: FN-05-06 – 18,89 proc. | B17: Taikoma, kai priklauso 40 d. d. (jeigu dirbama 5 d. d. per savaitę) arba 48 d. d. (jeigu dirbama 6 d. d. per savaitę) kasmetinės atostogos
A18: FN-05-07 – 20,02 proc. | B18: Taikoma, kai priklauso nuo 41 d. d. (jeigu dirbama 5 d. d. per savaitę) arba nuo 49 d. d. (jeigu dirbama 6 d. d. per savaitę) kasmetinės atostogos

Sheet Papild.poilsio d. išmokų FN 
A1: KASMETINIŲ ATOSTOGŲ IŠMOKŲ FIKSUOTŲJŲ NORMŲ NUSTATYMO TYRIMO ATASKAITOS
A2: 3 priedas. Papildomų poilsio dienų išmokų fiksuotosios normos
A5: Darbo savaitės trukmė | B5: Vidutinis mėnesio darbo valandų skaičius | C5: Papildomų poilsio dienų išmokų fiksuotosios normos nuo tinkamų finansuoti darbo užmokesčio išlaidų, kai papildomų poilsio dienų skaičius per mėnesį yra (dienomis/valandomis):
C6: 0.5 | D6: 1 | E6: 1.5 | F6: 2 | G6: 2.5 | H6: 3 | I6: 3.5 | J6: 4 | K6: 4.5 | L6: 5 | M6: 6 | N6: 7 | O6: 8 | P6: 9 | Q6: 10
C7: 4 | D7: 8 | E7: 12 | F7: 16 | G7: 20 | H7: 24 | I7: 28 | J7: 32 | K7: 36 | L7: 40 | M7: 48 | N7: 56 | O7: 64 | P7: 72 | Q7: 80
A8: Bendra (5 ir 6 d.d. savaitė) | B8: 167.3 | C8: {=ROUND(C7/($B$8-C7)*100,2)} -> 2.45 | D8: {=ROUND(D7/($B$8-D7)*100,2)} -> 5.02 | E8: {=ROUND(E7/($B$8-E7)*100,2)} -> 7.73 | F8: {=ROUND(F7/($B$8-F7)*100,2)} -> 10.58 | G8: {=ROUND(G7/($B$8-G7)*100,2)} -> 13.58 | H8: {=ROUND(H7/($B$8-H7)*100,2)} -> 16.75 | I8: {=ROUND(I7/($B$8-I7)*100,2)} -> 20.1 | J8: {=ROUND(J7/($B$8-J7)*100,2)} -> 23.65 | ... Q8: {=ROUND(Q7/($B$8-Q7)*100,2)} -> 91.64
