Workbook

Sheet Export Summary
B3: This document was exported from Numbers. Each table was converted to an Excel worksheet. All other objects on each Numbers sheet were placed on separate worksheets. Please be aware that formula calculations may differ in Excel.
B7: Numbers Sheet Name | C7: Numbers Table Name | D7: Excel Worksheet Name
B9: Pažyma
C10: Table 1 | D10: Pažyma
B11: Pažyma pvz.
C12: Table 1 | D12: Pažyma pvz.
B13: Atostogų išmokų FN
C14: Table 1 | D14: Atostogų išmokų FN
B15: Papild.poilsio d. išmokų FN
C16: Table 1 | D16: Papild.poilsio d. išmokų FN

Sheet Pažyma  
B2: PAŽYMA DĖL DARBO UŽMOKESČIO PRISKAITYMO, IŠMOKĖJIMO IR PRISKYRIMO PROJEKTUI, TAIKANT KASMETINIŲ ATOSTOGŲ IŠMOKŲ FIKSUOTĄSIAS NORMAS (FN-05-01, FN-05-02, FN-05-03, FN-05-04, FN-05-05, FN-05-06, FN-05-07)
N5: m. | P5: mėn. | R5: d.
AB6: FN dydis | AC6: Deklaruojama bendra suma
O7: Nr. | AB7: FN-05-01 – 8,63 proc. | AC7: {=_xlfn.SUMIFS($AC$19:$AC$5048,$AB$19:$AB$5048,$AD7)} -> 0 | AD7: 0.0863
AB8: FN-05-02 – 10,44 proc. | AC8: {=_xlfn.SUMIFS($AC$19:$AC$5048,$AB$19:$AB$5048,$AD8)} -> 0 | AD8: 0.1044
B9: 1. BENDROJI DALIS | AB9: FN-05-03 – 12,35 proc. | AC9: {=_xlfn.SUMIFS($AC$19:$AC$5048,$AB$19:$AB$5048,$AD9)} -> 0 | AD9: 0.1235
B10: Projekto / Jungtinio projekto kodas | I10: Nr. 07-018-P-0001 | AB10: FN-05-04 – 14,99 proc. | AC10: {=_xlfn.SUMIFS($AC$19:$AC$5048,$AB$19:$AB$5048,$AD10)} -> 0 | AD10: 0.1499
B11: Projekto pavadinimas | I11: „Perėjimas nuo institucinės globos prie bendruomeninių paslaugų Sostinės regione, Vidurio ir Vakarų Lietuvos regione“ | AB11: FN-05-05 – 17,25 proc. | AC11: {=_xlfn.SUMIFS($AC$19:$AC$5048,$AB$19:$AB$5048,$AD11)} -> 0 | AD11: 0.1725
AB12: FN-05-06 – 18,89 proc. | AC12: {=_xlfn.SUMIFS($AC$19:$AC$5048,$AB$19:$AB$5048,$AD12)} -> 0 | AD12: 0.1889
B13: 2. INFORMACIJA APIE PRISKAITYTĄ IR IŠMOKĖTĄ DARBO UŽMOKESTĮ | AB13: FN-05-07 – 20,02 proc. | AC13: {=_xlfn.SUMIFS($AC$19:$AC$5048,$AB$19:$AB$5048,$AD13)} -> 0 | AD13: 0.2002
B15: Eil. Nr. | C15: Darbdavio pavadinimas | D15: Projekto poveiklės Nr. | E15: Veiksmo / išlaidų tipo Nr. | F15: Vardas, pavardė | G15: Pareigos | H15: Darbo sutarties tipas | I15: Įmokos tarifas nedarbo socaliniam draudimui | J15: Organizacijos tipas* | K15: Įmokos tarifas nelaimingų atsitikimų, ilgalaikio darbo ir garantiniam draudimui | L15: Metai, už kuriuos deklaruojamas darbo užmokestis | M15: Mėnuo, už kurį deklaruojamas darbo užmokestis | N15: Projektinei pareigybei nustatytas įkainis (valandinis; mėnesinis) | O15: Projektinei pareigybei nustatytas darbo užmokestis, Eur | P15: Nustatytas darbo laikas projekte per mėn., (val. / d.) | Q15: Faktiškai dirbta projekte, val./d. | R15: Priskaičiuotas darbo užmokestis ir susijusios sąnaudos (projektinei pareigybei) | Y15: Prašomų pripažinti tinkamomis finansuoti darbo užmokesčio išlaidų su darbdavio įmokomis, Eur | Z15: Darbo savaitės trukmė darbo dienomis | AA15: Kasmetinių atostogų darbo dienų skaičius | AB15: Nustatyta kasmetinių atostogų išmokų fiksuotoji norma | AC15: Deklaruojamos kasmetinių atostogų sąnaudos (įskaitant darbdavio mokesčius), Eur | AD15: Komentaras*****
R16: Projektinei pareigybei priskaitytas darbo užmokestis, Eur | S16: Priedai ir priemokos, Eur | T16: Mėnesinės premijos arba mėnesiui tenkanti premijų dalis, Eur (DK 139 str. 2 d. 5 p.)*** | U16: Darbo užmokestis už viršvalandinį darbą, darbą poilsio ir švenčių dienomis, darbą naktį, Eur **** | V16: Darbdavio mokama ligos pašalpa, Eur | W16: Darbo užmokestis už papildomą poilsio laiką, kuris suteiktas pagal LR DK 112 str. 5 d., Eur | X16: Darbo užmokestis už papildomas poilsio dienas, Eur (DK 138 str. 3 d.)
B18: 1 | C18: 2 | D18: 3 | E18: 4 | F18: 5 | G18: 6 | H18: 7 | I18: 8 | J18: 9 | K18: 10 | L18: 11 | M18: 12 | N18: 13 | O18: 14 | P18: 15 | Q18: 16 | R18: 17 | S18: 18 | T18: 19 | U18: 20 | V18: 21 | W18: 22 | X18: 23 | Y18: 24 | Z18: 25 | AA18: 26 | AB18: 27 | AC18: 28 | AD18: 29
B19: {=IF(OR(D19<>"",F19<>""),1,"")} -> 1 | D19: 2.1. | E19: 2.1.7 | I19: {=IF(H19="Neterminuota",0.0131,IF(H19="Terminuota",0.0203,0))} -> 0 | K19: {=IF(J19="Biudžetinė",0.0014,IF(J19="Verslo įm. ir kt.",0.0046,IF(J19="Kitos organizacijos**",0.003,0)))} -> 0 | R19: {=IF(N19="Mėnesinis",ROUND(O19/P19*Q19,2),IF(N19="Valandinis",ROUND(O19*Q19,2)," "))} | Y19: {=_xlfn.IFERROR(ROUND(((I19+K19)*(R19+S19+T19+U19+W19+X19))+(R19+S19+T19+U19+W19+X19)+V19,2),"0")} -> 0 | AB19: {=IF(OR(Z19="",AA19=""),"",VLOOKUP(CONCATENATE(Z19," dienų darbo savaitė"),'Atostogų išmokų FN'!$A$7:$AH$8,AA19-16)/100)} | AC19: {=ROUND(IF(Z19="",0,(SUM(R19:U19,W19)*(1+(I19+K19))*AB19)),2)} -> 0 | AN19: {=LEFT(D19,3)} -> 2.1 | AO19: {=LEFT(E19,3)} -> 2.1
B20: {=IF(OR(D20<>"",F20<>"",D21<>"",F21<>""),B19+1,"")} | I20: {=IF(H20="Neterminuota",0.0131,IF(H20="Terminuota",0.0203,0))} -> 0 | K20: {=IF(J20="Biudžetinė",0.0014,IF(J20="Verslo įm. ir kt.",0.0046,IF(J20="Kitos organizacijos**",0.003,0)))} -> 0 | R20: {=IF(N20="Mėnesinis",ROUND(O20/P20*Q20,2),IF(N20="Valandinis",ROUND(O20*Q20,2)," "))} | Y20: {=_xlfn.IFERROR(ROUND(((I20+K20)*(R20+S20+T20+U20+W20+X20))+(R20+S20+T20+U20+W20+X20)+V20,2),"0")} -> 0 | AB20: {=IF(OR(Z20="",AA20=""),"",VLOOKUP(CONCATENATE(Z20," dienų darbo savaitė"),'Atostogų išmokų FN'!$A$7:$AH$8,AA20-16)/100)} | AC20: {=ROUND(IF(Z20="",0,(SUM(R20:U20,W20)*(1+(I20+K20))*AB20)),2)} -> 0 | AN20: {=LEFT(D20,3)} | AO20: {=LEFT(E20,3)}
B21: {=IF(OR(D21<>"",F21<>"",D22<>"",F22<>""),B20+1,"")} | I21: {=IF(H21="Neterminuota",0.0131,IF(H21="Terminuota",0.0203,0))} -> 0 | K21: {=IF(J21="Biudžetinė",0.0014,IF(J21="Verslo įm. ir kt.",0.0046,IF(J21="Kitos organizacijos**",0.003,0)))} -> 0 | R21: {=IF(N21="Mėnesinis",ROUND(O21/P21*Q21,2),IF(N21="Valandinis",ROUND(O21*Q21,2)," "))} | Y21: {=_xlfn.IFERROR(ROUND(((I21+K21)*(R21+S21+T21+U21+W21+X21))+(R21+S21+T21+U21+W21+X21)+V21,2),"0")} -> 0 | AB21: {=IF(OR(Z21="",AA21=""),"",VLOOKUP(CONCATENATE(Z21," dienų darbo savaitė"),'Atostogų išmokų FN'!$A$7:$AH$8,AA21-16)/100)} | AC21: {=ROUND(IF(Z21="",0,(SUM(R21:U21,W21)*(1+(I21+K21))*AB21)),2)} -> 0 | AN21: {=LEFT(D21,3)} | AO21: {=LEFT(E21,3)}
B22: {=IF(OR(D22<>"",F22<>"",D23<>"",F23<>""),B21+1,"")} | I22: {=IF(H22="Neterminuota",0.0131,IF(H22="Terminuota",0.0203,0))} -> 0 | K22: {=IF(J22="Biudžetinė",0.0014,IF(J22="Verslo įm. ir kt.",0.0046,IF(J22="Kitos organizacijos**",0.003,0)))} -> 0 | R22: {=IF(N22="Mėnesinis",ROUND(O22/P22*Q22,2),IF(N22="Valandinis",ROUND(O22*Q22,2)," "))} | Y22: {=_xlfn.IFERROR(ROUND(((I22+K22)*(R22+S22+T22+U22+W22+X22))+(R22+S22+T22+U22+W22+X22)+V22,2),"0")} -> 0 | AB22: {=IF(OR(Z22="",AA22=""),"",VLOOKUP(CONCATENATE(Z22," dienų darbo savaitė"),'Atostogų išmokų FN'!$A$7:$AH$8,AA22-16)/100)} | AC22: {=ROUND(IF(Z22="",0,(SUM(R22:U22,W22)*(1+(I22+K22))*AB22)),2)} -> 0 | AN22: {=LEFT(D22,3)} | AO22: {=LEFT(E22,3)}
B23: {=IF(OR(D23<>"",F23<>"",D24<>"",F24<>""),B22+1,"")} | I23: {=IF(H23="Neterminuota",0.0131,IF(H23="Terminuota",0.0203,0))} -> 0 | K23: {=IF(J23="Biudžetinė",0.0014,IF(J23="Verslo įm. ir kt.",0.0046,IF(J23="Kitos organizacijos**",0.003,0)))} -> 0 | R23: {=IF(N23="Mėnesinis",ROUND(O23/P23*Q23,2),IF(N23="Valandinis",ROUND(O23*Q23,2)," "))} | Y23: {=_xlfn.IFERROR(ROUND(((I23+K23)*(R23+S23+T23+U23+W23+X23))+(R23+S23+T23+U23+W23+X23)+V23,2),"0")} -> 0 | AB23: {=IF(OR(Z23="",AA23=""),"",VLOOKUP(CONCATENATE(Z23," dienų darbo savaitė"),'Atostogų išmokų FN'!$A$7:$AH$8,AA23-16)/100)} | AC23: {=ROUND(IF(Z23="",0,(SUM(R23:U23,W23)*(1+(I23+K23))*AB23)),2)} -> 0 | AN23: {=LEFT(D23,3)} | AO23: {=LEFT(E23,3)}
B24: {=IF(OR(D24<>"",F24<>"",D25<>"",F25<>""),B23+1,"")} | I24: {=IF(H24="Neterminuota",0.0131,IF(H24="Terminuota",0.0203,0))} -> 0 | K24: {=IF(J24="Biudžetinė",0.0014,IF(J24="Verslo įm. ir kt.",0.0046,IF(J24="Kitos organizacijos**",0.003,0)))} -> 0 | R24: {=IF(N24="Mėnesinis",ROUND(O24/P24*Q24,2),IF(N24="Valandinis",ROUND(O24*Q24,2)," "))} | Y24: {=_xlfn.IFERROR(ROUND(((I24+K24)*(R24+S24+T24+U24+W24+X24))+(R24+S24+T24+U24+W24+X24)+V24,2),"0")} -> 0 | AB24: {=IF(OR(Z24="",AA24=""),"",VLOOKUP(CONCATENATE(Z24," dienų darbo savaitė"),'Atostogų išmokų FN'!$A$7:$AH$8,AA24-16)/100)} | AC24: {=ROUND(IF(Z24="",0,(SUM(R24:U24,W24)*(1+(I24+K24))*AB24)),2)} -> 0 | AN24: {=LEFT(D24,3)} | AO24: {=LEFT(E24,3)}
B25: {=IF(OR(D25<>"",F25<>"",D26<>"",F26<>""),B24+1,"")} | I25: {=IF(H25="Neterminuota",0.0131,IF(H25="Terminuota",0.0203,0))} -> 0 | K25: {=IF(J25="Biudžetinė",0.0014,IF(J25="Verslo įm. ir kt.",0.0046,IF(J25="Kitos organizacijos**",0.003,0)))} -> 0 | R25: {=IF(N25="Mėnesinis",ROUND(O25/P25*Q25,2),IF(N25="Valandinis",ROUND(O25*Q25,2)," "))} | Y25: {=_xlfn.IFERROR(ROUND(((I25+K25)*(R25+S25+T25+U25+W25+X25))+(R25+S25+T25+U25+W25+X25)+V25,2),"0")} -> 0 | AB25: {=IF(OR(Z25="",AA25=""),"",VLOOKUP(CONCATENATE(Z25," dienų darbo savaitė"),'Atostogų išmokų FN'!$A$7:$AH$8,AA25-16)/100)} | AC25: {=ROUND(IF(Z25="",0,(SUM(R25:U25,W25)*(1+(I25+K25))*AB25)),2)} -> 0 | AN25: {=LEFT(D25,3)} | AO25: {=LEFT(E25,3)}
B26: {=IF(OR(D26<>"",F26<>"",D27<>"",F27<>""),B25+1,"")} | I26: {=IF(H26="Neterminuota",0.0131,IF(H26="Terminuota",0.0203,0))} -> 0 | K26: {=IF(J26="Biudžetinė",0.0014,IF(J26="Verslo įm. ir kt.",0.0046,IF(J26="Kitos organizacijos**",0.003,0)))} -> 0 | R26: {=IF(N26="Mėnesinis",ROUND(O26/P26*Q26,2),IF(N26="Valandinis",ROUND(O26*Q26,2)," "))} | Y26: {=_xlfn.IFERROR(ROUND(((I26+K26)*(R26+S26+T26+U26+W26+X26))+(R26+S26+T26+U26+W26+X26)+V26,2),"0")} -> 0 | AB26: {=IF(OR(Z26="",AA26=""),"",VLOOKUP(CONCATENATE(Z26," dienų darbo savaitė"),'Atostogų išmokų FN'!$A$7:$AH$8,AA26-16)/100)} | AC26: {=ROUND(IF(Z26="",0,(SUM(R26:U26,W26)*(1+(I26+K26))*AB26)),2)} -> 0 | AN26: {=LEFT(D26,3)} | AO26: {=LEFT(E26,3)}
B27: {=IF(OR(D27<>"",F27<>"",D28<>"",F28<>""),B26+1,"")} | I27: {=IF(H27="Neterminuota",0.0131,IF(H27="Terminuota",0.0203,0))} -> 0 | K27: {=IF(J27="Biudžetinė",0.0014,IF(J27="Verslo įm. ir kt.",0.0046,IF(J27="Kitos organizacijos**",0.003,0)))} -> 0 | R27: {=IF(N27="Mėnesinis",ROUND(O27/P27*Q27,2),IF(N27="Valandinis",ROUND(O27*Q27,2)," "))} | Y27: {=_xlfn.IFERROR(ROUND(((I27+K27)*(R27+S27+T27+U27+W27+X27))+(R27+S27+T27+U27+W27+X27)+V27,2),"0")} -> 0 | AB27: {=IF(OR(Z27="",AA27=""),"",VLOOKUP(CONCATENATE(Z27," dienų darbo savaitė"),'Atostogų išmokų FN'!$A$7:$AH$8,AA27-16)/100)} | AC27: {=ROUND(IF(Z27="",0,(SUM(R27:U27,W27)*(1+(I27+K27))*AB27)),2)} -> 0 | AN27: {=LEFT(D27,3)} | AO27: {=LEFT(E27,3)}
B28: {=IF(OR(D28<>"",F28<>"",D29<>"",F29<>""),B27+1,"")} | I28: {=IF(H28="Neterminuota",0.0131,IF(H28="Terminuota",0.0203,0))} -> 0 | K28: {=IF(J28="Biudžetinė",0.0014,IF(J28="Verslo įm. ir kt.",0.0046,IF(J28="Kitos organizacijos**",0.003,0)))} -> 0 | R28: {=IF(N28="Mėnesinis",ROUND(O28/P28*Q28,2),IF(N28="Valandinis",ROUND(O28*Q28,2)," "))} | Y28: {=_xlfn.IFERROR(ROUND(((I28+K28)*(R28+S28+T28+U28+W28+X28))+(R28+S28+T28+U28+W28+X28)+V28,2),"0")} -> 0 | AB28: {=IF(OR(Z28="",AA28=""),"",VLOOKUP(CONCATENATE(Z28," dienų darbo savaitė"),'Atostogų išmokų FN'!$A$7:$AH$8,AA28-16)/100)} | AC28: {=ROUND(IF(Z28="",0,(SUM(R28:U28,W28)*(1+(I28+K28))*AB28)),2)} -> 0 | AN28: {=LEFT(D28,3)} | AO28: {=LEFT(E28,3)}
B29: {=IF(OR(D29<>"",F29<>"",D48<>"",F48<>""),B28+1,"")} | I29: {=IF(H29="Neterminuota",0.0131,IF(H29="Terminuota",0.0203,0))} -> 0 | K29: {=IF(J29="Biudžetinė",0.0014,IF(J29="Verslo įm. ir kt.",0.0046,IF(J29="Kitos organizacijos**",0.003,0)))} -> 0 | R29: {=IF(N29="Mėnesinis",ROUND(O29/P29*Q29,2),IF(N29="Valandinis",ROUND(O29*Q29,2)," "))} | Y29: {=_xlfn.IFERROR(ROUND(((I29+K29)*(R29+S29+T29+U29+W29+X29))+(R29+S29+T29+U29+W29+X29)+V29,2),"0")} -> 0 | AB29: {=IF(OR(Z29="",AA29=""),"",VLOOKUP(CONCATENATE(Z29," dienų darbo savaitė"),'Atostogų išmokų FN'!$A$7:$AH$8,AA29-16)/100)} | AC29: {=ROUND(IF(Z29="",0,(SUM(R29:U29,W29)*(1+(I29+K29))*AB29)),2)} -> 0 | AN29: {=LEFT(D29,3)} | AO29: {=LEFT(E29,3)}
I30: {=IF(H30="Neterminuota",0.0131,IF(H30="Terminuota",0.0203,0))} -> 0 | K30: {=IF(J30="Biudžetinė",0.0014,IF(J30="Verslo įm. ir kt.",0.0046,IF(J30="Kitos organizacijos**",0.003,0)))} -> 0 | R30: {=IF(N30="Mėnesinis",ROUND(O30/P30*Q30,2),IF(N30="Valandinis",ROUND(O30*Q30,2)," "))} | Y30: {=_xlfn.IFERROR(ROUND(((I30+K30)*(R30+S30+T30+U30+W30+X30))+(R30+S30+T30+U30+W30+X30)+V30,2),"0")} -> 0 | AB30: {=IF(OR(Z30="",AA30=""),"",VLOOKUP(CONCATENATE(Z30," dienų darbo savaitė"),'Atostogų išmokų FN'!$A$7:$AH$8,AA30-16)/100)} | AC30: {=ROUND(IF(Z30="",0,(SUM(R30:U30,W30)*(1+(I30+K30))*AB30)),2)} -> 0 | AN30: {=LEFT(D30,3)} | AO30: {=LEFT(E30,3)}
I31: {=IF(H31="Neterminuota",0.0131,IF(H31="Terminuota",0.0203,0))} -> 0 | K31: {=IF(J31="Biudžetinė",0.0014,IF(J31="Verslo įm. ir kt.",0.0046,IF(J31="Kitos organizacijos**",0.003,0)))} -> 0 | R31: {=IF(N31="Mėnesinis",ROUND(O31/P31*Q31,2),IF(N31="Valandinis",ROUND(O31*Q31,2)," "))} | Y31: {=_xlfn.IFERROR(ROUND(((I31+K31)*(R31+S31+T31+U31+W31+X31))+(R31+S31+T31+U31+W31+X31)+V31,2),"0")} -> 0 | AB31: {=IF(OR(Z31="",AA31=""),"",VLOOKUP(CONCATENATE(Z31," dienų darbo savaitė"),'Atostogų išmokų FN'!$A$7:$AH$8,AA31-16)/100)} | AC31: {=ROUND(IF(Z31="",0,(SUM(R31:U31,W31)*(1+(I31+K31))*AB31)),2)} -> 0 | AN31: {=LEFT(D31,3)} | AO31: {=LEFT(E31,3)}
I32: {=IF(H32="Neterminuota",0.0131,IF(H32="Terminuota",0.0203,0))} -> 0 | K32: {=IF(J32="Biudžetinė",0.0014,IF(J32="Verslo įm. ir kt.",0.0046,IF(J32="Kitos organizacijos**",0.003,0)))} -> 0 | R32: {=IF(N32="Mėnesinis",ROUND(O32/P32*Q32,2),IF(N32="Valandinis",ROUND(O32*Q32,2)," "))} | Y32: {=_xlfn.IFERROR(ROUND(((I32+K32)*(R32+S32+T32+U32+W32+X32))+(R32+S32+T32+U32+W32+X32)+V32,2),"0")} -> 0 | AB32: {=IF(OR(Z32="",AA32=""),"",VLOOKUP(CONCATENATE(Z32," dienų darbo savaitė"),'Atostogų išmokų FN'!$A$7:$AH$8,AA32-16)/100)} | AC32: {=ROUND(IF(Z32="",0,(SUM(R32:U32,W32)*(1+(I32+K32))*AB32)),2)} -> 0 | AN32: {=LEFT(D32,3)} | AO32: {=LEFT(E32,3)}
I33: {=IF(H33="Neterminuota",0.0131,IF(H33="Terminuota",0.0203,0))} -> 0 | K33: {=IF(J33="Biudžetinė",0.0014,IF(J33="Verslo įm. ir kt.",0.0046,IF(J33="Kitos organizacijos**",0.003,0)))} -> 0 | R33: {=IF(N33="Mėnesinis",ROUND(O33/P33*Q33,2),IF(N33="Valandinis",ROUND(O33*Q33,2)," "))} | Y33: {=_xlfn.IFERROR(ROUND(((I33+K33)*(R33+S33+T33+U33+W33+X33))+(R33+S33+T33+U33+W33+X33)+V33,2),"0")} -> 0 | AB33: {=IF(OR(Z33="",AA33=""),"",VLOOKUP(CONCATENATE(Z33," dienų darbo savaitė"),'Atostogų išmokų FN'!$A$7:$AH$8,AA33-16)/100)} | AC33: {=ROUND(IF(Z33="",0,(SUM(R33:U33,W33)*(1+(I33+K33))*AB33)),2)} -> 0 | AN33: {=LEFT(D33,3)} | AO33: {=LEFT(E33,3)}
I34: {=IF(H34="Neterminuota",0.0131,IF(H34="Terminuota",0.0203,0))} -> 0 | K34: {=IF(J34="Biudžetinė",0.0014,IF(J34="Verslo įm. ir kt.",0.0046,IF(J34="Kitos organizacijos**",0.003,0)))} -> 0 | R34: {=IF(N34="Mėnesinis",ROUND(O34/P34*Q34,2),IF(N34="Valandinis",ROUND(O34*Q34,2)," "))} | Y34: {=_xlfn.IFERROR(ROUND(((I34+K34)*(R34+S34+T34+U34+W34+X34))+(R34+S34+T34+U34+W34+X34)+V34,2),"0")} -> 0 | AB34: {=IF(OR(Z34="",AA34=""),"",VLOOKUP(CONCATENATE(Z34," dienų darbo savaitė"),'Atostogų išmokų FN'!$A$7:$AH$8,AA34-16)/100)} | AC34: {=ROUND(IF(Z34="",0,(SUM(R34:U34,W34)*(1+(I34+K34))*AB34)),2)} -> 0 | AN34: {=LEFT(D34,3)} | AO34: {=LEFT(E34,3)}
I35: {=IF(H35="Neterminuota",0.0131,IF(H35="Terminuota",0.0203,0))} -> 0 | K35: {=IF(J35="Biudžetinė",0.0014,IF(J35="Verslo įm. ir kt.",0.0046,IF(J35="Kitos organizacijos**",0.003,0)))} -> 0 | R35: {=IF(N35="Mėnesinis",ROUND(O35/P35*Q35,2),IF(N35="Valandinis",ROUND(O35*Q35,2)," "))} | Y35: {=_xlfn.IFERROR(ROUND(((I35+K35)*(R35+S35+T35+U35+W35+X35))+(R35+S35+T35+U35+W35+X35)+V35,2),"0")} -> 0 | AB35: {=IF(OR(Z35="",AA35=""),"",VLOOKUP(CONCATENATE(Z35," dienų darbo savaitė"),'Atostogų išmokų FN'!$A$7:$AH$8,AA35-16)/100)} | AC35: {=ROUND(IF(Z35="",0,(SUM(R35:U35,W35)*(1+(I35+K35))*AB35)),2)} -> 0 | AN35: {=LEFT(D35,3)} | AO35: {=LEFT(E35,3)}
I36: {=IF(H36="Neterminuota",0.0131,IF(H36="Terminuota",0.0203,0))} -> 0 | K36: {=IF(J36="Biudžetinė",0.0014,IF(J36="Verslo įm. ir kt.",0.0046,IF(J36="Kitos organizacijos**",0.003,0)))} -> 0 | R36: {=IF(N36="Mėnesinis",ROUND(O36/P36*Q36,2),IF(N36="Valandinis",ROUND(O36*Q36,2)," "))} | Y36: {=_xlfn.IFERROR(ROUND(((I36+K36)*(R36+S36+T36+U36+W36+X36))+(R36+S36+T36+U36+W36+X36)+V36,2),"0")} -> 0 | AB36: {=IF(OR(Z36="",AA36=""),"",VLOOKUP(CONCATENATE(Z36," dienų darbo savaitė"),'Atostogų išmokų FN'!$A$7:$AH$8,AA36-16)/100)} | AC36: {=ROUND(IF(Z36="",0,(SUM(R36:U36,W36)*(1+(I36+K36))*AB36)),2)} -> 0 | AN36: {=LEFT(D36,3)} | AO36: {=LEFT(E36,3)}
I37: {=IF(H37="Neterminuota",0.0131,IF(H37="Terminuota",0.0203,0))} -> 0 | K37: {=IF(J37="Biudžetinė",0.0014,IF(J37="Verslo įm. ir kt.",0.0046,IF(J37="Kitos organizacijos**",0.003,0)))} -> 0 | R37: {=IF(N37="Mėnesinis",ROUND(O37/P37*Q37,2),IF(N37="Valandinis",ROUND(O37*Q37,2)," "))} | Y37: {=_xlfn.IFERROR(ROUND(((I37+K37)*(R37+S37+T37+U37+W37+X37))+(R37+S37+T37+U37+W37+X37)+V37,2),"0")} -> 0 | AB37: {=IF(OR(Z37="",AA37=""),"",VLOOKUP(CONCATENATE(Z37," dienų darbo savaitė"),'Atostogų išmokų FN'!$A$7:$AH$8,AA37-16)/100)} | AC37: {=ROUND(IF(Z37="",0,(SUM(R37:U37,W37)*(1+(I37+K37))*AB37)),2)} -> 0 | AN37: {=LEFT(D37,3)} | AO37: {=LEFT(E37,3)}
I38: {=IF(H38="Neterminuota",0.0131,IF(H38="Terminuota",0.0203,0))} -> 0 | K38: {=IF(J38="Biudžetinė",0.0014,IF(J38="Verslo įm. ir kt.",0.0046,IF(J38="Kitos organizacijos**",0.003,0)))} -> 0 | R38: {=IF(N38="Mėnesinis",ROUND(O38/P38*Q38,2),IF(N38="Valandinis",ROUND(O38*Q38,2)," "))} | Y38: {=_xlfn.IFERROR(ROUND(((I38+K38)*(R38+S38+T38+U38+W38+X38))+(R38+S38+T38+U38+W38+X38)+V38,2),"0")} -> 0 | AB38: {=IF(OR(Z38="",AA38=""),"",VLOOKUP(CONCATENATE(Z38," dienų darbo savaitė"),'Atostogų išmokų FN'!$A$7:$AH$8,AA38-16)/100)} | AC38: {=ROUND(IF(Z38="",0,(SUM(R38:U38,W38)*(1+(I38+K38))*AB38)),2)} -> 0 | AN38: {=LEFT(D38,3)} | AO38: {=LEFT(E38,3)}
I39: {=IF(H39="Neterminuota",0.0131,IF(H39="Terminuota",0.0203,0))} -> 0 | K39: {=IF(J39="Biudžetinė",0.0014,IF(J39="Verslo įm. ir kt.",0.0046,IF(J39="Kitos organizacijos**",0.003,0)))} -> 0 | R39: {=IF(N39="Mėnesinis",ROUND(O39/P39*Q39,2),IF(N39="Valandinis",ROUND(O39*Q39,2)," "))} | Y39: {=_xlfn.IFERROR(ROUND(((I39+K39)*(R39+S39+T39+U39+W39+X39))+(R39+S39+T39+U39+W39+X39)+V39,2),"0")} -> 0 | AB39: {=IF(OR(Z39="",AA39=""),"",VLOOKUP(CONCATENATE(Z39," dienų darbo savaitė"),'Atostogų išmokų FN'!$A$7:$AH$8,AA39-16)/100)} | AC39: {=ROUND(IF(Z39="",0,(SUM(R39:U39,W39)*(1+(I39+K39))*AB39)),2)} -> 0 | AN39: {=LEFT(D39,3)} | AO39: {=LEFT(E39,3)}
I40: {=IF(H40="Neterminuota",0.0131,IF(H40="Terminuota",0.0203,0))} -> 0 | K40: {=IF(J40="Biudžetinė",0.0014,IF(J40="Verslo įm. ir kt.",0.0046,IF(J40="Kitos organizacijos**",0.003,0)))} -> 0 | R40: {=IF(N40="Mėnesinis",ROUND(O40/P40*Q40,2),IF(N40="Valandinis",ROUND(O40*Q40,2)," "))} | Y40: {=_xlfn.IFERROR(ROUND(((I40+K40)*(R40+S40+T40+U40+W40+X40))+(R40+S40+T40+U40+W40+X40)+V40,2),"0")} -> 0 | AB40: {=IF(OR(Z40="",AA40=""),"",VLOOKUP(CONCATENATE(Z40," dienų darbo savaitė"),'Atostogų išmokų FN'!$A$7:$AH$8,AA40-16)/100)} | AC40: {=ROUND(IF(Z40="",0,(SUM(R40:U40,W40)*(1+(I40+K40))*AB40)),2)} -> 0 | AN40: {=LEFT(D40,3)} | AO40: {=LEFT(E40,3)}
I41: {=IF(H41="Neterminuota",0.0131,IF(H41="Terminuota",0.0203,0))} -> 0 | K41: {=IF(J41="Biudžetinė",0.0014,IF(J41="Verslo įm. ir kt.",0.0046,IF(J41="Kitos organizacijos**",0.003,0)))} -> 0 | R41: {=IF(N41="Mėnesinis",ROUND(O41/P41*Q41,2),IF(N41="Valandinis",ROUND(O41*Q41,2)," "))} | Y41: {=_xlfn.IFERROR(ROUND(((I41+K41)*(R41+S41+T41+U41+W41+X41))+(R41+S41+T41+U41+W41+X41)+V41,2),"0")} -> 0 | AB41: {=IF(OR(Z41="",AA41=""),"",VLOOKUP(CONCATENATE(Z41," dienų darbo savaitė"),'Atostogų išmokų FN'!$A$7:$AH$8,AA41-16)/100)} | AC41: {=ROUND(IF(Z41="",0,(SUM(R41:U41,W41)*(1+(I41+K41))*AB41)),2)} -> 0 | AN41: {=LEFT(D41,3)} | AO41: {=LEFT(E41,3)}
... I47: {=IF(H47="Neterminuota",0.0131,IF(H47="Terminuota",0.0203,0))} -> 0 | K47: {=IF(J47="Biudžetinė",0.0014,IF(J47="Verslo įm. ir kt.",0.0046,IF(J47="Kitos organizacijos**",0.003,0)))} -> 0 | R47: {=IF(N47="Mėnesinis",ROUND(O47/P47*Q47,2),IF(N47="Valandinis",ROUND(O47*Q47,2)," "))} | Y47: {=_xlfn.IFERROR(ROUND(((I47+K47)*(R47+S47+T47+U47+W47+X47))+(R47+S47+T47+U47+W47+X47)+V47,2),"0")} -> 0 | AB47: {=IF(OR(Z47="",AA47=""),"",VLOOKUP(CONCATENATE(Z47," dienų darbo savaitė"),'Atostogų išmokų FN'!$A$7:$AH$8,AA47-16)/100)} | AC47: {=ROUND(IF(Z47="",0,(SUM(R47:U47,W47)*(1+(I47+K47))*AB47)),2)} -> 0 | AN47: {=LEFT(D47,3)} | AO47: {=LEFT(E47,3)}
B48: {=IF(OR(D48<>"",F48<>"",D63<>"",F63<>""),B29+1,"")} | I48: {=IF(H48="Neterminuota",0.0131,IF(H48="Terminuota",0.0203,0))} -> 0 | K48: {=IF(J48="Biudžetinė",0.0014,IF(J48="Verslo įm. ir kt.",0.0046,IF(J48="Kitos organizacijos**",0.003,0)))} -> 0 | R48: {=IF(N48="Mėnesinis",ROUND(O48/P48*Q48,2),IF(N48="Valandinis",ROUND(O48*Q48,2)," "))} | Y48: {=_xlfn.IFERROR(ROUND(((I48+K48)*(R48+S48+T48+U48+W48+X48))+(R48+S48+T48+U48+W48+X48)+V48,2),"0")} -> 0 | AB48: {=IF(OR(Z48="",AA48=""),"",VLOOKUP(CONCATENATE(Z48," dienų darbo savaitė"),'Atostogų išmokų FN'!$A$7:$AH$8,AA48-16)/100)} | AC48: {=ROUND(IF(Z48="",0,(SUM(R48:U48,W48)*(1+(I48+K48))*AB48)),2)} -> 0 | AN48: {=LEFT(D48,3)} | AO48: {=LEFT(E48,3)}
I49: {=IF(H49="Neterminuota",0.0131,IF(H49="Terminuota",0.0203,0))} -> 0 | K49: {=IF(J49="Biudžetinė",0.0014,IF(J49="Verslo įm. ir kt.",0.0046,IF(J49="Kitos organizacijos**",0.003,0)))} -> 0 | R49: {=IF(N49="Mėnesinis",ROUND(O49/P49*Q49,2),IF(N49="Valandinis",ROUND(O49*Q49,2)," "))} | Y49: {=_xlfn.IFERROR(ROUND(((I49+K49)*(R49+S49+T49+U49+W49+X49))+(R49+S49+T49+U49+W49+X49)+V49,2),"0")} -> 0 | AB49: {=IF(OR(Z49="",AA49=""),"",VLOOKUP(CONCATENATE(Z49," dienų darbo savaitė"),'Atostogų išmokų FN'!$A$7:$AH$8,AA49-16)/100)} | AC49: {=ROUND(IF(Z49="",0,(SUM(R49:U49,W49)*(1+(I49+K49))*AB49)),2)} -> 0 | AN49: {=LEFT(D49,3)} | AO49: {=LEFT(E49,3)}
I50: {=IF(H50="Neterminuota",0.0131,IF(H50="Terminuota",0.0203,0))} -> 0 | K50: {=IF(J50="Biudžetinė",0.0014,IF(J50="Verslo įm. ir kt.",0.0046,IF(J50="Kitos organizacijos**",0.003,0)))} -> 0 | R50: {=IF(N50="Mėnesinis",ROUND(O50/P50*Q50,2),IF(N50="Valandinis",ROUND(O50*Q50,2)," "))} | Y50: {=_xlfn.IFERROR(ROUND(((I50+K50)*(R50+S50+T50+U50+W50+X50))+(R50+S50+T50+U50+W50+X50)+V50,2),"0")} -> 0 | AB50: {=IF(OR(Z50="",AA50=""),"",VLOOKUP(CONCATENATE(Z50," dienų darbo savaitė"),'Atostogų išmokų FN'!$A$7:$AH$8,AA50-16)/100)} | AC50: {=ROUND(IF(Z50="",0,(SUM(R50:U50,W50)*(1+(I50+K50))*AB50)),2)} -> 0 | AN50: {=LEFT(D50,3)} | AO50: {=LEFT(E50,3)}
I51: {=IF(H51="Neterminuota",0.0131,IF(H51="Terminuota",0.0203,0))} -> 0 | K51: {=IF(J51="Biudžetinė",0.0014,IF(J51="Verslo įm. ir kt.",0.0046,IF(J51="Kitos organizacijos**",0.003,0)))} -> 0 | R51: {=IF(N51="Mėnesinis",ROUND(O51/P51*Q51,2),IF(N51="Valandinis",ROUND(O51*Q51,2)," "))} | Y51: {=_xlfn.IFERROR(ROUND(((I51+K51)*(R51+S51+T51+U51+W51+X51))+(R51+S51+T51+U51+W51+X51)+V51,2),"0")} -> 0 | AB51: {=IF(OR(Z51="",AA51=""),"",VLOOKUP(CONCATENATE(Z51," dienų darbo savaitė"),'Atostogų išmokų FN'!$A$7:$AH$8,AA51-16)/100)} | AC51: {=ROUND(IF(Z51="",0,(SUM(R51:U51,W51)*(1+(I51+K51))*AB51)),2)} -> 0 | AN51: {=LEFT(D51,3)} | AO51: {=LEFT(E51,3)}
I52: {=IF(H52="Neterminuota",0.0131,IF(H52="Terminuota",0.0203,0))} -> 0 | K52: {=IF(J52="Biudžetinė",0.0014,IF(J52="Verslo įm. ir kt.",0.0046,IF(J52="Kitos organizacijos**",0.003,0)))} -> 0 | R52: {=IF(N52="Mėnesinis",ROUND(O52/P52*Q52,2),IF(N52="Valandinis",ROUND(O52*Q52,2)," "))} | Y52: {=_xlfn.IFERROR(ROUND(((I52+K52)*(R52+S52+T52+U52+W52+X52))+(R52+S52+T52+U52+W52+X52)+V52,2),"0")} -> 0 | AB52: {=IF(OR(Z52="",AA52=""),"",VLOOKUP(CONCATENATE(Z52," dienų darbo savaitė"),'Atostogų išmokų FN'!$A$7:$AH$8,AA52-16)/100)} | AC52: {=ROUND(IF(Z52="",0,(SUM(R52:U52,W52)*(1+(I52+K52))*AB52)),2)} -> 0 | AN52: {=LEFT(D52,3)} | AO52: {=LEFT(E52,3)}
I53: {=IF(H53="Neterminuota",0.0131,IF(H53="Terminuota",0.0203,0))} -> 0 | K53: {=IF(J53="Biudžetinė",0.0014,IF(J53="Verslo įm. ir kt.",0.0046,IF(J53="Kitos organizacijos**",0.003,0)))} -> 0 | R53: {=IF(N53="Mėnesinis",ROUND(O53/P53*Q53,2),IF(N53="Valandinis",ROUND(O53*Q53,2)," "))} | Y53: {=_xlfn.IFERROR(ROUND(((I53+K53)*(R53+S53+T53+U53+W53+X53))+(R53+S53+T53+U53+W53+X53)+V53,2),"0")} -> 0 | AB53: {=IF(OR(Z53="",AA53=""),"",VLOOKUP(CONCATENATE(Z53," dienų darbo savaitė"),'Atostogų išmokų FN'!$A$7:$AH$8,AA53-16)/100)} | AC53: {=ROUND(IF(Z53="",0,(SUM(R53:U53,W53)*(1+(I53+K53))*AB53)),2)} -> 0 | AN53: {=LEFT(D53,3)} | AO53: {=LEFT(E53,3)}
I54: {=IF(H54="Neterminuota",0.0131,IF(H54="Terminuota",0.0203,0))} -> 0 | K54: {=IF(J54="Biudžetinė",0.0014,IF(J54="Verslo įm. ir kt.",0.0046,IF(J54="Kitos organizacijos**",0.003,0)))} -> 0 | R54: {=IF(N54="Mėnesinis",ROUND(O54/P54*Q54,2),IF(N54="Valandinis",ROUND(O54*Q54,2)," "))} | Y54: {=_xlfn.IFERROR(ROUND(((I54+K54)*(R54+S54+T54+U54+W54+X54))+(R54+S54+T54+U54+W54+X54)+V54,2),"0")} -> 0 | AB54: {=IF(OR(Z54="",AA54=""),"",VLOOKUP(CONCATENATE(Z54," dienų darbo savaitė"),'Atostogų išmokų FN'!$A$7:$AH$8,AA54-16)/100)} | AC54: {=ROUND(IF(Z54="",0,(SUM(R54:U54,W54)*(1+(I54+K54))*AB54)),2)} -> 0 | AN54: {=LEFT(D54,3)} | AO54: {=LEFT(E54,3)}
I55: {=IF(H55="Neterminuota",0.0131,IF(H55="Terminuota",0.0203,0))} -> 0 | K55: {=IF(J55="Biudžetinė",0.0014,IF(J55="Verslo įm. ir kt.",0.0046,IF(J55="Kitos organizacijos**",0.003,0)))} -> 0 | R55: {=IF(N55="Mėnesinis",ROUND(O55/P55*Q55,2),IF(N55="Valandinis",ROUND(O55*Q55,2)," "))} | Y55: {=_xlfn.IFERROR(ROUND(((I55+K55)*(R55+S55+T55+U55+W55+X55))+(R55+S55+T55+U55+W55+X55)+V55,2),"0")} -> 0 | AB55: {=IF(OR(Z55="",AA55=""),"",VLOOKUP(CONCATENATE(Z55," dienų darbo savaitė"),'Atostogų išmokų FN'!$A$7:$AH$8,AA55-16)/100)} | AC55: {=ROUND(IF(Z55="",0,(SUM(R55:U55,W55)*(1+(I55+K55))*AB55)),2)} -> 0 | AN55: {=LEFT(D55,3)} | AO55: {=LEFT(E55,3)}
I56: {=IF(H56="Neterminuota",0.0131,IF(H56="Terminuota",0.0203,0))} -> 0 | K56: {=IF(J56="Biudžetinė",0.0014,IF(J56="Verslo įm. ir kt.",0.0046,IF(J56="Kitos organizacijos**",0.003,0)))} -> 0 | R56: {=IF(N56="Mėnesinis",ROUND(O56/P56*Q56,2),IF(N56="Valandinis",ROUND(O56*Q56,2)," "))} | Y56: {=_xlfn.IFERROR(ROUND(((I56+K56)*(R56+S56+T56+U56+W56+X56))+(R56+S56+T56+U56+W56+X56)+V56,2),"0")} -> 0 | AB56: {=IF(OR(Z56="",AA56=""),"",VLOOKUP(CONCATENATE(Z56," dienų darbo savaitė"),'Atostogų išmokų FN'!$A$7:$AH$8,AA56-16)/100)} | AC56: {=ROUND(IF(Z56="",0,(SUM(R56:U56,W56)*(1+(I56+K56))*AB56)),2)} -> 0 | AN56: {=LEFT(D56,3)} | AO56: {=LEFT(E56,3)}
I57: {=IF(H57="Neterminuota",0.0131,IF(H57="Terminuota",0.0203,0))} -> 0 | K57: {=IF(J57="Biudžetinė",0.0014,IF(J57="Verslo įm. ir kt.",0.0046,IF(J57="Kitos organizacijos**",0.003,0)))} -> 0 | R57: {=IF(N57="Mėnesinis",ROUND(O57/P57*Q57,2),IF(N57="Valandinis",ROUND(O57*Q57,2)," "))} | Y57: {=_xlfn.IFERROR(ROUND(((I57+K57)*(R57+S57+T57+U57+W57+X57))+(R57+S57+T57+U57+W57+X57)+V57,2),"0")} -> 0 | AB57: {=IF(OR(Z57="",AA57=""),"",VLOOKUP(CONCATENATE(Z57," dienų darbo savaitė"),'Atostogų išmokų FN'!$A$7:$AH$8,AA57-16)/100)} | AC57: {=ROUND(IF(Z57="",0,(SUM(R57:U57,W57)*(1+(I57+K57))*AB57)),2)} -> 0 | AN57: {=LEFT(D57,3)} | AO57: {=LEFT(E57,3)}
I58: {=IF(H58="Neterminuota",0.0131,IF(H58="Terminuota",0.0203,0))} -> 0 | K58: {=IF(J58="Biudžetinė",0.0014,IF(J58="Verslo įm. ir kt.",0.0046,IF(J58="Kitos organizacijos**",0.003,0)))} -> 0 | R58: {=IF(N58="Mėnesinis",ROUND(O58/P58*Q58,2),IF(N58="Valandinis",ROUND(O58*Q58,2)," "))} | Y58: {=_xlfn.IFERROR(ROUND(((I58+K58)*(R58+S58+T58+U58+W58+X58))+(R58+S58+T58+U58+W58+X58)+V58,2),"0")} -> 0 | AB58: {=IF(OR(Z58="",AA58=""),"",VLOOKUP(CONCATENATE(Z58," dienų darbo savaitė"),'Atostogų išmokų FN'!$A$7:$AH$8,AA58-16)/100)} | AC58: {=ROUND(IF(Z58="",0,(SUM(R58:U58,W58)*(1+(I58+K58))*AB58)),2)} -> 0 | AN58: {=LEFT(D58,3)} | AO58: {=LEFT(E58,3)}
I59: {=IF(H59="Neterminuota",0.0131,IF(H59="Terminuota",0.0203,0))} -> 0 | K59: {=IF(J59="Biudžetinė",0.0014,IF(J59="Verslo įm. ir kt.",0.0046,IF(J59="Kitos organizacijos**",0.003,0)))} -> 0 | R59: {=IF(N59="Mėnesinis",ROUND(O59/P59*Q59,2),IF(N59="Valandinis",ROUND(O59*Q59,2)," "))} | Y59: {=_xlfn.IFERROR(ROUND(((I59+K59)*(R59+S59+T59+U59+W59+X59))+(R59+S59+T59+U59+W59+X59)+V59,2),"0")} -> 0 | AB59: {=IF(OR(Z59="",AA59=""),"",VLOOKUP(CONCATENATE(Z59," dienų darbo savaitė"),'Atostogų išmokų FN'!$A$7:$AH$8,AA59-16)/100)} | AC59: {=ROUND(IF(Z59="",0,(SUM(R59:U59,W59)*(1+(I59+K59))*AB59)),2)} -> 0 | AN59: {=LEFT(D59,3)} | AO59: {=LEFT(E59,3)}
I60: {=IF(H60="Neterminuota",0.0131,IF(H60="Terminuota",0.0203,0))} -> 0 | K60: {=IF(J60="Biudžetinė",0.0014,IF(J60="Verslo įm. ir kt.",0.0046,IF(J60="Kitos organizacijos**",0.003,0)))} -> 0 | R60: {=IF(N60="Mėnesinis",ROUND(O60/P60*Q60,2),IF(N60="Valandinis",ROUND(O60*Q60,2)," "))} | Y60: {=_xlfn.IFERROR(ROUND(((I60+K60)*(R60+S60+T60+U60+W60+X60))+(R60+S60+T60+U60+W60+X60)+V60,2),"0")} -> 0 | AB60: {=IF(OR(Z60="",AA60=""),"",VLOOKUP(CONCATENATE(Z60," dienų darbo savaitė"),'Atostogų išmokų FN'!$A$7:$AH$8,AA60-16)/100)} | AC60: {=ROUND(IF(Z60="",0,(SUM(R60:U60,W60)*(1+(I60+K60))*AB60)),2)} -> 0 | AN60: {=LEFT(D60,3)} | AO60: {=LEFT(E60,3)}
... I62: {=IF(H62="Neterminuota",0.0131,IF(H62="Terminuota",0.0203,0))} -> 0 | K62: {=IF(J62="Biudžetinė",0.0014,IF(J62="Verslo įm. ir kt.",0.0046,IF(J62="Kitos organizacijos**",0.003,0)))} -> 0 | R62: {=IF(N62="Mėnesinis",ROUND(O62/P62*Q62,2),IF(N62="Valandinis",ROUND(O62*Q62,2)," "))} | Y62: {=_xlfn.IFERROR(ROUND(((I62+K62)*(R62+S62+T62+U62+W62+X62))+(R62+S62+T62+U62+W62+X62)+V62,2),"0")} -> 0 | AB62: {=IF(OR(Z62="",AA62=""),"",VLOOKUP(CONCATENATE(Z62," dienų darbo savaitė"),'Atostogų išmokų FN'!$A$7:$AH$8,AA62-16)/100)} | AC62: {=ROUND(IF(Z62="",0,(SUM(R62:U62,W62)*(1+(I62+K62))*AB62)),2)} -> 0 | AN62: {=LEFT(D62,3)} | AO62: {=LEFT(E62,3)}
B63: {=IF(OR(D63<>"",F63<>"",D64<>"",F64<>""),B48+1,"")} | I63: {=IF(H63="Neterminuota",0.0131,IF(H63="Terminuota",0.0203,0))} -> 0 | K63: {=IF(J63="Biudžetinė",0.0014,IF(J63="Verslo įm. ir kt.",0.0046,IF(J63="Kitos organizacijos**",0.003,0)))} -> 0 | R63: {=IF(N63="Mėnesinis",ROUND(O63/P63*Q63,2),IF(N63="Valandinis",ROUND(O63*Q63,2)," "))} | Y63: {=_xlfn.IFERROR(ROUND(((I63+K63)*(R63+S63+T63+U63+W63+X63))+(R63+S63+T63+U63+W63+X63)+V63,2),"0")} -> 0 | AB63: {=IF(OR(Z63="",AA63=""),"",VLOOKUP(CONCATENATE(Z63," dienų darbo savaitė"),'Atostogų išmokų FN'!$A$7:$AH$8,AA63-16)/100)} | AC63: {=ROUND(IF(Z63="",0,(SUM(R63:U63,W63)*(1+(I63+K63))*AB63)),2)} -> 0 | AN63: {=LEFT(D63,3)} | AO63: {=LEFT(E63,3)}
B64: {=IF(OR(D64<>"",F64<>"",D65<>"",F65<>""),B63+1,"")} | I64: {=IF(H64="Neterminuota",0.0131,IF(H64="Terminuota",0.0203,0))} -> 0 | K64: {=IF(J64="Biudžetinė",0.0014,IF(J64="Verslo įm. ir kt.",0.0046,IF(J64="Kitos organizacijos**",0.003,0)))} -> 0 | R64: {=IF(N64="Mėnesinis",ROUND(O64/P64*Q64,2),IF(N64="Valandinis",ROUND(O64*Q64,2)," "))} | Y64: {=_xlfn.IFERROR(ROUND(((I64+K64)*(R64+S64+T64+U64+W64+X64))+(R64+S64+T64+U64+W64+X64)+V64,2),"0")} -> 0 | AB64: {=IF(OR(Z64="",AA64=""),"",VLOOKUP(CONCATENATE(Z64," dienų darbo savaitė"),'Atostogų išmokų FN'!$A$7:$AH$8,AA64-16)/100)} | AC64: {=ROUND(IF(Z64="",0,(SUM(R64:U64,W64)*(1+(I64+K64))*AB64)),2)} -> 0 | AN64: {=LEFT(D64,3)} | AO64: {=LEFT(E64,3)}
B65: {=IF(OR(D65<>"",F65<>"",D66<>"",F66<>""),B64+1,"")} | I65: {=IF(H65="Neterminuota",0.0131,IF(H65="Terminuota",0.0203,0))} -> 0 | K65: {=IF(J65="Biudžetinė",0.0014,IF(J65="Verslo įm. ir kt.",0.0046,IF(J65="Kitos organizacijos**",0.003,0)))} -> 0 | R65: {=IF(N65="Mėnesinis",ROUND(O65/P65*Q65,2),IF(N65="Valandinis",ROUND(O65*Q65,2)," "))} | Y65: {=_xlfn.IFERROR(ROUND(((I65+K65)*(R65+S65+T65+U65+W65+X65))+(R65+S65+T65+U65+W65+X65)+V65,2),"0")} -> 0 | AB65: {=IF(OR(Z65="",AA65=""),"",VLOOKUP(CONCATENATE(Z65," dienų darbo savaitė"),'Atostogų išmokų FN'!$A$7:$AH$8,AA65-16)/100)} | AC65: {=ROUND(IF(Z65="",0,(SUM(R65:U65,W65)*(1+(I65+K65))*AB65)),2)} -> 0 | AN65: {=LEFT(D65,3)} | AO65: {=LEFT(E65,3)}
B66: {=IF(OR(D66<>"",F66<>"",D67<>"",F67<>""),B65+1,"")} | I66: {=IF(H66="Neterminuota",0.0131,IF(H66="Terminuota",0.0203,0))} -> 0 | K66: {=IF(J66="Biudžetinė",0.0014,IF(J66="Verslo įm. ir kt.",0.0046,IF(J66="Kitos organizacijos**",0.003,0)))} -> 0 | R66: {=IF(N66="Mėnesinis",ROUND(O66/P66*Q66,2),IF(N66="Valandinis",ROUND(O66*Q66,2)," "))} | Y66: {=_xlfn.IFERROR(ROUND(((I66+K66)*(R66+S66+T66+U66+W66+X66))+(R66+S66+T66+U66+W66+X66)+V66,2),"0")} -> 0 | AB66: {=IF(OR(Z66="",AA66=""),"",VLOOKUP(CONCATENATE(Z66," dienų darbo savaitė"),'Atostogų išmokų FN'!$A$7:$AH$8,AA66-16)/100)} | AC66: {=ROUND(IF(Z66="",0,(SUM(R66:U66,W66)*(1+(I66+K66))*AB66)),2)} -> 0 | AN66: {=LEFT(D66,3)} | AO66: {=LEFT(E66,3)}
B67: {=IF(OR(D67<>"",F67<>"",D68<>"",F68<>""),B66+1,"")} | I67: {=IF(H67="Neterminuota",0.0131,IF(H67="Terminuota",0.0203,0))} -> 0 | K67: {=IF(J67="Biudžetinė",0.0014,IF(J67="Verslo įm. ir kt.",0.0046,IF(J67="Kitos organizacijos**",0.003,0)))} -> 0 | R67: {=IF(N67="Mėnesinis",ROUND(O67/P67*Q67,2),IF(N67="Valandinis",ROUND(O67*Q67,2)," "))} | Y67: {=_xlfn.IFERROR(ROUND(((I67+K67)*(R67+S67+T67+U67+W67+X67))+(R67+S67+T67+U67+W67+X67)+V67,2),"0")} -> 0 | AB67: {=IF(OR(Z67="",AA67=""),"",VLOOKUP(CONCATENATE(Z67," dienų darbo savaitė"),'Atostogų išmokų FN'!$A$7:$AH$8,AA67-16)/100)} | AC67: {=ROUND(IF(Z67="",0,(SUM(R67:U67,W67)*(1+(I67+K67))*AB67)),2)} -> 0 | AN67: {=LEFT(D67,3)} | AO67: {=LEFT(E67,3)}
B68: {=IF(OR(D68<>"",F68<>"",D69<>"",F69<>""),B67+1,"")} | I68: {=IF(H68="Neterminuota",0.0131,IF(H68="Terminuota",0.0203,0))} -> 0 | K68: {=IF(J68="Biudžetinė",0.0014,IF(J68="Verslo įm. ir kt.",0.0046,IF(J68="Kitos organizacijos**",0.003,0)))} -> 0 | R68: {=IF(N68="Mėnesinis",ROUND(O68/P68*Q68,2),IF(N68="Valandinis",ROUND(O68*Q68,2)," "))} | Y68: {=_xlfn.IFERROR(ROUND(((I68+K68)*(R68+S68+T68+U68+W68+X68))+(R68+S68+T68+U68+W68+X68)+V68,2),"0")} -> 0 | AB68: {=IF(OR(Z68="",AA68=""),"",VLOOKUP(CONCATENATE(Z68," dienų darbo savaitė"),'Atostogų išmokų FN'!$A$7:$AH$8,AA68-16)/100)} | AC68: {=ROUND(IF(Z68="",0,(SUM(R68:U68,W68)*(1+(I68+K68))*AB68)),2)} -> 0 | AN68: {=LEFT(D68,3)} | AO68: {=LEFT(E68,3)}
B69: {=IF(OR(D69<>"",F69<>"",D70<>"",F70<>""),B68+1,"")} | I69: {=IF(H69="Neterminuota",0.0131,IF(H69="Terminuota",0.0203,0))} -> 0 | K69: {=IF(J69="Biudžetinė",0.0014,IF(J69="Verslo įm. ir kt.",0.0046,IF(J69="Kitos organizacijos**",0.003,0)))} -> 0 | R69: {=IF(N69="Mėnesinis",ROUND(O69/P69*Q69,2),IF(N69="Valandinis",ROUND(O69*Q69,2)," "))} | Y69: {=_xlfn.IFERROR(ROUND(((I69+K69)*(R69+S69+T69+U69+W69+X69))+(R69+S69+T69+U69+W69+X69)+V69,2),"0")} -> 0 | AB69: {=IF(OR(Z69="",AA69=""),"",VLOOKUP(CONCATENATE(Z69," dienų darbo savaitė"),'Atostogų išmokų FN'!$A$7:$AH$8,AA69-16)/100)} | AC69: {=ROUND(IF(Z69="",0,(SUM(R69:U69,W69)*(1+(I69+K69))*AB69)),2)} -> 0 | AN69: {=LEFT(D69,3)} | AO69: {=LEFT(E69,3)}
B70: {=IF(OR(D70<>"",F70<>"",D71<>"",F71<>""),B69+1,"")} | I70: {=IF(H70="Neterminuota",0.0131,IF(H70="Terminuota",0.0203,0))} -> 0 | K70: {=IF(J70="Biudžetinė",0.0014,IF(J70="Verslo įm. ir kt.",0.0046,IF(J70="Kitos organizacijos**",0.003,0)))} -> 0 | R70: {=IF(N70="Mėnesinis",ROUND(O70/P70*Q70,2),IF(N70="Valandinis",ROUND(O70*Q70,2)," "))} | Y70: {=_xlfn.IFERROR(ROUND(((I70+K70)*(R70+S70+T70+U70+W70+X70))+(R70+S70+T70+U70+W70+X70)+V70,2),"0")} -> 0 | AB70: {=IF(OR(Z70="",AA70=""),"",VLOOKUP(CONCATENATE(Z70," dienų darbo savaitė"),'Atostogų išmokų FN'!$A$7:$AH$8,AA70-16)/100)} | AC70: {=ROUND(IF(Z70="",0,(SUM(R70:U70,W70)*(1+(I70+K70))*AB70)),2)} -> 0 | AN70: {=LEFT(D70,3)} | AO70: {=LEFT(E70,3)}
B71: {=IF(OR(D71<>"",F71<>"",D72<>"",F72<>""),B70+1,"")} | I71: {=IF(H71="Neterminuota",0.0131,IF(H71="Terminuota",0.0203,0))} -> 0 | K71: {=IF(J71="Biudžetinė",0.0014,IF(J71="Verslo įm. ir kt.",0.0046,IF(J71="Kitos organizacijos**",0.003,0)))} -> 0 | R71: {=IF(N71="Mėnesinis",ROUND(O71/P71*Q71,2),IF(N71="Valandinis",ROUND(O71*Q71,2)," "))} | Y71: {=_xlfn.IFERROR(ROUND(((I71+K71)*(R71+S71+T71+U71+W71+X71))+(R71+S71+T71+U71+W71+X71)+V71,2),"0")} -> 0 | AB71: {=IF(OR(Z71="",AA71=""),"",VLOOKUP(CONCATENATE(Z71," dienų darbo savaitė"),'Atostogų išmokų FN'!$A$7:$AH$8,AA71-16)/100)} | AC71: {=ROUND(IF(Z71="",0,(SUM(R71:U71,W71)*(1+(I71+K71))*AB71)),2)} -> 0 | AN71: {=LEFT(D71,3)} | AO71: {=LEFT(E71,3)}
B72: {=IF(OR(D72<>"",F72<>"",D73<>"",F73<>""),B71+1,"")} | I72: {=IF(H72="Neterminuota",0.0131,IF(H72="Terminuota",0.0203,0))} -> 0 | K72: {=IF(J72="Biudžetinė",0.0014,IF(J72="Verslo įm. ir kt.",0.0046,IF(J72="Kitos organizacijos**",0.003,0)))} -> 0 | R72: {=IF(N72="Mėnesinis",ROUND(O72/P72*Q72,2),IF(N72="Valandinis",ROUND(O72*Q72,2)," "))} | Y72: {=_xlfn.IFERROR(ROUND(((I72+K72)*(R72+S72+T72+U72+W72+X72))+(R72+S72+T72+U72+W72+X72)+V72,2),"0")} -> 0 | AB72: {=IF(OR(Z72="",AA72=""),"",VLOOKUP(CONCATENATE(Z72," dienų darbo savaitė"),'Atostogų išmokų FN'!$A$7:$AH$8,AA72-16)/100)} | AC72: {=ROUND(IF(Z72="",0,(SUM(R72:U72,W72)*(1+(I72+K72))*AB72)),2)} -> 0 | AN72: {=LEFT(D72,3)} | AO72: {=LEFT(E72,3)}
B73: {=IF(OR(D73<>"",F73<>"",D74<>"",F74<>""),B72+1,"")} | I73: {=IF(H73="Neterminuota",0.0131,IF(H73="Terminuota",0.0203,0))} -> 0 | K73: {=IF(J73="Biudžetinė",0.0014,IF(J73="Verslo įm. ir kt.",0.0046,IF(J73="Kitos organizacijos**",0.003,0)))} -> 0 | R73: {=IF(N73="Mėnesinis",ROUND(O73/P73*Q73,2),IF(N73="Valandinis",ROUND(O73*Q73,2)," "))} | Y73: {=_xlfn.IFERROR(ROUND(((I73+K73)*(R73+S73+T73+U73+W73+X73))+(R73+S73+T73+U73+W73+X73)+V73,2),"0")} -> 0 | AB73: {=IF(OR(Z73="",AA73=""),"",VLOOKUP(CONCATENATE(Z73," dienų darbo savaitė"),'Atostogų išmokų FN'!$A$7:$AH$8,AA73-16)/100)} | AC73: {=ROUND(IF(Z73="",0,(SUM(R73:U73,W73)*(1+(I73+K73))*AB73)),2)} -> 0 | AN73: {=LEFT(D73,3)} | AO73: {=LEFT(E73,3)}
B74: {=IF(OR(D74<>"",F74<>"",D75<>"",F75<>""),B73+1,"")} | I74: {=IF(H74="Neterminuota",0.0131,IF(H74="Terminuota",0.0203,0))} -> 0 | K74: {=IF(J74="Biudžetinė",0.0014,IF(J74="Verslo įm. ir kt.",0.0046,IF(J74="Kitos organizacijos**",0.003,0)))} -> 0 | R74: {=IF(N74="Mėnesinis",ROUND(O74/P74*Q74,2),IF(N74="Valandinis",ROUND(O74*Q74,2)," "))} | Y74: {=_xlfn.IFERROR(ROUND(((I74+K74)*(R74+S74+T74+U74+W74+X74))+(R74+S74+T74+U74+W74+X74)+V74,2),"0")} -> 0 | AB74: {=IF(OR(Z74="",AA74=""),"",VLOOKUP(CONCATENATE(Z74," dienų darbo savaitė"),'Atostogų išmokų FN'!$A$7:$AH$8,AA74-16)/100)} | AC74: {=ROUND(IF(Z74="",0,(SUM(R74:U74,W74)*(1+(I74+K74))*AB74)),2)} -> 0 | AN74: {=LEFT(D74,3)} | AO74: {=LEFT(E74,3)}
B75: {=IF(OR(D75<>"",F75<>"",D76<>"",F76<>""),B74+1,"")} | I75: {=IF(H75="Neterminuota",0.0131,IF(H75="Terminuota",0.0203,0))} -> 0 | K75: {=IF(J75="Biudžetinė",0.0014,IF(J75="Verslo įm. ir kt.",0.0046,IF(J75="Kitos organizacijos**",0.003,0)))} -> 0 | R75: {=IF(N75="Mėnesinis",ROUND(O75/P75*Q75,2),IF(N75="Valandinis",ROUND(O75*Q75,2)," "))} | Y75: {=_xlfn.IFERROR(ROUND(((I75+K75)*(R75+S75+T75+U75+W75+X75))+(R75+S75+T75+U75+W75+X75)+V75,2),"0")} -> 0 | AB75: {=IF(OR(Z75="",AA75=""),"",VLOOKUP(CONCATENATE(Z75," dienų darbo savaitė"),'Atostogų išmokų FN'!$A$7:$AH$8,AA75-16)/100)} | AC75: {=ROUND(IF(Z75="",0,(SUM(R75:U75,W75)*(1+(I75+K75))*AB75)),2)} -> 0 | AN75: {=LEFT(D75,3)} | AO75: {=LEFT(E75,3)}
... B94: {=IF(OR(D94<>"",F94<>"",D95<>"",F95<>""),B93+1,"")} | I94: {=IF(H94="Neterminuota",0.0131,IF(H94="Terminuota",0.0203,0))} -> 0 | K94: {=IF(J94="Biudžetinė",0.0014,IF(J94="Verslo įm. ir kt.",0.0046,IF(J94="Kitos organizacijos**",0.003,0)))} -> 0 | R94: {=IF(N94="Mėnesinis",ROUND(O94/P94*Q94,2),IF(N94="Valandinis",ROUND(O94*Q94,2)," "))} | Y94: {=_xlfn.IFERROR(ROUND(((I94+K94)*(R94+S94+T94+U94+W94+X94))+(R94+S94+T94+U94+W94+X94)+V94,2),"0")} -> 0 | AB94: {=IF(OR(Z94="",AA94=""),"",VLOOKUP(CONCATENATE(Z94," dienų darbo savaitė"),'Atostogų išmokų FN'!$A$7:$AH$8,AA94-16)/100)} | AC94: {=ROUND(IF(Z94="",0,(SUM(R94:U94,W94)*(1+(I94+K94))*AB94)),2)} -> 0 | AN94: {=LEFT(D94,3)} | AO94: {=LEFT(E94,3)}
B95: {=IF(OR(D95<>"",F95<>"",D98<>"",F98<>""),B94+1,"")} | I95: {=IF(H95="Neterminuota",0.0131,IF(H95="Terminuota",0.0203,0))} -> 0 | K95: {=IF(J95="Biudžetinė",0.0014,IF(J95="Verslo įm. ir kt.",0.0046,IF(J95="Kitos organizacijos**",0.003,0)))} -> 0 | R95: {=IF(N95="Mėnesinis",ROUND(O95/P95*Q95,2),IF(N95="Valandinis",ROUND(O95*Q95,2)," "))} | Y95: {=_xlfn.IFERROR(ROUND(((I95+K95)*(R95+S95+T95+U95+W95+X95))+(R95+S95+T95+U95+W95+X95)+V95,2),"0")} -> 0 | AB95: {=IF(OR(Z95="",AA95=""),"",VLOOKUP(CONCATENATE(Z95," dienų darbo savaitė"),'Atostogų išmokų FN'!$A$7:$AH$8,AA95-16)/100)} | AC95: {=ROUND(IF(Z95="",0,(SUM(R95:U95,W95)*(1+(I95+K95))*AB95)),2)} -> 0 | AN95: {=LEFT(D95,3)} | AO95: {=LEFT(E95,3)}
I96: {=IF(H96="Neterminuota",0.0131,IF(H96="Terminuota",0.0203,0))} -> 0 | K96: {=IF(J96="Biudžetinė",0.0014,IF(J96="Verslo įm. ir kt.",0.0046,IF(J96="Kitos organizacijos**",0.003,0)))} -> 0 | Y96: {=_xlfn.IFERROR(ROUND(((I96+K96)*(R96+S96+T96+U96+W96+X96))+(R96+S96+T96+U96+W96+X96)+V96,2),"0")} -> 0 | AC96: {=ROUND(IF(Z96="",0,(SUM(R96:U96,W96)*(1+(I96+K96))*AB96)),2)} -> 0 | AN96: {=LEFT(D96,3)} | AO96: {=LEFT(E96,3)}
I97: {=IF(H97="Neterminuota",0.0131,IF(H97="Terminuota",0.0203,0))} -> 0 | K97: {=IF(J97="Biudžetinė",0.0014,IF(J97="Verslo įm. ir kt.",0.0046,IF(J97="Kitos organizacijos**",0.003,0)))} -> 0 | Y97: {=_xlfn.IFERROR(ROUND(((I97+K97)*(R97+S97+T97+U97+W97+X97))+(R97+S97+T97+U97+W97+X97)+V97,2),"0")} -> 0 | AC97: {=ROUND(IF(Z97="",0,(SUM(R97:U97,W97)*(1+(I97+K97))*AB97)),2)} -> 0 | AN97: {=LEFT(D97,3)} | AO97: {=LEFT(E97,3)}
B98: {=IF(OR(D98<>"",F98<>"",D100<>"",F100<>""),B95+1,"")} | I98: {=IF(H98="Neterminuota",0.0131,IF(H98="Terminuota",0.0203,0))} -> 0 | K98: {=IF(J98="Biudžetinė",0.0014,IF(J98="Verslo įm. ir kt.",0.0046,IF(J98="Kitos organizacijos**",0.003,0)))} -> 0 | R98: {=IF(N98="Mėnesinis",ROUND(O98/P98*Q98,2),IF(N98="Valandinis",ROUND(O98*Q98,2)," "))} | Y98: {=_xlfn.IFERROR(ROUND(((I98+K98)*(R98+S98+T98+U98+W98+X98))+(R98+S98+T98+U98+W98+X98)+V98,2),"0")} -> 0 | AB98: {=IF(OR(Z98="",AA98=""),"",VLOOKUP(CONCATENATE(Z98," dienų darbo savaitė"),'Atostogų išmokų FN'!$A$7:$AH$8,AA98-16)/100)} | AC98: {=ROUND(IF(Z98="",0,(SUM(R98:U98,W98)*(1+(I98+K98))*AB98)),2)} -> 0 | AN98: {=LEFT(D98,3)} | AO98: {=LEFT(E98,3)}
B99: {=IF(OR(D99<>"",F99<>"",D101<>"",F101<>""),B98+1,"")} | I99: {=IF(H99="Neterminuota",0.0131,IF(H99="Terminuota",0.0203,0))} -> 0 | K99: {=IF(J99="Biudžetinė",0.0014,IF(J99="Verslo įm. ir kt.",0.0046,IF(J99="Kitos organizacijos**",0.003,0)))} -> 0 | R99: {=IF(N99="Mėnesinis",ROUND(O99/P99*Q99,2),IF(N99="Valandinis",ROUND(O99*Q99,2)," "))} | Y99: {=_xlfn.IFERROR(ROUND(((I99+K99)*(R99+S99+T99+U99+W99+X99))+(R99+S99+T99+U99+W99+X99)+V99,2),"0")} -> 0 | AB99: {=IF(OR(Z99="",AA99=""),"",VLOOKUP(CONCATENATE(Z99," dienų darbo savaitė"),'Atostogų išmokų FN'!$A$7:$AH$8,AA99-16)/100)} | AC99: {=ROUND(IF(Z99="",0,(SUM(R99:U99,W99)*(1+(I99+K99))*AB99)),2)} -> 0 | AN99: {=LEFT(D99,3)} | AO99: {=LEFT(E99,3)}
B100: {=IF(OR(D100<>"",F100<>"",D101<>"",F101<>""),B98+1,"")} | I100: {=IF(H100="Neterminuota",0.0131,IF(H100="Terminuota",0.0203,0))} -> 0 | K100: {=IF(J100="Biudžetinė",0.0014,IF(J100="Verslo įm. ir kt.",0.0046,IF(J100="Kitos organizacijos**",0.003,0)))} -> 0 | R100: {=IF(N100="Mėnesinis",ROUND(O100/P100*Q100,2),IF(N100="Valandinis",ROUND(O100*Q100,2)," "))} | Y100: {=_xlfn.IFERROR(ROUND(((I100+K100)*(R100+S100+T100+U100+W100+X100))+(R100+S100+T100+U100+W100+X100)+V100,2),"0")} -> 0 | AB100: {=IF(OR(Z100="",AA100=""),"",VLOOKUP(CONCATENATE(Z100," dienų darbo savaitė"),'Atostogų išmokų FN'!$A$7:$AH$8,AA100-16)/100)} | AC100: {=ROUND(IF(Z100="",0,(SUM(R100:U100,W100)*(1+(I100+K100))*AB100)),2)} -> 0 | AN100: {=LEFT(D100,3)} | AO100: {=LEFT(E100,3)}
B101: Iš viso: | O101: {=SUBTOTAL(9,O19:O100)} -> 0 | Q101: {=SUBTOTAL(9,Q19:Q100)} -> 0 | R101: {=SUBTOTAL(9,R19:R100)} -> 0 | S101: {=SUBTOTAL(9,S19:S100)} -> 0 | T101: {=SUBTOTAL(9,T19:T100)} -> 0 | U101: {=SUBTOTAL(9,U19:U100)} -> 0 | V101: {=SUBTOTAL(9,V19:V100)} -> 0 | X101: {=SUBTOTAL(9,X19:X100)} -> 0 | Y101: {=SUBTOTAL(9,Y19:Y100)} -> 0 | AC101: {=SUBTOTAL(9,AC19:AC100)} -> 0
AN102: {=LEFT(D102,3)} | AO102: {=LEFT(E102,3)}
B103: *Organizacijos tipas pasirenkamas iš sąrašo. Atsižvelgiant į pasirinktą organizacijos tipą, nurodomas bendras įmokų tarifas Garantiniam fondui, Ilgalaikio darbo išmokų fondui ir Nelaimingų atsitikimų darbe ir profesinių ligų socialiniam draudimui. | AN103: {=LEFT(D103,3)} | AO103: {=LEFT(E103,3)}
B104: ** Taikoma politinėms partijoms, profesinėms sąjungoms, religinėms bendruomenėms ir bendrijoms. | AN104: {=LEFT(D104,3)} | AO104: {=LEFT(E104,3)}
B105: *** Premijos už atliktą darbą, nustatytos šalių susitarimu ar mokamos pagal darbo teisės normas ar darbovietėje taikomą darbo apmokėjimo sistemą. | AN105: {=LEFT(D105,3)} | AO105: {=LEFT(E105,3)}
B106: ****Nepildoma, kai dirbtas laikas darbuotojo prašymu pagal DK 144 str. pridedamas prie kasmetinių atostogų laiko (stulpelyje "Komentaras" pažymima, kad laikas pridėtas prie kasmetinių atostogų laiko).
B107: ***** Stulpelyje "Komentaras" pažymima DK 138 str. "Pailgintos atostogos, papildomos atostogos ir kitos lengvatos" dalis, pagal kurią suteikta papildomų ir / ar pailgintų atostogų trukmė.
B108: 3. DEKLARACIJA | AN108: {=LEFT(D108,3)} | AO108: {=LEFT(E108,3)}
B109: Pateikdami šią pažymą dėl darbo užmokesčio priskaitymo, išmokėjimo ir priskyrimo projektui, patvirtiname, kad: - deklaruojamos darbuotojų darbo užmokesčio išlaidos nebuvo finansuotos (apmokėtos) iš Lietuvos Respublikos valstybės biudžeto ir (arba) savivaldybių biudžetų, kitų piniginių išteklių, kuriais disponuoja valstybė ir (arba) savivaldybės, ES fondų, kitų ES finansinės paramos priemonių ar kitos tarptautinės paramos lėšų.
AN110: {=LEFT(D110,3)} | AO110: {=LEFT(E110,3)}
F111: (Institucijos / organizacijos įgalioto asmens pareigos, vardas / pavardė) | AN111: {=LEFT(D111,3)} | AO111: {=LEFT(E111,3)}
AN112: {=LEFT(D112,3)} | AO112: {=LEFT(E112,3)}
AN113: {=LEFT(D113,3)} | AO113: {=LEFT(E113,3)}
AN114: {=LEFT(D114,3)} | AO114: {=LEFT(E114,3)}
AN115: {=LEFT(D115,3)} | AO115: {=LEFT(E115,3)}
AN116: {=LEFT(D116,3)} | AO116: {=LEFT(E116,3)}
AN117: {=LEFT(D117,3)} | AO117: {=LEFT(E117,3)}
AN118: {=LEFT(D118,3)} | AO118: {=LEFT(E118,3)}
AN119: {=LEFT(D119,3)} | AO119: {=LEFT(E119,3)}
AN120: {=LEFT(D120,3)} | AO120: {=LEFT(E120,3)}
AN121: {=LEFT(D121,3)} | AO121: {=LEFT(E121,3)}
AN122: {=LEFT(D122,3)} | AO122: {=LEFT(E122,3)}
AN123: {=LEFT(D123,3)} | AO123: {=LEFT(E123,3)}
... AN544: {=LEFT(D544,3)} | AO544: {=LEFT(E544,3)}

Sheet Pažyma  pvz. 
B2: PAŽYMA DĖL DARBO UŽMOKESČIO PRISKAITYMO, IŠMOKĖJIMO IR PRISKYRIMO PROJEKTUI, TAIKANT KASMETINIŲ ATOSTOGŲ IŠMOKŲ FIKSUOTĄSIAS NORMAS (FN-05-01, FN-05-02, FN-05-03, FN-05-04, FN-05-05, FN-05-06, FN-05-07)
M5: 2023 | N5: m. | O5: liepos | P5: mėn. | Q5: 10 | R5: d.
AB6: FN dydis | AC6: Deklaruojama bendra suma
O7: Nr. | P7: 1 | AB7: FN-05-01 – 8,63 proc. | AC7: {=_xlfn.SUMIFS($AC$19:$AC$5048,$AB$19:$AB$5048,$AD7)} -> 136.57 | AD7: 0.0863
AB8: FN-05-02 – 10,44 proc. | AC8: {=_xlfn.SUMIFS($AC$19:$AC$5048,$AB$19:$AB$5048,$AD8)} -> 0 | AD8: 0.1044
B9: 1. BENDROJI DALIS | AB9: FN-05-03 – 12,35 proc. | AC9: {=_xlfn.SUMIFS($AC$19:$AC$5048,$AB$19:$AB$5048,$AD9)} -> 0 | AD9: 0.1235
B10: Projekto / Jungtinio projekto kodas | AB10: FN-05-04 – 14,99 proc. | AC10: {=_xlfn.SUMIFS($AC$19:$AC$5048,$AB$19:$AB$5048,$AD10)} -> 0 | AD10: 0.1499
B11: Projekto pavadinimas | AB11: FN-05-05 – 17,25 proc. | AC11: {=_xlfn.SUMIFS($AC$19:$AC$5048,$AB$19:$AB$5048,$AD11)} -> 0 | AD11: 0.1725
AB12: FN-05-06 – 18,89 proc. | AC12: {=_xlfn.SUMIFS($AC$19:$AC$5048,$AB$19:$AB$5048,$AD12)} -> 476.85 | AD12: 0.1889
B13: 2. INFORMACIJA APIE PRISKAITYTĄ IR IŠMOKĖTĄ DARBO UŽMOKESTĮ | AB13: FN-05-07 – 20,02 proc. | AC13: {=_xlfn.SUMIFS($AC$19:$AC$5048,$AB$19:$AB$5048,$AD13)} -> 0 | AD13: 0.2002
B15: Eil. Nr. | C15: Darbdavio pavadinimas | D15: Projekto poveiklės Nr. | E15: Veiksmo / išlaidų tipo Nr. | F15: Vardas, pavardė | G15: Pareigos | H15: Darbo sutarties tipas | I15: Įmokos tarifas nedarbo socaliniam draudimui | J15: Organizacijos tipas* | K15: Įmokos tarifas nelaimingų atsitikimų, ilgalaikio darbo ir garantiniam draudimui | L15: Metai, už kuriuos deklaruojamas darbo užmokestis | M15: Mėnuo, už kurį deklaruojamas darbo užmokestis | N15: Projektinei pareigybei nustatytas įkainis (valandinis; mėnesinis) | O15: Projektinei pareigybei nustatytas darbo užmokestis, Eur | P15: Nustatytas darbo laikas projekte per mėn., (val. / d.) | Q15: Faktiškai dirbta projekte, val./d. | R15: Priskaičiuotas darbo užmokestis ir susijusios sąnaudos (projektinei pareigybei) | Y15: Prašomų pripažinti tinkamomis finansuoti darbo užmokesčio išlaidų su darbdavio įmokomis, Eur | Z15: Darbo savaitės trukmė darbo dienomis | AA15: Kasmetinių atostogų darbo dienų skaičius | AB15: Nustatyta kasmetinių atostogų išmokų fiksuotoji norma | AC15: Deklaruojamos kasmetinių atostogų sąnaudos (įskaitant darbdavio mokesčius), Eur | AD15: Komentaras*****
R16: Projektinei pareigybei priskaitytas darbo užmokestis, Eur | S16: Priedai ir priemokos, Eur | T16: Mėnesinės premijos arba mėnesiui tenkanti premijų dalis, Eur (DK 139 str. 2 d. 5 p.)*** | U16: Darbo užmokestis už viršvalandinį darbą, darbą poilsio ir švenčių dienomis, darbą naktį, Eur **** | V16: Darbdavio mokama ligos pašalpa, Eur | W16: Darbo užmokestis už papildomą poilsio laiką, kuris suteiktas pagal LR DK 112 str. 5 d., Eur | X16: Darbo užmokestis už papildomas poilsio dienas, Eur (DK 138 str. 3 d.)
B18: 1 | C18: 2 | D18: 3 | E18: 4 | F18: 5 | G18: 6 | H18: 7 | I18: 8 | J18: 9 | K18: 10 | L18: 11 | M18: 12 | N18: 13 | O18: 14 | P18: 15 | Q18: 16 | R18: 17 | S18: 18 | T18: 19 | U18: 20 | V18: 21 | W18: 22 | X18: 23 | Y18: 24 | Z18: 25 | AA18: 26 | AB18: 27 | AC18: 28 | AD18: 29
B19: {=IF(OR(D19<>"",F19<>""),1,"")} -> 1 | C19: Darbdavio pavadinimas 1 | D19: 1.1. | E19: 1.1.1. | F19: Vardenis Pavardenis 1 | G19: Karjeros specialistas | H19: Neterminuota | I19: {=IF(H19="Neterminuota",0.0131,IF(H19="Terminuota",0.0203,0))} -> 0.0131 | J19: Verslo įm. ir kt. | K19: {=IF(J19="Biudžetinė",0.0014,IF(J19="Verslo įm. ir kt.",0.0046,IF(J19="Kitos organizacijos**",0.003,0)))} -> 0.0046 | L19: 2023 | M19: Kovas | N19: Mėnesinis | O19: 1554.96 | P19: 19 | Q19: 19 | R19: {=IF(N19="Mėnesinis",ROUND(O19/P19*Q19,2),IF(N19="Valandinis",ROUND(O19*Q19,2)," "))} -> 1554.96 | Y19: {=_xlfn.IFERROR(ROUND(((I19+K19)*(R19+S19+T19+U19+W19+X19))+(R19+S19+T19+U19+W19+X19)+V19,2),"0")} -> 1582.48 | Z19: 5 | AA19: 20 | AB19: {=IF(OR(Z19="",AA19=""),"",VLOOKUP(CONCATENATE(Z19," dienų darbo savaitė"),'Atostogų išmokų FN'!$A$7:$AH$8,AA19-16)/100)} -> 0.0863 | AC19: {=ROUND(IF(Z19="",0,(SUM(R19:U19,W19)*(1+(I19+K19))*AB19)),2)} -> 136.57 | AN19: {=LEFT(D19,3)} -> 1.1 | AO19: {=LEFT(E19,3)} -> 1.1
B20: {=IF(OR(D20<>"",F20<>"",D21<>"",F21<>""),B19+1,"")} -> 2 | C20: Darbdavio pavadinimas 2 | D20: 1.1. | E20: 1.1.1. | F20: Vardenis Pavardenis 2 | G20: Karjeros specialistas | H20: Terminuota | I20: {=IF(H20="Neterminuota",0.0131,IF(H20="Terminuota",0.0203,0))} -> 0.0203 | J20: Verslo įm. ir kt. | K20: {=IF(J20="Biudžetinė",0.0014,IF(J20="Verslo įm. ir kt.",0.0046,IF(J20="Kitos organizacijos**",0.003,0)))} -> 0.0046 | L20: 2023 | M20: Kovas | N20: Mėnesinis | O20: 691.92 | P20: 23 | Q20: 23 | R20: {=IF(N20="Mėnesinis",ROUND(O20/P20*Q20,2),IF(N20="Valandinis",ROUND(O20*Q20,2)," "))} -> 691.92 | Y20: {=_xlfn.IFERROR(ROUND(((I20+K20)*(R20+S20+T20+U20+W20+X20))+(R20+S20+T20+U20+W20+X20)+V20,2),"0")} -> 709.15 | Z20: 5 | AA20: 40 | AB20: {=IF(OR(Z20="",AA20=""),"",VLOOKUP(CONCATENATE(Z20," dienų darbo savaitė"),'Atostogų išmokų FN'!$A$7:$AH$8,AA20-16)/100)} -> 0.1889 | AC20: {=ROUND(IF(Z20="",0,(SUM(R20:U20,W20)*(1+(I20+K20))*AB20)),2)} -> 133.96 | AN20: {=LEFT(D20,3)} -> 1.1 | AO20: {=LEFT(E20,3)} -> 1.1
B21: {=IF(OR(D21<>"",F21<>"",D22<>"",F22<>""),B20+1,"")} -> 3 | C21: Darbdavio pavadinimas 3 | D21: 1.1. | E21: 1.1.1. | F21: Vardenis Pavardenis 3 | G21: Karjeros specialistas | H21: Terminuota | I21: {=IF(H21="Neterminuota",0.0131,IF(H21="Terminuota",0.0203,0))} -> 0.0203 | J21: Verslo įm. ir kt. | K21: {=IF(J21="Biudžetinė",0.0014,IF(J21="Verslo įm. ir kt.",0.0046,IF(J21="Kitos organizacijos**",0.003,0)))} -> 0.0046 | L21: 2023 | M21: Birželis | N21: Mėnesinis | O21: 1855.41 | P21: 22 | Q21: 21 | R21: {=IF(N21="Mėnesinis",ROUND(O21/P21*Q21,2),IF(N21="Valandinis",ROUND(O21*Q21,2)," "))} -> 1771.07 | X21: 83.34 | Y21: {=_xlfn.IFERROR(ROUND(((I21+K21)*(R21+S21+T21+U21+W21+X21))+(R21+S21+T21+U21+W21+X21)+V21,2),"0")} -> 1900.58 | Z21: 5 | AA21: 40 | AB21: {=IF(OR(Z21="",AA21=""),"",VLOOKUP(CONCATENATE(Z21," dienų darbo savaitė"),'Atostogų išmokų FN'!$A$7:$AH$8,AA21-16)/100)} -> 0.1889 | AC21: {=ROUND(IF(Z21="",0,(SUM(R21:U21,W21)*(1+(I21+K21))*AB21)),2)} -> 342.89 | AN21: {=LEFT(D21,3)} -> 1.1 | AO21: {=LEFT(E21,3)} -> 1.1
B22: {=IF(OR(D22<>"",F22<>"",D23<>"",F23<>""),B21+1,"")} | I22: {=IF(H22="Neterminuota",0.0131,IF(H22="Terminuota",0.0203,0))} -> 0 | K22: {=IF(J22="Biudžetinė",0.0014,IF(J22="Verslo įm. ir kt.",0.0046,IF(J22="Kitos organizacijos**",0.003,0)))} -> 0 | R22: {=IF(N22="Mėnesinis",ROUND(O22/P22*Q22,2),IF(N22="Valandinis",ROUND(O22*Q22,2)," "))} | Y22: {=_xlfn.IFERROR(ROUND(((I22+K22)*(R22+S22+T22+U22+W22+X22))+(R22+S22+T22+U22+W22+X22)+V22,2),"0")} -> 0 | AB22: {=IF(OR(Z22="",AA22=""),"",VLOOKUP(CONCATENATE(Z22," dienų darbo savaitė"),'Atostogų išmokų FN'!$A$7:$AH$8,AA22-16)/100)} | AC22: {=ROUND(IF(Z22="",0,(SUM(R22:U22,W22)*(1+(I22+K22))*AB22)),2)} -> 0 | AN22: {=LEFT(D22,3)} | AO22: {=LEFT(E22,3)}
B23: {=IF(OR(D23<>"",F23<>"",D24<>"",F24<>""),B22+1,"")} | I23: {=IF(H23="Neterminuota",0.0131,IF(H23="Terminuota",0.0203,0))} -> 0 | K23: {=IF(J23="Biudžetinė",0.0014,IF(J23="Verslo įm. ir kt.",0.0046,IF(J23="Kitos organizacijos**",0.003,0)))} -> 0 | R23: {=IF(N23="Mėnesinis",ROUND(O23/P23*Q23,2),IF(N23="Valandinis",ROUND(O23*Q23,2)," "))} | Y23: {=_xlfn.IFERROR(ROUND(((I23+K23)*(R23+S23+T23+U23+W23+X23))+(R23+S23+T23+U23+W23+X23)+V23,2),"0")} -> 0 | AB23: {=IF(OR(Z23="",AA23=""),"",VLOOKUP(CONCATENATE(Z23," dienų darbo savaitė"),'Atostogų išmokų FN'!$A$7:$AH$8,AA23-16)/100)} | AC23: {=ROUND(IF(Z23="",0,(SUM(R23:U23,W23)*(1+(I23+K23))*AB23)),2)} -> 0 | AN23: {=LEFT(D23,3)} | AO23: {=LEFT(E23,3)}
B24: {=IF(OR(D24<>"",F24<>"",D25<>"",F25<>""),B23+1,"")} | I24: {=IF(H24="Neterminuota",0.0131,IF(H24="Terminuota",0.0203,0))} -> 0 | K24: {=IF(J24="Biudžetinė",0.0014,IF(J24="Verslo įm. ir kt.",0.0046,IF(J24="Kitos organizacijos**",0.003,0)))} -> 0 | R24: {=IF(N24="Mėnesinis",ROUND(O24/P24*Q24,2),IF(N24="Valandinis",ROUND(O24*Q24,2)," "))} | Y24: {=_xlfn.IFERROR(ROUND(((I24+K24)*(R24+S24+T24+U24+W24+X24))+(R24+S24+T24+U24+W24+X24)+V24,2),"0")} -> 0 | AB24: {=IF(OR(Z24="",AA24=""),"",VLOOKUP(CONCATENATE(Z24," dienų darbo savaitė"),'Atostogų išmokų FN'!$A$7:$AH$8,AA24-16)/100)} | AC24: {=ROUND(IF(Z24="",0,(SUM(R24:U24,W24)*(1+(I24+K24))*AB24)),2)} -> 0 | AN24: {=LEFT(D24,3)} | AO24: {=LEFT(E24,3)}
B25: {=IF(OR(D25<>"",F25<>"",D26<>"",F26<>""),B24+1,"")} | I25: {=IF(H25="Neterminuota",0.0131,IF(H25="Terminuota",0.0203,0))} -> 0 | K25: {=IF(J25="Biudžetinė",0.0014,IF(J25="Verslo įm. ir kt.",0.0046,IF(J25="Kitos organizacijos**",0.003,0)))} -> 0 | R25: {=IF(N25="Mėnesinis",ROUND(O25/P25*Q25,2),IF(N25="Valandinis",ROUND(O25*Q25,2)," "))} | Y25: {=_xlfn.IFERROR(ROUND(((I25+K25)*(R25+S25+T25+U25+W25+X25))+(R25+S25+T25+U25+W25+X25)+V25,2),"0")} -> 0 | AB25: {=IF(OR(Z25="",AA25=""),"",VLOOKUP(CONCATENATE(Z25," dienų darbo savaitė"),'Atostogų išmokų FN'!$A$7:$AH$8,AA25-16)/100)} | AC25: {=ROUND(IF(Z25="",0,(SUM(R25:U25,W25)*(1+(I25+K25))*AB25)),2)} -> 0 | AN25: {=LEFT(D25,3)} | AO25: {=LEFT(E25,3)}
B26: {=IF(OR(D26<>"",F26<>"",D27<>"",F27<>""),B25+1,"")} | I26: {=IF(H26="Neterminuota",0.0131,IF(H26="Terminuota",0.0203,0))} -> 0 | K26: {=IF(J26="Biudžetinė",0.0014,IF(J26="Verslo įm. ir kt.",0.0046,IF(J26="Kitos organizacijos**",0.003,0)))} -> 0 | R26: {=IF(N26="Mėnesinis",ROUND(O26/P26*Q26,2),IF(N26="Valandinis",ROUND(O26*Q26,2)," "))} | Y26: {=_xlfn.IFERROR(ROUND(((I26+K26)*(R26+S26+T26+U26+W26+X26))+(R26+S26+T26+U26+W26+X26)+V26,2),"0")} -> 0 | AB26: {=IF(OR(Z26="",AA26=""),"",VLOOKUP(CONCATENATE(Z26," dienų darbo savaitė"),'Atostogų išmokų FN'!$A$7:$AH$8,AA26-16)/100)} | AC26: {=ROUND(IF(Z26="",0,(SUM(R26:U26,W26)*(1+(I26+K26))*AB26)),2)} -> 0 | AN26: {=LEFT(D26,3)} | AO26: {=LEFT(E26,3)}
B27: {=IF(OR(D27<>"",F27<>"",D28<>"",F28<>""),B26+1,"")} | I27: {=IF(H27="Neterminuota",0.0131,IF(H27="Terminuota",0.0203,0))} -> 0 | K27: {=IF(J27="Biudžetinė",0.0014,IF(J27="Verslo įm. ir kt.",0.0046,IF(J27="Kitos organizacijos**",0.003,0)))} -> 0 | R27: {=IF(N27="Mėnesinis",ROUND(O27/P27*Q27,2),IF(N27="Valandinis",ROUND(O27*Q27,2)," "))} | Y27: {=_xlfn.IFERROR(ROUND(((I27+K27)*(R27+S27+T27+U27+W27+X27))+(R27+S27+T27+U27+W27+X27)+V27,2),"0")} -> 0 | AB27: {=IF(OR(Z27="",AA27=""),"",VLOOKUP(CONCATENATE(Z27," dienų darbo savaitė"),'Atostogų išmokų FN'!$A$7:$AH$8,AA27-16)/100)} | AC27: {=ROUND(IF(Z27="",0,(SUM(R27:U27,W27)*(1+(I27+K27))*AB27)),2)} -> 0 | AN27: {=LEFT(D27,3)} | AO27: {=LEFT(E27,3)}
B28: {=IF(OR(D28<>"",F28<>"",D29<>"",F29<>""),B27+1,"")} | I28: {=IF(H28="Neterminuota",0.0131,IF(H28="Terminuota",0.0203,0))} -> 0 | K28: {=IF(J28="Biudžetinė",0.0014,IF(J28="Verslo įm. ir kt.",0.0046,IF(J28="Kitos organizacijos**",0.003,0)))} -> 0 | R28: {=IF(N28="Mėnesinis",ROUND(O28/P28*Q28,2),IF(N28="Valandinis",ROUND(O28*Q28,2)," "))} | Y28: {=_xlfn.IFERROR(ROUND(((I28+K28)*(R28+S28+T28+U28+W28+X28))+(R28+S28+T28+U28+W28+X28)+V28,2),"0")} -> 0 | AB28: {=IF(OR(Z28="",AA28=""),"",VLOOKUP(CONCATENATE(Z28," dienų darbo savaitė"),'Atostogų išmokų FN'!$A$7:$AH$8,AA28-16)/100)} | AC28: {=ROUND(IF(Z28="",0,(SUM(R28:U28,W28)*(1+(I28+K28))*AB28)),2)} -> 0 | AN28: {=LEFT(D28,3)} | AO28: {=LEFT(E28,3)}
B29: {=IF(OR(D29<>"",F29<>"",D48<>"",F48<>""),B28+1,"")} | I29: {=IF(H29="Neterminuota",0.0131,IF(H29="Terminuota",0.0203,0))} -> 0 | K29: {=IF(J29="Biudžetinė",0.0014,IF(J29="Verslo įm. ir kt.",0.0046,IF(J29="Kitos organizacijos**",0.003,0)))} -> 0 | R29: {=IF(N29="Mėnesinis",ROUND(O29/P29*Q29,2),IF(N29="Valandinis",ROUND(O29*Q29,2)," "))} | Y29: {=_xlfn.IFERROR(ROUND(((I29+K29)*(R29+S29+T29+U29+W29+X29))+(R29+S29+T29+U29+W29+X29)+V29,2),"0")} -> 0 | AB29: {=IF(OR(Z29="",AA29=""),"",VLOOKUP(CONCATENATE(Z29," dienų darbo savaitė"),'Atostogų išmokų FN'!$A$7:$AH$8,AA29-16)/100)} | AC29: {=ROUND(IF(Z29="",0,(SUM(R29:U29,W29)*(1+(I29+K29))*AB29)),2)} -> 0 | AN29: {=LEFT(D29,3)} | AO29: {=LEFT(E29,3)}
I30: {=IF(H30="Neterminuota",0.0131,IF(H30="Terminuota",0.0203,0))} -> 0 | K30: {=IF(J30="Biudžetinė",0.0014,IF(J30="Verslo įm. ir kt.",0.0046,IF(J30="Kitos organizacijos**",0.003,0)))} -> 0 | R30: {=IF(N30="Mėnesinis",ROUND(O30/P30*Q30,2),IF(N30="Valandinis",ROUND(O30*Q30,2)," "))} | Y30: {=_xlfn.IFERROR(ROUND(((I30+K30)*(R30+S30+T30+U30+W30+X30))+(R30+S30+T30+U30+W30+X30)+V30,2),"0")} -> 0 | AB30: {=IF(OR(Z30="",AA30=""),"",VLOOKUP(CONCATENATE(Z30," dienų darbo savaitė"),'Atostogų išmokų FN'!$A$7:$AH$8,AA30-16)/100)} | AC30: {=ROUND(IF(Z30="",0,(SUM(R30:U30,W30)*(1+(I30+K30))*AB30)),2)} -> 0 | AN30: {=LEFT(D30,3)} | AO30: {=LEFT(E30,3)}
I31: {=IF(H31="Neterminuota",0.0131,IF(H31="Terminuota",0.0203,0))} -> 0 | K31: {=IF(J31="Biudžetinė",0.0014,IF(J31="Verslo įm. ir kt.",0.0046,IF(J31="Kitos organizacijos**",0.003,0)))} -> 0 | R31: {=IF(N31="Mėnesinis",ROUND(O31/P31*Q31,2),IF(N31="Valandinis",ROUND(O31*Q31,2)," "))} | Y31: {=_xlfn.IFERROR(ROUND(((I31+K31)*(R31+S31+T31+U31+W31+X31))+(R31+S31+T31+U31+W31+X31)+V31,2),"0")} -> 0 | AB31: {=IF(OR(Z31="",AA31=""),"",VLOOKUP(CONCATENATE(Z31," dienų darbo savaitė"),'Atostogų išmokų FN'!$A$7:$AH$8,AA31-16)/100)} | AC31: {=ROUND(IF(Z31="",0,(SUM(R31:U31,W31)*(1+(I31+K31))*AB31)),2)} -> 0 | AN31: {=LEFT(D31,3)} | AO31: {=LEFT(E31,3)}
I32: {=IF(H32="Neterminuota",0.0131,IF(H32="Terminuota",0.0203,0))} -> 0 | K32: {=IF(J32="Biudžetinė",0.0014,IF(J32="Verslo įm. ir kt.",0.0046,IF(J32="Kitos organizacijos**",0.003,0)))} -> 0 | R32: {=IF(N32="Mėnesinis",ROUND(O32/P32*Q32,2),IF(N32="Valandinis",ROUND(O32*Q32,2)," "))} | Y32: {=_xlfn.IFERROR(ROUND(((I32+K32)*(R32+S32+T32+U32+W32+X32))+(R32+S32+T32+U32+W32+X32)+V32,2),"0")} -> 0 | AB32: {=IF(OR(Z32="",AA32=""),"",VLOOKUP(CONCATENATE(Z32," dienų darbo savaitė"),'Atostogų išmokų FN'!$A$7:$AH$8,AA32-16)/100)} | AC32: {=ROUND(IF(Z32="",0,(SUM(R32:U32,W32)*(1+(I32+K32))*AB32)),2)} -> 0 | AN32: {=LEFT(D32,3)} | AO32: {=LEFT(E32,3)}
I33: {=IF(H33="Neterminuota",0.0131,IF(H33="Terminuota",0.0203,0))} -> 0 | K33: {=IF(J33="Biudžetinė",0.0014,IF(J33="Verslo įm. ir kt.",0.0046,IF(J33="Kitos organizacijos**",0.003,0)))} -> 0 | R33: {=IF(N33="Mėnesinis",ROUND(O33/P33*Q33,2),IF(N33="Valandinis",ROUND(O33*Q33,2)," "))} | Y33: {=_xlfn.IFERROR(ROUND(((I33+K33)*(R33+S33+T33+U33+W33+X33))+(R33+S33+T33+U33+W33+X33)+V33,2),"0")} -> 0 | AB33: {=IF(OR(Z33="",AA33=""),"",VLOOKUP(CONCATENATE(Z33," dienų darbo savaitė"),'Atostogų išmokų FN'!$A$7:$AH$8,AA33-16)/100)} | AC33: {=ROUND(IF(Z33="",0,(SUM(R33:U33,W33)*(1+(I33+K33))*AB33)),2)} -> 0 | AN33: {=LEFT(D33,3)} | AO33: {=LEFT(E33,3)}
I34: {=IF(H34="Neterminuota",0.0131,IF(H34="Terminuota",0.0203,0))} -> 0 | K34: {=IF(J34="Biudžetinė",0.0014,IF(J34="Verslo įm. ir kt.",0.0046,IF(J34="Kitos organizacijos**",0.003,0)))} -> 0 | R34: {=IF(N34="Mėnesinis",ROUND(O34/P34*Q34,2),IF(N34="Valandinis",ROUND(O34*Q34,2)," "))} | Y34: {=_xlfn.IFERROR(ROUND(((I34+K34)*(R34+S34+T34+U34+W34+X34))+(R34+S34+T34+U34+W34+X34)+V34,2),"0")} -> 0 | AB34: {=IF(OR(Z34="",AA34=""),"",VLOOKUP(CONCATENATE(Z34," dienų darbo savaitė"),'Atostogų išmokų FN'!$A$7:$AH$8,AA34-16)/100)} | AC34: {=ROUND(IF(Z34="",0,(SUM(R34:U34,W34)*(1+(I34+K34))*AB34)),2)} -> 0 | AN34: {=LEFT(D34,3)} | AO34: {=LEFT(E34,3)}
I35: {=IF(H35="Neterminuota",0.0131,IF(H35="Terminuota",0.0203,0))} -> 0 | K35: {=IF(J35="Biudžetinė",0.0014,IF(J35="Verslo įm. ir kt.",0.0046,IF(J35="Kitos organizacijos**",0.003,0)))} -> 0 | R35: {=IF(N35="Mėnesinis",ROUND(O35/P35*Q35,2),IF(N35="Valandinis",ROUND(O35*Q35,2)," "))} | Y35: {=_xlfn.IFERROR(ROUND(((I35+K35)*(R35+S35+T35+U35+W35+X35))+(R35+S35+T35+U35+W35+X35)+V35,2),"0")} -> 0 | AB35: {=IF(OR(Z35="",AA35=""),"",VLOOKUP(CONCATENATE(Z35," dienų darbo savaitė"),'Atostogų išmokų FN'!$A$7:$AH$8,AA35-16)/100)} | AC35: {=ROUND(IF(Z35="",0,(SUM(R35:U35,W35)*(1+(I35+K35))*AB35)),2)} -> 0 | AN35: {=LEFT(D35,3)} | AO35: {=LEFT(E35,3)}
I36: {=IF(H36="Neterminuota",0.0131,IF(H36="Terminuota",0.0203,0))} -> 0 | K36: {=IF(J36="Biudžetinė",0.0014,IF(J36="Verslo įm. ir kt.",0.0046,IF(J36="Kitos organizacijos**",0.003,0)))} -> 0 | R36: {=IF(N36="Mėnesinis",ROUND(O36/P36*Q36,2),IF(N36="Valandinis",ROUND(O36*Q36,2)," "))} | Y36: {=_xlfn.IFERROR(ROUND(((I36+K36)*(R36+S36+T36+U36+W36+X36))+(R36+S36+T36+U36+W36+X36)+V36,2),"0")} -> 0 | AB36: {=IF(OR(Z36="",AA36=""),"",VLOOKUP(CONCATENATE(Z36," dienų darbo savaitė"),'Atostogų išmokų FN'!$A$7:$AH$8,AA36-16)/100)} | AC36: {=ROUND(IF(Z36="",0,(SUM(R36:U36,W36)*(1+(I36+K36))*AB36)),2)} -> 0 | AN36: {=LEFT(D36,3)} | AO36: {=LEFT(E36,3)}
I37: {=IF(H37="Neterminuota",0.0131,IF(H37="Terminuota",0.0203,0))} -> 0 | K37: {=IF(J37="Biudžetinė",0.0014,IF(J37="Verslo įm. ir kt.",0.0046,IF(J37="Kitos organizacijos**",0.003,0)))} -> 0 | R37: {=IF(N37="Mėnesinis",ROUND(O37/P37*Q37,2),IF(N37="Valandinis",ROUND(O37*Q37,2)," "))} | Y37: {=_xlfn.IFERROR(ROUND(((I37+K37)*(R37+S37+T37+U37+W37+X37))+(R37+S37+T37+U37+W37+X37)+V37,2),"0")} -> 0 | AB37: {=IF(OR(Z37="",AA37=""),"",VLOOKUP(CONCATENATE(Z37," dienų darbo savaitė"),'Atostogų išmokų FN'!$A$7:$AH$8,AA37-16)/100)} | AC37: {=ROUND(IF(Z37="",0,(SUM(R37:U37,W37)*(1+(I37+K37))*AB37)),2)} -> 0 | AN37: {=LEFT(D37,3)} | AO37: {=LEFT(E37,3)}
I38: {=IF(H38="Neterminuota",0.0131,IF(H38="Terminuota",0.0203,0))} -> 0 | K38: {=IF(J38="Biudžetinė",0.0014,IF(J38="Verslo įm. ir kt.",0.0046,IF(J38="Kitos organizacijos**",0.003,0)))} -> 0 | R38: {=IF(N38="Mėnesinis",ROUND(O38/P38*Q38,2),IF(N38="Valandinis",ROUND(O38*Q38,2)," "))} | Y38: {=_xlfn.IFERROR(ROUND(((I38+K38)*(R38+S38+T38+U38+W38+X38))+(R38+S38+T38+U38+W38+X38)+V38,2),"0")} -> 0 | AB38: {=IF(OR(Z38="",AA38=""),"",VLOOKUP(CONCATENATE(Z38," dienų darbo savaitė"),'Atostogų išmokų FN'!$A$7:$AH$8,AA38-16)/100)} | AC38: {=ROUND(IF(Z38="",0,(SUM(R38:U38,W38)*(1+(I38+K38))*AB38)),2)} -> 0 | AN38: {=LEFT(D38,3)} | AO38: {=LEFT(E38,3)}
I39: {=IF(H39="Neterminuota",0.0131,IF(H39="Terminuota",0.0203,0))} -> 0 | K39: {=IF(J39="Biudžetinė",0.0014,IF(J39="Verslo įm. ir kt.",0.0046,IF(J39="Kitos organizacijos**",0.003,0)))} -> 0 | R39: {=IF(N39="Mėnesinis",ROUND(O39/P39*Q39,2),IF(N39="Valandinis",ROUND(O39*Q39,2)," "))} | Y39: {=_xlfn.IFERROR(ROUND(((I39+K39)*(R39+S39+T39+U39+W39+X39))+(R39+S39+T39+U39+W39+X39)+V39,2),"0")} -> 0 | AB39: {=IF(OR(Z39="",AA39=""),"",VLOOKUP(CONCATENATE(Z39," dienų darbo savaitė"),'Atostogų išmokų FN'!$A$7:$AH$8,AA39-16)/100)} | AC39: {=ROUND(IF(Z39="",0,(SUM(R39:U39,W39)*(1+(I39+K39))*AB39)),2)} -> 0 | AN39: {=LEFT(D39,3)} | AO39: {=LEFT(E39,3)}
I40: {=IF(H40="Neterminuota",0.0131,IF(H40="Terminuota",0.0203,0))} -> 0 | K40: {=IF(J40="Biudžetinė",0.0014,IF(J40="Verslo įm. ir kt.",0.0046,IF(J40="Kitos organizacijos**",0.003,0)))} -> 0 | R40: {=IF(N40="Mėnesinis",ROUND(O40/P40*Q40,2),IF(N40="Valandinis",ROUND(O40*Q40,2)," "))} | Y40: {=_xlfn.IFERROR(ROUND(((I40+K40)*(R40+S40+T40+U40+W40+X40))+(R40+S40+T40+U40+W40+X40)+V40,2),"0")} -> 0 | AB40: {=IF(OR(Z40="",AA40=""),"",VLOOKUP(CONCATENATE(Z40," dienų darbo savaitė"),'Atostogų išmokų FN'!$A$7:$AH$8,AA40-16)/100)} | AC40: {=ROUND(IF(Z40="",0,(SUM(R40:U40,W40)*(1+(I40+K40))*AB40)),2)} -> 0 | AN40: {=LEFT(D40,3)} | AO40: {=LEFT(E40,3)}
I41: {=IF(H41="Neterminuota",0.0131,IF(H41="Terminuota",0.0203,0))} -> 0 | K41: {=IF(J41="Biudžetinė",0.0014,IF(J41="Verslo įm. ir kt.",0.0046,IF(J41="Kitos organizacijos**",0.003,0)))} -> 0 | R41: {=IF(N41="Mėnesinis",ROUND(O41/P41*Q41,2),IF(N41="Valandinis",ROUND(O41*Q41,2)," "))} | Y41: {=_xlfn.IFERROR(ROUND(((I41+K41)*(R41+S41+T41+U41+W41+X41))+(R41+S41+T41+U41+W41+X41)+V41,2),"0")} -> 0 | AB41: {=IF(OR(Z41="",AA41=""),"",VLOOKUP(CONCATENATE(Z41," dienų darbo savaitė"),'Atostogų išmokų FN'!$A$7:$AH$8,AA41-16)/100)} | AC41: {=ROUND(IF(Z41="",0,(SUM(R41:U41,W41)*(1+(I41+K41))*AB41)),2)} -> 0 | AN41: {=LEFT(D41,3)} | AO41: {=LEFT(E41,3)}
... I47: {=IF(H47="Neterminuota",0.0131,IF(H47="Terminuota",0.0203,0))} -> 0 | K47: {=IF(J47="Biudžetinė",0.0014,IF(J47="Verslo įm. ir kt.",0.0046,IF(J47="Kitos organizacijos**",0.003,0)))} -> 0 | R47: {=IF(N47="Mėnesinis",ROUND(O47/P47*Q47,2),IF(N47="Valandinis",ROUND(O47*Q47,2)," "))} | Y47: {=_xlfn.IFERROR(ROUND(((I47+K47)*(R47+S47+T47+U47+W47+X47))+(R47+S47+T47+U47+W47+X47)+V47,2),"0")} -> 0 | AB47: {=IF(OR(Z47="",AA47=""),"",VLOOKUP(CONCATENATE(Z47," dienų darbo savaitė"),'Atostogų išmokų FN'!$A$7:$AH$8,AA47-16)/100)} | AC47: {=ROUND(IF(Z47="",0,(SUM(R47:U47,W47)*(1+(I47+K47))*AB47)),2)} -> 0 | AN47: {=LEFT(D47,3)} | AO47: {=LEFT(E47,3)}
B48: {=IF(OR(D48<>"",F48<>"",D63<>"",F63<>""),B29+1,"")} | I48: {=IF(H48="Neterminuota",0.0131,IF(H48="Terminuota",0.0203,0))} -> 0 | K48: {=IF(J48="Biudžetinė",0.0014,IF(J48="Verslo įm. ir kt.",0.0046,IF(J48="Kitos organizacijos**",0.003,0)))} -> 0 | R48: {=IF(N48="Mėnesinis",ROUND(O48/P48*Q48,2),IF(N48="Valandinis",ROUND(O48*Q48,2)," "))} | Y48: {=_xlfn.IFERROR(ROUND(((I48+K48)*(R48+S48+T48+U48+W48+X48))+(R48+S48+T48+U48+W48+X48)+V48,2),"0")} -> 0 | AB48: {=IF(OR(Z48="",AA48=""),"",VLOOKUP(CONCATENATE(Z48," dienų darbo savaitė"),'Atostogų išmokų FN'!$A$7:$AH$8,AA48-16)/100)} | AC48: {=ROUND(IF(Z48="",0,(SUM(R48:U48,W48)*(1+(I48+K48))*AB48)),2)} -> 0 | AN48: {=LEFT(D48,3)} | AO48: {=LEFT(E48,3)}
I49: {=IF(H49="Neterminuota",0.0131,IF(H49="Terminuota",0.0203,0))} -> 0 | K49: {=IF(J49="Biudžetinė",0.0014,IF(J49="Verslo įm. ir kt.",0.0046,IF(J49="Kitos organizacijos**",0.003,0)))} -> 0 | R49: {=IF(N49="Mėnesinis",ROUND(O49/P49*Q49,2),IF(N49="Valandinis",ROUND(O49*Q49,2)," "))} | Y49: {=_xlfn.IFERROR(ROUND(((I49+K49)*(R49+S49+T49+U49+W49+X49))+(R49+S49+T49+U49+W49+X49)+V49,2),"0")} -> 0 | AB49: {=IF(OR(Z49="",AA49=""),"",VLOOKUP(CONCATENATE(Z49," dienų darbo savaitė"),'Atostogų išmokų FN'!$A$7:$AH$8,AA49-16)/100)} | AC49: {=ROUND(IF(Z49="",0,(SUM(R49:U49,W49)*(1+(I49+K49))*AB49)),2)} -> 0 | AN49: {=LEFT(D49,3)} | AO49: {=LEFT(E49,3)}
I50: {=IF(H50="Neterminuota",0.0131,IF(H50="Terminuota",0.0203,0))} -> 0 | K50: {=IF(J50="Biudžetinė",0.0014,IF(J50="Verslo įm. ir kt.",0.0046,IF(J50="Kitos organizacijos**",0.003,0)))} -> 0 | R50: {=IF(N50="Mėnesinis",ROUND(O50/P50*Q50,2),IF(N50="Valandinis",ROUND(O50*Q50,2)," "))} | Y50: {=_xlfn.IFERROR(ROUND(((I50+K50)*(R50+S50+T50+U50+W50+X50))+(R50+S50+T50+U50+W50+X50)+V50,2),"0")} -> 0 | AB50: {=IF(OR(Z50="",AA50=""),"",VLOOKUP(CONCATENATE(Z50," dienų darbo savaitė"),'Atostogų išmokų FN'!$A$7:$AH$8,AA50-16)/100)} | AC50: {=ROUND(IF(Z50="",0,(SUM(R50:U50,W50)*(1+(I50+K50))*AB50)),2)} -> 0 | AN50: {=LEFT(D50,3)} | AO50: {=LEFT(E50,3)}
I51: {=IF(H51="Neterminuota",0.0131,IF(H51="Terminuota",0.0203,0))} -> 0 | K51: {=IF(J51="Biudžetinė",0.0014,IF(J51="Verslo įm. ir kt.",0.0046,IF(J51="Kitos organizacijos**",0.003,0)))} -> 0 | R51: {=IF(N51="Mėnesinis",ROUND(O51/P51*Q51,2),IF(N51="Valandinis",ROUND(O51*Q51,2)," "))} | Y51: {=_xlfn.IFERROR(ROUND(((I51+K51)*(R51+S51+T51+U51+W51+X51))+(R51+S51+T51+U51+W51+X51)+V51,2),"0")} -> 0 | AB51: {=IF(OR(Z51="",AA51=""),"",VLOOKUP(CONCATENATE(Z51," dienų darbo savaitė"),'Atostogų išmokų FN'!$A$7:$AH$8,AA51-16)/100)} | AC51: {=ROUND(IF(Z51="",0,(SUM(R51:U51,W51)*(1+(I51+K51))*AB51)),2)} -> 0 | AN51: {=LEFT(D51,3)} | AO51: {=LEFT(E51,3)}
I52: {=IF(H52="Neterminuota",0.0131,IF(H52="Terminuota",0.0203,0))} -> 0 | K52: {=IF(J52="Biudžetinė",0.0014,IF(J52="Verslo įm. ir kt.",0.0046,IF(J52="Kitos organizacijos**",0.003,0)))} -> 0 | R52: {=IF(N52="Mėnesinis",ROUND(O52/P52*Q52,2),IF(N52="Valandinis",ROUND(O52*Q52,2)," "))} | Y52: {=_xlfn.IFERROR(ROUND(((I52+K52)*(R52+S52+T52+U52+W52+X52))+(R52+S52+T52+U52+W52+X52)+V52,2),"0")} -> 0 | AB52: {=IF(OR(Z52="",AA52=""),"",VLOOKUP(CONCATENATE(Z52," dienų darbo savaitė"),'Atostogų išmokų FN'!$A$7:$AH$8,AA52-16)/100)} | AC52: {=ROUND(IF(Z52="",0,(SUM(R52:U52,W52)*(1+(I52+K52))*AB52)),2)} -> 0 | AN52: {=LEFT(D52,3)} | AO52: {=LEFT(E52,3)}
I53: {=IF(H53="Neterminuota",0.0131,IF(H53="Terminuota",0.0203,0))} -> 0 | K53: {=IF(J53="Biudžetinė",0.0014,IF(J53="Verslo įm. ir kt.",0.0046,IF(J53="Kitos organizacijos**",0.003,0)))} -> 0 | R53: {=IF(N53="Mėnesinis",ROUND(O53/P53*Q53,2),IF(N53="Valandinis",ROUND(O53*Q53,2)," "))} | Y53: {=_xlfn.IFERROR(ROUND(((I53+K53)*(R53+S53+T53+U53+W53+X53))+(R53+S53+T53+U53+W53+X53)+V53,2),"0")} -> 0 | AB53: {=IF(OR(Z53="",AA53=""),"",VLOOKUP(CONCATENATE(Z53," dienų darbo savaitė"),'Atostogų išmokų FN'!$A$7:$AH$8,AA53-16)/100)} | AC53: {=ROUND(IF(Z53="",0,(SUM(R53:U53,W53)*(1+(I53+K53))*AB53)),2)} -> 0 | AN53: {=LEFT(D53,3)} | AO53: {=LEFT(E53,3)}
I54: {=IF(H54="Neterminuota",0.0131,IF(H54="Terminuota",0.0203,0))} -> 0 | K54: {=IF(J54="Biudžetinė",0.0014,IF(J54="Verslo įm. ir kt.",0.0046,IF(J54="Kitos organizacijos**",0.003,0)))} -> 0 | R54: {=IF(N54="Mėnesinis",ROUND(O54/P54*Q54,2),IF(N54="Valandinis",ROUND(O54*Q54,2)," "))} | Y54: {=_xlfn.IFERROR(ROUND(((I54+K54)*(R54+S54+T54+U54+W54+X54))+(R54+S54+T54+U54+W54+X54)+V54,2),"0")} -> 0 | AB54: {=IF(OR(Z54="",AA54=""),"",VLOOKUP(CONCATENATE(Z54," dienų darbo savaitė"),'Atostogų išmokų FN'!$A$7:$AH$8,AA54-16)/100)} | AC54: {=ROUND(IF(Z54="",0,(SUM(R54:U54,W54)*(1+(I54+K54))*AB54)),2)} -> 0 | AN54: {=LEFT(D54,3)} | AO54: {=LEFT(E54,3)}
I55: {=IF(H55="Neterminuota",0.0131,IF(H55="Terminuota",0.0203,0))} -> 0 | K55: {=IF(J55="Biudžetinė",0.0014,IF(J55="Verslo įm. ir kt.",0.0046,IF(J55="Kitos organizacijos**",0.003,0)))} -> 0 | R55: {=IF(N55="Mėnesinis",ROUND(O55/P55*Q55,2),IF(N55="Valandinis",ROUND(O55*Q55,2)," "))} | Y55: {=_xlfn.IFERROR(ROUND(((I55+K55)*(R55+S55+T55+U55+W55+X55))+(R55+S55+T55+U55+W55+X55)+V55,2),"0")} -> 0 | AB55: {=IF(OR(Z55="",AA55=""),"",VLOOKUP(CONCATENATE(Z55," dienų darbo savaitė"),'Atostogų išmokų FN'!$A$7:$AH$8,AA55-16)/100)} | AC55: {=ROUND(IF(Z55="",0,(SUM(R55:U55,W55)*(1+(I55+K55))*AB55)),2)} -> 0 | AN55: {=LEFT(D55,3)} | AO55: {=LEFT(E55,3)}
I56: {=IF(H56="Neterminuota",0.0131,IF(H56="Terminuota",0.0203,0))} -> 0 | K56: {=IF(J56="Biudžetinė",0.0014,IF(J56="Verslo įm. ir kt.",0.0046,IF(J56="Kitos organizacijos**",0.003,0)))} -> 0 | R56: {=IF(N56="Mėnesinis",ROUND(O56/P56*Q56,2),IF(N56="Valandinis",ROUND(O56*Q56,2)," "))} | Y56: {=_xlfn.IFERROR(ROUND(((I56+K56)*(R56+S56+T56+U56+W56+X56))+(R56+S56+T56+U56+W56+X56)+V56,2),"0")} -> 0 | AB56: {=IF(OR(Z56="",AA56=""),"",VLOOKUP(CONCATENATE(Z56," dienų darbo savaitė"),'Atostogų išmokų FN'!$A$7:$AH$8,AA56-16)/100)} | AC56: {=ROUND(IF(Z56="",0,(SUM(R56:U56,W56)*(1+(I56+K56))*AB56)),2)} -> 0 | AN56: {=LEFT(D56,3)} | AO56: {=LEFT(E56,3)}
I57: {=IF(H57="Neterminuota",0.0131,IF(H57="Terminuota",0.0203,0))} -> 0 | K57: {=IF(J57="Biudžetinė",0.0014,IF(J57="Verslo įm. ir kt.",0.0046,IF(J57="Kitos organizacijos**",0.003,0)))} -> 0 | R57: {=IF(N57="Mėnesinis",ROUND(O57/P57*Q57,2),IF(N57="Valandinis",ROUND(O57*Q57,2)," "))} | Y57: {=_xlfn.IFERROR(ROUND(((I57+K57)*(R57+S57+T57+U57+W57+X57))+(R57+S57+T57+U57+W57+X57)+V57,2),"0")} -> 0 | AB57: {=IF(OR(Z57="",AA57=""),"",VLOOKUP(CONCATENATE(Z57," dienų darbo savaitė"),'Atostogų išmokų FN'!$A$7:$AH$8,AA57-16)/100)} | AC57: {=ROUND(IF(Z57="",0,(SUM(R57:U57,W57)*(1+(I57+K57))*AB57)),2)} -> 0 | AN57: {=LEFT(D57,3)} | AO57: {=LEFT(E57,3)}
I58: {=IF(H58="Neterminuota",0.0131,IF(H58="Terminuota",0.0203,0))} -> 0 | K58: {=IF(J58="Biudžetinė",0.0014,IF(J58="Verslo įm. ir kt.",0.0046,IF(J58="Kitos organizacijos**",0.003,0)))} -> 0 | R58: {=IF(N58="Mėnesinis",ROUND(O58/P58*Q58,2),IF(N58="Valandinis",ROUND(O58*Q58,2)," "))} | Y58: {=_xlfn.IFERROR(ROUND(((I58+K58)*(R58+S58+T58+U58+W58+X58))+(R58+S58+T58+U58+W58+X58)+V58,2),"0")} -> 0 | AB58: {=IF(OR(Z58="",AA58=""),"",VLOOKUP(CONCATENATE(Z58," dienų darbo savaitė"),'Atostogų išmokų FN'!$A$7:$AH$8,AA58-16)/100)} | AC58: {=ROUND(IF(Z58="",0,(SUM(R58:U58,W58)*(1+(I58+K58))*AB58)),2)} -> 0 | AN58: {=LEFT(D58,3)} | AO58: {=LEFT(E58,3)}
I59: {=IF(H59="Neterminuota",0.0131,IF(H59="Terminuota",0.0203,0))} -> 0 | K59: {=IF(J59="Biudžetinė",0.0014,IF(J59="Verslo įm. ir kt.",0.0046,IF(J59="Kitos organizacijos**",0.003,0)))} -> 0 | R59: {=IF(N59="Mėnesinis",ROUND(O59/P59*Q59,2),IF(N59="Valandinis",ROUND(O59*Q59,2)," "))} | Y59: {=_xlfn.IFERROR(ROUND(((I59+K59)*(R59+S59+T59+U59+W59+X59))+(R59+S59+T59+U59+W59+X59)+V59,2),"0")} -> 0 | AB59: {=IF(OR(Z59="",AA59=""),"",VLOOKUP(CONCATENATE(Z59," dienų darbo savaitė"),'Atostogų išmokų FN'!$A$7:$AH$8,AA59-16)/100)} | AC59: {=ROUND(IF(Z59="",0,(SUM(R59:U59,W59)*(1+(I59+K59))*AB59)),2)} -> 0 | AN59: {=LEFT(D59,3)} | AO59: {=LEFT(E59,3)}
I60: {=IF(H60="Neterminuota",0.0131,IF(H60="Terminuota",0.0203,0))} -> 0 | K60: {=IF(J60="Biudžetinė",0.0014,IF(J60="Verslo įm. ir kt.",0.0046,IF(J60="Kitos organizacijos**",0.003,0)))} -> 0 | R60: {=IF(N60="Mėnesinis",ROUND(O60/P60*Q60,2),IF(N60="Valandinis",ROUND(O60*Q60,2)," "))} | Y60: {=_xlfn.IFERROR(ROUND(((I60+K60)*(R60+S60+T60+U60+W60+X60))+(R60+S60+T60+U60+W60+X60)+V60,2),"0")} -> 0 | AB60: {=IF(OR(Z60="",AA60=""),"",VLOOKUP(CONCATENATE(Z60," dienų darbo savaitė"),'Atostogų išmokų FN'!$A$7:$AH$8,AA60-16)/100)} | AC60: {=ROUND(IF(Z60="",0,(SUM(R60:U60,W60)*(1+(I60+K60))*AB60)),2)} -> 0 | AN60: {=LEFT(D60,3)} | AO60: {=LEFT(E60,3)}
... I62: {=IF(H62="Neterminuota",0.0131,IF(H62="Terminuota",0.0203,0))} -> 0 | K62: {=IF(J62="Biudžetinė",0.0014,IF(J62="Verslo įm. ir kt.",0.0046,IF(J62="Kitos organizacijos**",0.003,0)))} -> 0 | R62: {=IF(N62="Mėnesinis",ROUND(O62/P62*Q62,2),IF(N62="Valandinis",ROUND(O62*Q62,2)," "))} | Y62: {=_xlfn.IFERROR(ROUND(((I62+K62)*(R62+S62+T62+U62+W62+X62))+(R62+S62+T62+U62+W62+X62)+V62,2),"0")} -> 0 | AB62: {=IF(OR(Z62="",AA62=""),"",VLOOKUP(CONCATENATE(Z62," dienų darbo savaitė"),'Atostogų išmokų FN'!$A$7:$AH$8,AA62-16)/100)} | AC62: {=ROUND(IF(Z62="",0,(SUM(R62:U62,W62)*(1+(I62+K62))*AB62)),2)} -> 0 | AN62: {=LEFT(D62,3)} | AO62: {=LEFT(E62,3)}
B63: {=IF(OR(D63<>"",F63<>"",D64<>"",F64<>""),B48+1,"")} | I63: {=IF(H63="Neterminuota",0.0131,IF(H63="Terminuota",0.0203,0))} -> 0 | K63: {=IF(J63="Biudžetinė",0.0014,IF(J63="Verslo įm. ir kt.",0.0046,IF(J63="Kitos organizacijos**",0.003,0)))} -> 0 | R63: {=IF(N63="Mėnesinis",ROUND(O63/P63*Q63,2),IF(N63="Valandinis",ROUND(O63*Q63,2)," "))} | Y63: {=_xlfn.IFERROR(ROUND(((I63+K63)*(R63+S63+T63+U63+W63+X63))+(R63+S63+T63+U63+W63+X63)+V63,2),"0")} -> 0 | AB63: {=IF(OR(Z63="",AA63=""),"",VLOOKUP(CONCATENATE(Z63," dienų darbo savaitė"),'Atostogų išmokų FN'!$A$7:$AH$8,AA63-16)/100)} | AC63: {=ROUND(IF(Z63="",0,(SUM(R63:U63,W63)*(1+(I63+K63))*AB63)),2)} -> 0 | AN63: {=LEFT(D63,3)} | AO63: {=LEFT(E63,3)}
B64: {=IF(OR(D64<>"",F64<>"",D65<>"",F65<>""),B63+1,"")} | I64: {=IF(H64="Neterminuota",0.0131,IF(H64="Terminuota",0.0203,0))} -> 0 | K64: {=IF(J64="Biudžetinė",0.0014,IF(J64="Verslo įm. ir kt.",0.0046,IF(J64="Kitos organizacijos**",0.003,0)))} -> 0 | R64: {=IF(N64="Mėnesinis",ROUND(O64/P64*Q64,2),IF(N64="Valandinis",ROUND(O64*Q64,2)," "))} | Y64: {=_xlfn.IFERROR(ROUND(((I64+K64)*(R64+S64+T64+U64+W64+X64))+(R64+S64+T64+U64+W64+X64)+V64,2),"0")} -> 0 | AB64: {=IF(OR(Z64="",AA64=""),"",VLOOKUP(CONCATENATE(Z64," dienų darbo savaitė"),'Atostogų išmokų FN'!$A$7:$AH$8,AA64-16)/100)} | AC64: {=ROUND(IF(Z64="",0,(SUM(R64:U64,W64)*(1+(I64+K64))*AB64)),2)} -> 0 | AN64: {=LEFT(D64,3)} | AO64: {=LEFT(E64,3)}
B65: {=IF(OR(D65<>"",F65<>"",D66<>"",F66<>""),B64+1,"")} | I65: {=IF(H65="Neterminuota",0.0131,IF(H65="Terminuota",0.0203,0))} -> 0 | K65: {=IF(J65="Biudžetinė",0.0014,IF(J65="Verslo įm. ir kt.",0.0046,IF(J65="Kitos organizacijos**",0.003,0)))} -> 0 | R65: {=IF(N65="Mėnesinis",ROUND(O65/P65*Q65,2),IF(N65="Valandinis",ROUND(O65*Q65,2)," "))} | Y65: {=_xlfn.IFERROR(ROUND(((I65+K65)*(R65+S65+T65+U65+W65+X65))+(R65+S65+T65+U65+W65+X65)+V65,2),"0")} -> 0 | AB65: {=IF(OR(Z65="",AA65=""),"",VLOOKUP(CONCATENATE(Z65," dienų darbo savaitė"),'Atostogų išmokų FN'!$A$7:$AH$8,AA65-16)/100)} | AC65: {=ROUND(IF(Z65="",0,(SUM(R65:U65,W65)*(1+(I65+K65))*AB65)),2)} -> 0 | AN65: {=LEFT(D65,3)} | AO65: {=LEFT(E65,3)}
B66: {=IF(OR(D66<>"",F66<>"",D67<>"",F67<>""),B65+1,"")} | I66: {=IF(H66="Neterminuota",0.0131,IF(H66="Terminuota",0.0203,0))} -> 0 | K66: {=IF(J66="Biudžetinė",0.0014,IF(J66="Verslo įm. ir kt.",0.0046,IF(J66="Kitos organizacijos**",0.003,0)))} -> 0 | R66: {=IF(N66="Mėnesinis",ROUND(O66/P66*Q66,2),IF(N66="Valandinis",ROUND(O66*Q66,2)," "))} | Y66: {=_xlfn.IFERROR(ROUND(((I66+K66)*(R66+S66+T66+U66+W66+X66))+(R66+S66+T66+U66+W66+X66)+V66,2),"0")} -> 0 | AB66: {=IF(OR(Z66="",AA66=""),"",VLOOKUP(CONCATENATE(Z66," dienų darbo savaitė"),'Atostogų išmokų FN'!$A$7:$AH$8,AA66-16)/100)} | AC66: {=ROUND(IF(Z66="",0,(SUM(R66:U66,W66)*(1+(I66+K66))*AB66)),2)} -> 0 | AN66: {=LEFT(D66,3)} | AO66: {=LEFT(E66,3)}
B67: {=IF(OR(D67<>"",F67<>"",D68<>"",F68<>""),B66+1,"")} | I67: {=IF(H67="Neterminuota",0.0131,IF(H67="Terminuota",0.0203,0))} -> 0 | K67: {=IF(J67="Biudžetinė",0.0014,IF(J67="Verslo įm. ir kt.",0.0046,IF(J67="Kitos organizacijos**",0.003,0)))} -> 0 | R67: {=IF(N67="Mėnesinis",ROUND(O67/P67*Q67,2),IF(N67="Valandinis",ROUND(O67*Q67,2)," "))} | Y67: {=_xlfn.IFERROR(ROUND(((I67+K67)*(R67+S67+T67+U67+W67+X67))+(R67+S67+T67+U67+W67+X67)+V67,2),"0")} -> 0 | AB67: {=IF(OR(Z67="",AA67=""),"",VLOOKUP(CONCATENATE(Z67," dienų darbo savaitė"),'Atostogų išmokų FN'!$A$7:$AH$8,AA67-16)/100)} | AC67: {=ROUND(IF(Z67="",0,(SUM(R67:U67,W67)*(1+(I67+K67))*AB67)),2)} -> 0 | AN67: {=LEFT(D67,3)} | AO67: {=LEFT(E67,3)}
B68: {=IF(OR(D68<>"",F68<>"",D69<>"",F69<>""),B67+1,"")} | I68: {=IF(H68="Neterminuota",0.0131,IF(H68="Terminuota",0.0203,0))} -> 0 | K68: {=IF(J68="Biudžetinė",0.0014,IF(J68="Verslo įm. ir kt.",0.0046,IF(J68="Kitos organizacijos**",0.003,0)))} -> 0 | R68: {=IF(N68="Mėnesinis",ROUND(O68/P68*Q68,2),IF(N68="Valandinis",ROUND(O68*Q68,2)," "))} | Y68: {=_xlfn.IFERROR(ROUND(((I68+K68)*(R68+S68+T68+U68+W68+X68))+(R68+S68+T68+U68+W68+X68)+V68,2),"0")} -> 0 | AB68: {=IF(OR(Z68="",AA68=""),"",VLOOKUP(CONCATENATE(Z68," dienų darbo savaitė"),'Atostogų išmokų FN'!$A$7:$AH$8,AA68-16)/100)} | AC68: {=ROUND(IF(Z68="",0,(SUM(R68:U68,W68)*(1+(I68+K68))*AB68)),2)} -> 0 | AN68: {=LEFT(D68,3)} | AO68: {=LEFT(E68,3)}
B69: {=IF(OR(D69<>"",F69<>"",D70<>"",F70<>""),B68+1,"")} | I69: {=IF(H69="Neterminuota",0.0131,IF(H69="Terminuota",0.0203,0))} -> 0 | K69: {=IF(J69="Biudžetinė",0.0014,IF(J69="Verslo įm. ir kt.",0.0046,IF(J69="Kitos organizacijos**",0.003,0)))} -> 0 | R69: {=IF(N69="Mėnesinis",ROUND(O69/P69*Q69,2),IF(N69="Valandinis",ROUND(O69*Q69,2)," "))} | Y69: {=_xlfn.IFERROR(ROUND(((I69+K69)*(R69+S69+T69+U69+W69+X69))+(R69+S69+T69+U69+W69+X69)+V69,2),"0")} -> 0 | AB69: {=IF(OR(Z69="",AA69=""),"",VLOOKUP(CONCATENATE(Z69," dienų darbo savaitė"),'Atostogų išmokų FN'!$A$7:$AH$8,AA69-16)/100)} | AC69: {=ROUND(IF(Z69="",0,(SUM(R69:U69,W69)*(1+(I69+K69))*AB69)),2)} -> 0 | AN69: {=LEFT(D69,3)} | AO69: {=LEFT(E69,3)}
B70: {=IF(OR(D70<>"",F70<>"",D71<>"",F71<>""),B69+1,"")} | I70: {=IF(H70="Neterminuota",0.0131,IF(H70="Terminuota",0.0203,0))} -> 0 | K70: {=IF(J70="Biudžetinė",0.0014,IF(J70="Verslo įm. ir kt.",0.0046,IF(J70="Kitos organizacijos**",0.003,0)))} -> 0 | R70: {=IF(N70="Mėnesinis",ROUND(O70/P70*Q70,2),IF(N70="Valandinis",ROUND(O70*Q70,2)," "))} | Y70: {=_xlfn.IFERROR(ROUND(((I70+K70)*(R70+S70+T70+U70+W70+X70))+(R70+S70+T70+U70+W70+X70)+V70,2),"0")} -> 0 | AB70: {=IF(OR(Z70="",AA70=""),"",VLOOKUP(CONCATENATE(Z70," dienų darbo savaitė"),'Atostogų išmokų FN'!$A$7:$AH$8,AA70-16)/100)} | AC70: {=ROUND(IF(Z70="",0,(SUM(R70:U70,W70)*(1+(I70+K70))*AB70)),2)} -> 0 | AN70: {=LEFT(D70,3)} | AO70: {=LEFT(E70,3)}
B71: {=IF(OR(D71<>"",F71<>"",D72<>"",F72<>""),B70+1,"")} | I71: {=IF(H71="Neterminuota",0.0131,IF(H71="Terminuota",0.0203,0))} -> 0 | K71: {=IF(J71="Biudžetinė",0.0014,IF(J71="Verslo įm. ir kt.",0.0046,IF(J71="Kitos organizacijos**",0.003,0)))} -> 0 | R71: {=IF(N71="Mėnesinis",ROUND(O71/P71*Q71,2),IF(N71="Valandinis",ROUND(O71*Q71,2)," "))} | Y71: {=_xlfn.IFERROR(ROUND(((I71+K71)*(R71+S71+T71+U71+W71+X71))+(R71+S71+T71+U71+W71+X71)+V71,2),"0")} -> 0 | AB71: {=IF(OR(Z71="",AA71=""),"",VLOOKUP(CONCATENATE(Z71," dienų darbo savaitė"),'Atostogų išmokų FN'!$A$7:$AH$8,AA71-16)/100)} | AC71: {=ROUND(IF(Z71="",0,(SUM(R71:U71,W71)*(1+(I71+K71))*AB71)),2)} -> 0 | AN71: {=LEFT(D71,3)} | AO71: {=LEFT(E71,3)}
B72: {=IF(OR(D72<>"",F72<>"",D73<>"",F73<>""),B71+1,"")} | I72: {=IF(H72="Neterminuota",0.0131,IF(H72="Terminuota",0.0203,0))} -> 0 | K72: {=IF(J72="Biudžetinė",0.0014,IF(J72="Verslo įm. ir kt.",0.0046,IF(J72="Kitos organizacijos**",0.003,0)))} -> 0 | R72: {=IF(N72="Mėnesinis",ROUND(O72/P72*Q72,2),IF(N72="Valandinis",ROUND(O72*Q72,2)," "))} | Y72: {=_xlfn.IFERROR(ROUND(((I72+K72)*(R72+S72+T72+U72+W72+X72))+(R72+S72+T72+U72+W72+X72)+V72,2),"0")} -> 0 | AB72: {=IF(OR(Z72="",AA72=""),"",VLOOKUP(CONCATENATE(Z72," dienų darbo savaitė"),'Atostogų išmokų FN'!$A$7:$AH$8,AA72-16)/100)} | AC72: {=ROUND(IF(Z72="",0,(SUM(R72:U72,W72)*(1+(I72+K72))*AB72)),2)} -> 0 | AN72: {=LEFT(D72,3)} | AO72: {=LEFT(E72,3)}
B73: {=IF(OR(D73<>"",F73<>"",D74<>"",F74<>""),B72+1,"")} | I73: {=IF(H73="Neterminuota",0.0131,IF(H73="Terminuota",0.0203,0))} -> 0 | K73: {=IF(J73="Biudžetinė",0.0014,IF(J73="Verslo įm. ir kt.",0.0046,IF(J73="Kitos organizacijos**",0.003,0)))} -> 0 | R73: {=IF(N73="Mėnesinis",ROUND(O73/P73*Q73,2),IF(N73="Valandinis",ROUND(O73*Q73,2)," "))} | Y73: {=_xlfn.IFERROR(ROUND(((I73+K73)*(R73+S73+T73+U73+W73+X73))+(R73+S73+T73+U73+W73+X73)+V73,2),"0")} -> 0 | AB73: {=IF(OR(Z73="",AA73=""),"",VLOOKUP(CONCATENATE(Z73," dienų darbo savaitė"),'Atostogų išmokų FN'!$A$7:$AH$8,AA73-16)/100)} | AC73: {=ROUND(IF(Z73="",0,(SUM(R73:U73,W73)*(1+(I73+K73))*AB73)),2)} -> 0 | AN73: {=LEFT(D73,3)} | AO73: {=LEFT(E73,3)}
B74: {=IF(OR(D74<>"",F74<>"",D75<>"",F75<>""),B73+1,"")} | I74: {=IF(H74="Neterminuota",0.0131,IF(H74="Terminuota",0.0203,0))} -> 0 | K74: {=IF(J74="Biudžetinė",0.0014,IF(J74="Verslo įm. ir kt.",0.0046,IF(J74="Kitos organizacijos**",0.003,0)))} -> 0 | R74: {=IF(N74="Mėnesinis",ROUND(O74/P74*Q74,2),IF(N74="Valandinis",ROUND(O74*Q74,2)," "))} | Y74: {=_xlfn.IFERROR(ROUND(((I74+K74)*(R74+S74+T74+U74+W74+X74))+(R74+S74+T74+U74+W74+X74)+V74,2),"0")} -> 0 | AB74: {=IF(OR(Z74="",AA74=""),"",VLOOKUP(CONCATENATE(Z74," dienų darbo savaitė"),'Atostogų išmokų FN'!$A$7:$AH$8,AA74-16)/100)} | AC74: {=ROUND(IF(Z74="",0,(SUM(R74:U74,W74)*(1+(I74+K74))*AB74)),2)} -> 0 | AN74: {=LEFT(D74,3)} | AO74: {=LEFT(E74,3)}
B75: {=IF(OR(D75<>"",F75<>"",D76<>"",F76<>""),B74+1,"")} | I75: {=IF(H75="Neterminuota",0.0131,IF(H75="Terminuota",0.0203,0))} -> 0 | K75: {=IF(J75="Biudžetinė",0.0014,IF(J75="Verslo įm. ir kt.",0.0046,IF(J75="Kitos organizacijos**",0.003,0)))} -> 0 | R75: {=IF(N75="Mėnesinis",ROUND(O75/P75*Q75,2),IF(N75="Valandinis",ROUND(O75*Q75,2)," "))} | Y75: {=_xlfn.IFERROR(ROUND(((I75+K75)*(R75+S75+T75+U75+W75+X75))+(R75+S75+T75+U75+W75+X75)+V75,2),"0")} -> 0 | AB75: {=IF(OR(Z75="",AA75=""),"",VLOOKUP(CONCATENATE(Z75," dienų darbo savaitė"),'Atostogų išmokų FN'!$A$7:$AH$8,AA75-16)/100)} | AC75: {=ROUND(IF(Z75="",0,(SUM(R75:U75,W75)*(1+(I75+K75))*AB75)),2)} -> 0 | AN75: {=LEFT(D75,3)} | AO75: {=LEFT(E75,3)}
... B94: {=IF(OR(D94<>"",F94<>"",D95<>"",F95<>""),B93+1,"")} | I94: {=IF(H94="Neterminuota",0.0131,IF(H94="Terminuota",0.0203,0))} -> 0 | K94: {=IF(J94="Biudžetinė",0.0014,IF(J94="Verslo įm. ir kt.",0.0046,IF(J94="Kitos organizacijos**",0.003,0)))} -> 0 | R94: {=IF(N94="Mėnesinis",ROUND(O94/P94*Q94,2),IF(N94="Valandinis",ROUND(O94*Q94,2)," "))} | Y94: {=_xlfn.IFERROR(ROUND(((I94+K94)*(R94+S94+T94+U94+W94+X94))+(R94+S94+T94+U94+W94+X94)+V94,2),"0")} -> 0 | AB94: {=IF(OR(Z94="",AA94=""),"",VLOOKUP(CONCATENATE(Z94," dienų darbo savaitė"),'Atostogų išmokų FN'!$A$7:$AH$8,AA94-16)/100)} | AC94: {=ROUND(IF(Z94="",0,(SUM(R94:U94,W94)*(1+(I94+K94))*AB94)),2)} -> 0 | AN94: {=LEFT(D94,3)} | AO94: {=LEFT(E94,3)}
B95: {=IF(OR(D95<>"",F95<>"",D98<>"",F98<>""),B94+1,"")} | I95: {=IF(H95="Neterminuota",0.0131,IF(H95="Terminuota",0.0203,0))} -> 0 | K95: {=IF(J95="Biudžetinė",0.0014,IF(J95="Verslo įm. ir kt.",0.0046,IF(J95="Kitos organizacijos**",0.003,0)))} -> 0 | R95: {=IF(N95="Mėnesinis",ROUND(O95/P95*Q95,2),IF(N95="Valandinis",ROUND(O95*Q95,2)," "))} | Y95: {=_xlfn.IFERROR(ROUND(((I95+K95)*(R95+S95+T95+U95+W95+X95))+(R95+S95+T95+U95+W95+X95)+V95,2),"0")} -> 0 | AB95: {=IF(OR(Z95="",AA95=""),"",VLOOKUP(CONCATENATE(Z95," dienų darbo savaitė"),'Atostogų išmokų FN'!$A$7:$AH$8,AA95-16)/100)} | AC95: {=ROUND(IF(Z95="",0,(SUM(R95:U95,W95)*(1+(I95+K95))*AB95)),2)} -> 0 | AN95: {=LEFT(D95,3)} | AO95: {=LEFT(E95,3)}
I96: {=IF(H96="Neterminuota",0.0131,IF(H96="Terminuota",0.0203,0))} -> 0 | K96: {=IF(J96="Biudžetinė",0.0014,IF(J96="Verslo įm. ir kt.",0.0046,IF(J96="Kitos organizacijos**",0.003,0)))} -> 0 | Y96: {=_xlfn.IFERROR(ROUND(((I96+K96)*(R96+S96+T96+U96+W96+X96))+(R96+S96+T96+U96+W96+X96)+V96,2),"0")} -> 0 | AC96: {=ROUND(IF(Z96="",0,(SUM(R96:U96,W96)*(1+(I96+K96))*AB96)),2)} -> 0 | AN96: {=LEFT(D96,3)} | AO96: {=LEFT(E96,3)}
I97: {=IF(H97="Neterminuota",0.0131,IF(H97="Terminuota",0.0203,0))} -> 0 | K97: {=IF(J97="Biudžetinė",0.0014,IF(J97="Verslo įm. ir kt.",0.0046,IF(J97="Kitos organizacijos**",0.003,0)))} -> 0 | Y97: {=_xlfn.IFERROR(ROUND(((I97+K97)*(R97+S97+T97+U97+W97+X97))+(R97+S97+T97+U97+W97+X97)+V97,2),"0")} -> 0 | AC97: {=ROUND(IF(Z97="",0,(SUM(R97:U97,W97)*(1+(I97+K97))*AB97)),2)} -> 0 | AN97: {=LEFT(D97,3)} | AO97: {=LEFT(E97,3)}
B98: {=IF(OR(D98<>"",F98<>"",D100<>"",F100<>""),B95+1,"")} | I98: {=IF(H98="Neterminuota",0.0131,IF(H98="Terminuota",0.0203,0))} -> 0 | K98: {=IF(J98="Biudžetinė",0.0014,IF(J98="Verslo įm. ir kt.",0.0046,IF(J98="Kitos organizacijos**",0.003,0)))} -> 0 | R98: {=IF(N98="Mėnesinis",ROUND(O98/P98*Q98,2),IF(N98="Valandinis",ROUND(O98*Q98,2)," "))} | Y98: {=_xlfn.IFERROR(ROUND(((I98+K98)*(R98+S98+T98+U98+W98+X98))+(R98+S98+T98+U98+W98+X98)+V98,2),"0")} -> 0 | AB98: {=IF(OR(Z98="",AA98=""),"",VLOOKUP(CONCATENATE(Z98," dienų darbo savaitė"),'Atostogų išmokų FN'!$A$7:$AH$8,AA98-16)/100)} | AC98: {=ROUND(IF(Z98="",0,(SUM(R98:U98,W98)*(1+(I98+K98))*AB98)),2)} -> 0 | AN98: {=LEFT(D98,3)} | AO98: {=LEFT(E98,3)}
B99: {=IF(OR(D99<>"",F99<>"",D101<>"",F101<>""),B98+1,"")} | I99: {=IF(H99="Neterminuota",0.0131,IF(H99="Terminuota",0.0203,0))} -> 0 | K99: {=IF(J99="Biudžetinė",0.0014,IF(J99="Verslo įm. ir kt.",0.0046,IF(J99="Kitos organizacijos**",0.003,0)))} -> 0 | R99: {=IF(N99="Mėnesinis",ROUND(O99/P99*Q99,2),IF(N99="Valandinis",ROUND(O99*Q99,2)," "))} | Y99: {=_xlfn.IFERROR(ROUND(((I99+K99)*(R99+S99+T99+U99+W99+X99))+(R99+S99+T99+U99+W99+X99)+V99,2),"0")} -> 0 | AB99: {=IF(OR(Z99="",AA99=""),"",VLOOKUP(CONCATENATE(Z99," dienų darbo savaitė"),'Atostogų išmokų FN'!$A$7:$AH$8,AA99-16)/100)} | AC99: {=ROUND(IF(Z99="",0,(SUM(R99:U99,W99)*(1+(I99+K99))*AB99)),2)} -> 0 | AN99: {=LEFT(D99,3)} | AO99: {=LEFT(E99,3)}
B100: {=IF(OR(D100<>"",F100<>"",D101<>"",F101<>""),B98+1,"")} | I100: {=IF(H100="Neterminuota",0.0131,IF(H100="Terminuota",0.0203,0))} -> 0 | K100: {=IF(J100="Biudžetinė",0.0014,IF(J100="Verslo įm. ir kt.",0.0046,IF(J100="Kitos organizacijos**",0.003,0)))} -> 0 | R100: {=IF(N100="Mėnesinis",ROUND(O100/P100*Q100,2),IF(N100="Valandinis",ROUND(O100*Q100,2)," "))} | Y100: {=_xlfn.IFERROR(ROUND(((I100+K100)*(R100+S100+T100+U100+W100+X100))+(R100+S100+T100+U100+W100+X100)+V100,2),"0")} -> 0 | AB100: {=IF(OR(Z100="",AA100=""),"",VLOOKUP(CONCATENATE(Z100," dienų darbo savaitė"),'Atostogų išmokų FN'!$A$7:$AH$8,AA100-16)/100)} | AC100: {=ROUND(IF(Z100="",0,(SUM(R100:U100,W100)*(1+(I100+K100))*AB100)),2)} -> 0 | AN100: {=LEFT(D100,3)} | AO100: {=LEFT(E100,3)}
B101: Iš viso: | O101: {=SUBTOTAL(9,O19:O100)} -> 4102.29 | Q101: {=SUBTOTAL(9,Q19:Q100)} -> 63 | R101: {=SUBTOTAL(9,R19:R100)} -> 4017.95 | S101: {=SUBTOTAL(9,S19:S100)} -> 0 | T101: {=SUBTOTAL(9,T19:T100)} -> 0 | U101: {=SUBTOTAL(9,U19:U100)} -> 0 | V101: {=SUBTOTAL(9,V19:V100)} -> 0 | X101: {=SUBTOTAL(9,X19:X100)} -> 83.34 | Y101: {=SUBTOTAL(9,Y19:Y100)} -> 4192.21 | AC101: {=SUBTOTAL(9,AC19:AC100)} -> 613.42
AN102: {=LEFT(D102,3)} | AO102: {=LEFT(E102,3)}
B103: *Organizacijos tipas pasirenkamas iš sąrašo. Atsižvelgiant į pasirinktą organizacijos tipą, nurodomas bendras įmokų tarifas Garantiniam fondui, Ilgalaikio darbo išmokų fondui ir Nelaimingų atsitikimų darbe ir profesinių ligų socialiniam draudimui. | AN103: {=LEFT(D103,3)} | AO103: {=LEFT(E103,3)}
B104: ** Taikoma politinėms partijoms, profesinėms sąjungoms, religinėms bendruomenėms ir bendrijoms. | AN104: {=LEFT(D104,3)} | AO104: {=LEFT(E104,3)}
B105: *** Premijos už atliktą darbą, nustatytos šalių susitarimu ar mokamos pagal darbo teisės normas ar darbovietėje taikomą darbo apmokėjimo sistemą. | AN105: {=LEFT(D105,3)} | AO105: {=LEFT(E105,3)}
B106: ****Nepildoma, kai dirbtas laikas darbuotojo prašymu pagal DK 144 str. pridedamas prie kasmetinių atostogų laiko (stulpelyje "Komentaras" pažymima, kad laikas pridėtas prie kasmetinių atostogų laiko).
B107: ***** Stulpelyje "Komentaras" pažymima DK 138 str. "Pailgintos atostogos, papildomos atostogos ir kitos lengvatos" dalis, pagal kurią suteikta papildomų ir / ar pailgintų atostogų trukmė.
B108: 3. DEKLARACIJA | AN108: {=LEFT(D108,3)} | AO108: {=LEFT(E108,3)}
B109: Pateikdami šią pažymą dėl darbo užmokesčio priskaitymo, išmokėjimo ir priskyrimo projektui, patvirtiname, kad: - deklaruojamos darbuotojų darbo užmokesčio išlaidos nebuvo finansuotos (apmokėtos) iš Lietuvos Respublikos valstybės biudžeto ir (arba) savivaldybių biudžetų, kitų piniginių išteklių, kuriais disponuoja valstybė ir (arba) savivaldybės, ES fondų, kitų ES finansinės paramos priemonių ar kitos tarptautinės paramos lėšų.
AN110: {=LEFT(D110,3)} | AO110: {=LEFT(E110,3)}
F111: (Institucijos / organizacijos įgalioto asmens pareigos, vardas / pavardė) | AN111: {=LEFT(D111,3)} | AO111: {=LEFT(E111,3)}
AN112: {=LEFT(D112,3)} | AO112: {=LEFT(E112,3)}
AN113: {=LEFT(D113,3)} | AO113: {=LEFT(E113,3)}
AN114: {=LEFT(D114,3)} | AO114: {=LEFT(E114,3)}
AN115: {=LEFT(D115,3)} | AO115: {=LEFT(E115,3)}
AN116: {=LEFT(D116,3)} | AO116: {=LEFT(E116,3)}
AN117: {=LEFT(D117,3)} | AO117: {=LEFT(E117,3)}
AN118: {=LEFT(D118,3)} | AO118: {=LEFT(E118,3)}
AN119: {=LEFT(D119,3)} | AO119: {=LEFT(E119,3)}
AN120: {=LEFT(D120,3)} | AO120: {=LEFT(E120,3)}
AN121: {=LEFT(D121,3)} | AO121: {=LEFT(E121,3)}
AN122: {=LEFT(D122,3)} | AO122: {=LEFT(E122,3)}
AN123: {=LEFT(D123,3)} | AO123: {=LEFT(E123,3)}
... AN544: {=LEFT(D544,3)} | AO544: {=LEFT(E544,3)}

Sheet Atostogų išmokų FN
A2: KASMETINIŲ ATOSTOGŲ IŠMOKŲ FIKSUOTOSIOS NORMOS
A4: Kasmetinių atostogų išmokų fiksuotosios normos, taikomos nuo 2017 m. liepos 1 d. darbuotojams, kuriems kasmetinės atostogos skaičiuojamos darbo dienomis
A5: Darbo savaitės trukmė | D5: Kasmetinių atostogų išmokų fiksuotosios normos nuo tinkamų finansuoti darbo užmokesčio išlaidų, kai kasmetinių atostogų darbo dienų skaičius yra:
D6: 20 | E6: 21 | F6: 22 | G6: 23 | H6: 24 | I6: 25 | J6: 26 | K6: 27 | L6: 28 | M6: 29 | N6: 30 | O6: 31 | P6: 32 | Q6: 33 | R6: 34 | S6: 35 | T6: 36 | U6: 37 | V6: 38 | W6: 39 | X6: 40 | Y6: 41 | Z6: 42 | AA6: 43 | AB6: 44 | AC6: 45 | AD6: 46 | AE6: 47 | AF6: 48 | AG6: 49 | AH6: 50
A7: 5 dienų darbo savaitė | D7: 8.63 | E7: 10.44 | F7: 10.44 | G7: 10.44 | H7: 10.44 | I7: 10.44 | J7: 12.35 | K7: 12.35 | L7: 12.35 | M7: 12.35 | N7: 12.35 | O7: 14.99 | P7: 14.99 | Q7: 14.99 | R7: 14.99 | S7: 14.99 | T7: 14.99 | U7: 17.25 | V7: 17.25 | W7: 17.25 | X7: 18.89 | Y7: 20.02 | Z7: 20.02 | AA7: 20.02 | AB7: 20.02 | AC7: 20.02 | AD7: 20.02 | AE7: 20.02 | AF7: 20.02 | AG7: 20.02 | AH7: 20.02
A8: 6 dienų darbo savaitė | D8: 0 | E8: 0 | F8: 0 | G8: 0 | H8: 8.63 | I8: 10.44 | J8: 10.44 | K8: 10.44 | L8: 10.44 | M8: 10.44 | N8: 10.44 | O8: 12.35 | P8: 12.35 | Q8: 12.35 | R8: 12.35 | S8: 12.35 | T8: 12.35 | U8: 14.99 | V8: 14.99 | W8: 14.99 | X8: 14.99 | Y8: 14.99 | Z8: 14.99 | AA8: 17.25 | AB8: 17.25 | AC8: 17.25 | AD8: 17.25 | AE8: 17.25 | AF8: 18.89 | AG8: 20.02 | AH8: 20.02
A11: Fiksuotosios normos dydis | B11: FN taikymo sąlygos
A12: FN-05-01 – 8,63 proc. | B12: Taikoma, kai priklauso 20 d. d. (jeigu dirbama 5 d. d. per savaitę) arba 24 d. d. (jeigu dirbama 6 d. d. per savaitę) kasmetinės atostogos.
A13: FN-05-02 – 10,44 proc. | B13: Taikoma, kai priklauso nuo 21 iki 25 d. d. (jeigu dirbama 5 d. d. per savaitę) arba nuo 25 iki 30 d. d. (jeigu dirbama 6 d. d. per savaitę) kasmetinės atostogos
A14: FN-05-03 – 12,35 proc. | B14: Taikoma, kai priklauso nuo 26 iki 30 d. d. (jeigu dirbama 5 d. d. per savaitę) arba nuo 31 iki 36 d. d. (jeigu dirbama 6 d. d. per savaitę) kasmetinės atostogos
A15: FN-05-04 – 14,99 proc. | B15: Taikoma, kai priklauso nuo 31 iki 36 d. d. (jeigu dirbama 5 d. d. per savaitę) arba nuo 37 iki 42 d. d. (jeigu dirbama 6 d. d. per savaitę) kasmetinės atostogos
A16: FN-05-05 – 17,25 proc. | B16: Taikoma, kai priklauso nuo 37 iki 39 d. d. (jeigu dirbama 5 d. d. per savaitę) arba nuo 43 iki 47 d. d. (jeigu dirbama 6 d. d. per savaitę) kasmetinės atostogos
A17: FN-05-06 – 18,89 proc. | B17: Taikoma, kai priklauso 40 d. d. (jeigu dirbama 5 d. d. per savaitę) arba 48 d. d. (jeigu dirbama 6 d. d. per savaitę) kasmetinės atostogos
A18: FN-05-07 – 20,02 proc. | B18: Taikoma, kai priklauso nuo 41 d. d. (jeigu dirbama 5 d. d. per savaitę) arba nuo 49 d. d. (jeigu dirbama 6 d. d. per savaitę) kasmetinės atostogos

Sheet Papild.poilsio d. išmokų FN 
A1: KASMETINIŲ ATOSTOGŲ IŠMOKŲ FIKSUOTŲJŲ NORMŲ NUSTATYMO TYRIMO ATASKAITOS
A2: 3 priedas. Papildomų poilsio dienų išmokų fiksuotosios normos
A5: Darbo savaitės trukmė | B5: Vidutinis mėnesio darbo valandų skaičius | C5: Papildomų poilsio dienų išmokų fiksuotosios normos nuo tinkamų finansuoti darbo užmokesčio išlaidų, kai papildomų poilsio dienų skaičius per mėnesį yra (dienomis/valandomis):
C6: 0.5 | D6: 1 | E6: 1.5 | F6: 2 | G6: 2.5 | H6: 3 | I6: 3.5 | J6: 4 | K6: 4.5 | L6: 5 | M6: 6 | N6: 7 | O6: 8 | P6: 9 | Q6: 10
C7: 4 | D7: 8 | E7: 12 | F7: 16 | G7: 20 | H7: 24 | I7: 28 | J7: 32 | K7: 36 | L7: 40 | M7: 48 | N7: 56 | O7: 64 | P7: 72 | Q7: 80
A8: Bendra (5 ir 6 d.d. savaitė) | B8: 167.3 | C8: {=ROUND(C7/($B$8-C7)*100,2)} -> 2.45 | D8: {=ROUND(D7/($B$8-D7)*100,2)} -> 5.02 | E8: {=ROUND(E7/($B$8-E7)*100,2)} -> 7.73 | F8: {=ROUND(F7/($B$8-F7)*100,2)} -> 10.58 | G8: {=ROUND(G7/($B$8-G7)*100,2)} -> 13.58 | H8: {=ROUND(H7/($B$8-H7)*100,2)} -> 16.75 | I8: {=ROUND(I7/($B$8-I7)*100,2)} -> 20.1 | J8: {=ROUND(J7/($B$8-J7)*100,2)} -> 23.65 | ... Q8: {=ROUND(Q7/($B$8-Q7)*100,2)} -> 91.64
